Workbook

Sheet DATA INPUT SHEET
A1: Kanpur Institute of Technology, Kanpur
A2: Common Data Input Sheet
A3: Semester: _____llnd_ | E3: Name of the Faculty:_____Mr. Subodh Kumar_________________
A4: Subject Code: ______KCA205______ | F4: Total No. of Students: __101______ | K4: Subject Name: _____DATA STRUCTURES & ANALYSIS OF ALGORITHMS_____________
A7: CO DESCRIPTION TABLE
A8: CO LIST | D8: DESCRIPTION
A9: CO1 | D9: Explain the concept of data structure, abstract data types, algorithms, analysis of algorithms and basic data organization schemes such as arrays and linked lists.
A10: CO2 | D10: Describe the applications of stacks and queues and implement various operations on them using arrays and linked lists.
A11: CO3 | D11: Describe the properties of graphs and trees and implement various operations such as searching and traversal on them.
A12: CO4 | D12: Compare incremental and divide-and-conquer approaches of designing algorithms for problems such as sorting and searching.
A13: CO5 | D13: Apply and analyze various design approaches such as Divide-and-Conquer, greedy and dynamic for problem solving .
A16: CO-PO Matrix
A17: S.No. | B17: CO/PO | C17: STATUS | D17: PO1 | E17: PO2 | F17: PO3 | G17: PO4 | H17: PO5 | I17: PO6 | J17: PO7 | K17: PO8 | L17: PO9 | M17: PO10 | N17: PO11 | O17: PO12 | P17: PSO1 | Q17: PSO2 | R17: PSO3
A18: 1 | B18: CO1 | C18: A | D18: 2 | E18: 2 | F18: 2 | G18: 2 | H18: 2 | I18: NA | J18: NA | K18: 1 | L18: 2 | M18: 2 | N18: 2 | O18: NA | P18: 2 | Q18: 2 | R18: 2
A19: 2 | B19: CO2 | C19: A | D19: 2 | E19: 3 | F19: 2 | G19: 2 | H19: 2 | I19: NA | J19: NA | K19: NA | L19: 2 | M19: 2 | N19: 2 | O19: NA | P19: 2 | Q19: 2 | R19: 2
A20: 3 | B20: CO3 | C20: A | D20: 2 | E20: 2 | F20: 3 | G20: 2 | H20: 2 | I20: NA | J20: NA | K20: 2 | L20: 2 | M20: 2 | N20: NA | O20: NA | P20: 2 | Q20: 2 | R20: 2
A21: 4 | B21: CO4 | C21: A | D21: 2 | E21: 2 | F21: 2 | G21: 2 | H21: 2 | I21: NA | J21: 2 | K21: 2 | L21: 2 | M21: 2 | N21: 2 | O21: NA | P21: 2 | Q21: 2 | R21: 2
A22: 5 | B22: CO5 | C22: A | D22: 3 | E22: 2 | F22: 2 | G22: 2 | H22: 2 | I22: 2 | J22: NA | K22: NA | L22: 2 | M22: 2 | N22: 1 | O22: NA | P22: 2 | Q22: 2 | R22: 2
A23: ( Please Fill up 'NA' in STATUS COLUMN if any CO is NOT APPLICABLE)

Sheet Internal
A1: Kanpur Institute of Technology, Kanpur
A2: Assessment Sheet for PU
A3: ='DATA INPUT SHEET'!A3:D3 -> Semester: _____llnd_ | E3: ='DATA INPUT SHEET'!E3:Q3 -> Name of the Faculty:_____Mr. Subodh Kumar_________________ | K3: ='DATA INPUT SHEET'!A4 -> Subject Code: ______KCA205______
A4: ='DATA INPUT SHEET'!A9:C9 -> CO1 | D4: ='DATA INPUT SHEET'!D9:Q9 -> Explain the concept of data structure, abstract data types, algorithms, analysis of algorithms and basic data organization schemes such as arrays and linked lists.
A5: ='DATA INPUT SHEET'!A10:C10 -> CO2 | D5: ='DATA INPUT SHEET'!D10:Q10 -> Describe the applications of stacks and queues and implement various operations on them using arrays and linked lists.
A6: ='DATA INPUT SHEET'!A11:C11 -> CO3 | D6: ='DATA INPUT SHEET'!D11:Q11 -> Describe the properties of graphs and trees and implement various operations such as searching and traversal on them.
A7: ='DATA INPUT SHEET'!A12:C12 -> CO4 | D7: ='DATA INPUT SHEET'!D12:Q12 -> Compare incremental and divide-and-conquer approaches of designing algorithms for problems such as sorting and searching.
A8: ='DATA INPUT SHEET'!A13:C13 -> CO5 | D8: ='DATA INPUT SHEET'!D13:Q13 -> Apply and analyze various design approaches such as Divide-and-Conquer, greedy and dynamic for problem solving .
A9: S.No | B9: SEC | C9: Roll No | D9: Student Name | E9: Total Present Status | F9: Internal | G9: Out of | H9: CO attained
F10: CO
F11: marks | H11: =IF(H13=0,"NOT APPLICABLE","APPLICABLE") -> APPLICABLE
H12: CO | I12: AL:1 | J12: AL:2 | K12: AL:3
A13: Distribution of Marks | E13: =COUNT(A14:A114) -> 101 | F13: 50 | G13: =SUM(F13) -> 50 | H13: =SUMIF($F$10,$H$12,$F$13) -> 50 | I13: <40% | J13: >=40% & <60% | K13: >=60%
A14: 1 | B14: A | C14: =Internal!C14 -> 2301650140002 | D14: ABHISHEK KATIYAR | E14: P | F14: 28 | G14: =IF(E14="A","A",IF(COUNTBLANK(F14)=COUNT($F$13),"ERROR",SUM(F14))) -> 28 | H14: =IF(E14="P",IF(ISNUMBER(MATCH($H$12,$F$10,0)),(SUMIF($F$10,$H$12,F14)),"NA"),"A") -> 28 | I14: =IF(H14="A","A",IF(COUNTBLANK(F14)=COUNT($F$13),0,IF(H14="NA",0,IF(H14<($H$13*40)/100,1,0)))) -> 0 | J14: =IF(H14="A","A",IF(H14="NA",0,IF(AND(H14>=($H$13*40)/100,H14<($H$13*60)/100),1,0))) -> 1 | K14: =IF(H14="A","A",IF(H14="NA",0,IF(H14>=($H$13*60)/100,1,0))) -> 0
A15: 2 | B15: A | C15: =Internal!C15 -> 2301650140003 | D15: ABHISHEK KUMAR | E15: P | F15: 38 | G15: =IF(E15="A","A",IF(COUNTBLANK(F15)=COUNT($F$13),"ERROR",SUM(F15))) -> 38 | H15: =IF(E15="P",IF(ISNUMBER(MATCH($H$12,$F$10,0)),(SUMIF($F$10,$H$12,F15)),"NA"),"A") -> 38 | I15: =IF(H15="A","A",IF(COUNTBLANK(F15)=COUNT($F$13),0,IF(H15="NA",0,IF(H15<($H$13*40)/100,1,0)))) -> 0 | J15: =IF(H15="A","A",IF(H15="NA",0,IF(AND(H15>=($H$13*40)/100,H15<($H$13*60)/100),1,0))) -> 0 | K15: =IF(H15="A","A",IF(H15="NA",0,IF(H15>=($H$13*60)/100,1,0))) -> 1
A16: 3 | B16: A | C16: =Internal!C16 -> 2301650140004 | D16: ABU BAKER HANZALAH | E16: P | F16: 43 | G16: =IF(E16="A","A",IF(COUNTBLANK(F16)=COUNT($F$13),"ERROR",SUM(F16))) -> 43 | H16: =IF(E16="P",IF(ISNUMBER(MATCH($H$12,$F$10,0)),(SUMIF($F$10,$H$12,F16)),"NA"),"A") -> 43 | I16: =IF(H16="A","A",IF(COUNTBLANK(F16)=COUNT($F$13),0,IF(H16="NA",0,IF(H16<($H$13*40)/100,1,0)))) -> 0 | J16: =IF(H16="A","A",IF(H16="NA",0,IF(AND(H16>=($H$13*40)/100,H16<($H$13*60)/100),1,0))) -> 0 | K16: =IF(H16="A","A",IF(H16="NA",0,IF(H16>=($H$13*60)/100,1,0))) -> 1
A17: 4 | B17: A | C17: =Internal!C17 -> 2301650140005 | D17: ADARSH PRATAP SINGH GAUTAM | E17: P | F17: 50 | G17: =IF(E17="A","A",IF(COUNTBLANK(F17)=COUNT($F$13),"ERROR",SUM(F17))) -> 50 | H17: =IF(E17="P",IF(ISNUMBER(MATCH($H$12,$F$10,0)),(SUMIF($F$10,$H$12,F17)),"NA"),"A") -> 50 | I17: =IF(H17="A","A",IF(COUNTBLANK(F17)=COUNT($F$13),0,IF(H17="NA",0,IF(H17<($H$13*40)/100,1,0)))) -> 0 | J17: =IF(H17="A","A",IF(H17="NA",0,IF(AND(H17>=($H$13*40)/100,H17<($H$13*60)/100),1,0))) -> 0 | K17: =IF(H17="A","A",IF(H17="NA",0,IF(H17>=($H$13*60)/100,1,0))) -> 1
A18: 5 | B18: A | C18: =Internal!C18 -> 2301650140006 | D18: ADITYA TIWARI | E18: P | F18: 43 | G18: =IF(E18="A","A",IF(COUNTBLANK(F18)=COUNT($F$13),"ERROR",SUM(F18))) -> 43 | H18: =IF(E18="P",IF(ISNUMBER(MATCH($H$12,$F$10,0)),(SUMIF($F$10,$H$12,F18)),"NA"),"A") -> 43 | I18: =IF(H18="A","A",IF(COUNTBLANK(F18)=COUNT($F$13),0,IF(H18="NA",0,IF(H18<($H$13*40)/100,1,0)))) -> 0 | J18: =IF(H18="A","A",IF(H18="NA",0,IF(AND(H18>=($H$13*40)/100,H18<($H$13*60)/100),1,0))) -> 0 | K18: =IF(H18="A","A",IF(H18="NA",0,IF(H18>=($H$13*60)/100,1,0))) -> 1
A19: 6 | B19: A | C19: =Internal!C19 -> 2301650140008 | D19: AKSHARA GAHARWAR | E19: P | F19: 33 | G19: =IF(E19="A","A",IF(COUNTBLANK(F19)=COUNT($F$13),"ERROR",SUM(F19))) -> 33 | H19: =IF(E19="P",IF(ISNUMBER(MATCH($H$12,$F$10,0)),(SUMIF($F$10,$H$12,F19)),"NA"),"A") -> 33 | I19: =IF(H19="A","A",IF(COUNTBLANK(F19)=COUNT($F$13),0,IF(H19="NA",0,IF(H19<($H$13*40)/100,1,0)))) -> 0 | J19: =IF(H19="A","A",IF(H19="NA",0,IF(AND(H19>=($H$13*40)/100,H19<($H$13*60)/100),1,0))) -> 0 | K19: =IF(H19="A","A",IF(H19="NA",0,IF(H19>=($H$13*60)/100,1,0))) -> 1
A20: 7 | B20: A | C20: =Internal!C20 -> 2301650140009 | D20: AKSHAT SINGH | E20: P | F20: 38 | G20: =IF(E20="A","A",IF(COUNTBLANK(F20)=COUNT($F$13),"ERROR",SUM(F20))) -> 38 | H20: =IF(E20="P",IF(ISNUMBER(MATCH($H$12,$F$10,0)),(SUMIF($F$10,$H$12,F20)),"NA"),"A") -> 38 | I20: =IF(H20="A","A",IF(COUNTBLANK(F20)=COUNT($F$13),0,IF(H20="NA",0,IF(H20<($H$13*40)/100,1,0)))) -> 0 | J20: =IF(H20="A","A",IF(H20="NA",0,IF(AND(H20>=($H$13*40)/100,H20<($H$13*60)/100),1,0))) -> 0 | K20: =IF(H20="A","A",IF(H20="NA",0,IF(H20>=($H$13*60)/100,1,0))) -> 1
A21: 8 | B21: A | C21: =Internal!C21 -> 2301650140010 | D21: AMITA YADAV | E21: P | F21: 44 | G21: =IF(E21="A","A",IF(COUNTBLANK(F21)=COUNT($F$13),"ERROR",SUM(F21))) -> 44 | H21: =IF(E21="P",IF(ISNUMBER(MATCH($H$12,$F$10,0)),(SUMIF($F$10,$H$12,F21)),"NA"),"A") -> 44 | I21: =IF(H21="A","A",IF(COUNTBLANK(F21)=COUNT($F$13),0,IF(H21="NA",0,IF(H21<($H$13*40)/100,1,0)))) -> 0 | J21: =IF(H21="A","A",IF(H21="NA",0,IF(AND(H21>=($H$13*40)/100,H21<($H$13*60)/100),1,0))) -> 0 | K21: =IF(H21="A","A",IF(H21="NA",0,IF(H21>=($H$13*60)/100,1,0))) -> 1
A22: 9 | B22: A | C22: =Internal!C22 -> 2301650140011 | D22: ANJALI SHARMA | E22: P | F22: 44 | G22: =IF(E22="A","A",IF(COUNTBLANK(F22)=COUNT($F$13),"ERROR",SUM(F22))) -> 44 | H22: =IF(E22="P",IF(ISNUMBER(MATCH($H$12,$F$10,0)),(SUMIF($F$10,$H$12,F22)),"NA"),"A") -> 44 | I22: =IF(H22="A","A",IF(COUNTBLANK(F22)=COUNT($F$13),0,IF(H22="NA",0,IF(H22<($H$13*40)/100,1,0)))) -> 0 | J22: =IF(H22="A","A",IF(H22="NA",0,IF(AND(H22>=($H$13*40)/100,H22<($H$13*60)/100),1,0))) -> 0 | K22: =IF(H22="A","A",IF(H22="NA",0,IF(H22>=($H$13*60)/100,1,0))) -> 1
A23: 10 | B23: A | C23: =Internal!C23 -> 2301650140012 | D23: ANKIT KUMAR SAHU | E23: P | F23: 33 | G23: =IF(E23="A","A",IF(COUNTBLANK(F23)=COUNT($F$13),"ERROR",SUM(F23))) -> 33 | H23: =IF(E23="P",IF(ISNUMBER(MATCH($H$12,$F$10,0)),(SUMIF($F$10,$H$12,F23)),"NA"),"A") -> 33 | I23: =IF(H23="A","A",IF(COUNTBLANK(F23)=COUNT($F$13),0,IF(H23="NA",0,IF(H23<($H$13*40)/100,1,0)))) -> 0 | J23: =IF(H23="A","A",IF(H23="NA",0,IF(AND(H23>=($H$13*40)/100,H23<($H$13*60)/100),1,0))) -> 0 | K23: =IF(H23="A","A",IF(H23="NA",0,IF(H23>=($H$13*60)/100,1,0))) -> 1
A24: 11 | B24: A | C24: =Internal!C24 -> 2301650140013 | D24: ANKIT PAL | E24: P | F24: 46 | G24: =IF(E24="A","A",IF(COUNTBLANK(F24)=COUNT($F$13),"ERROR",SUM(F24))) -> 46 | H24: =IF(E24="P",IF(ISNUMBER(MATCH($H$12,$F$10,0)),(SUMIF($F$10,$H$12,F24)),"NA"),"A") -> 46 | I24: =IF(H24="A","A",IF(COUNTBLANK(F24)=COUNT($F$13),0,IF(H24="NA",0,IF(H24<($H$13*40)/100,1,0)))) -> 0 | J24: =IF(H24="A","A",IF(H24="NA",0,IF(AND(H24>=($H$13*40)/100,H24<($H$13*60)/100),1,0))) -> 0 | K24: =IF(H24="A","A",IF(H24="NA",0,IF(H24>=($H$13*60)/100,1,0))) -> 1
A25: 12 | B25: A | C25: =Internal!C25 -> 2301650140014 | D25: ANKIT PAL | E25: P | F25: 42 | G25: =IF(E25="A","A",IF(COUNTBLANK(F25)=COUNT($F$13),"ERROR",SUM(F25))) -> 42 | H25: =IF(E25="P",IF(ISNUMBER(MATCH($H$12,$F$10,0)),(SUMIF($F$10,$H$12,F25)),"NA"),"A") -> 42 | I25: =IF(H25="A","A",IF(COUNTBLANK(F25)=COUNT($F$13),0,IF(H25="NA",0,IF(H25<($H$13*40)/100,1,0)))) -> 0 | J25: =IF(H25="A","A",IF(H25="NA",0,IF(AND(H25>=($H$13*40)/100,H25<($H$13*60)/100),1,0))) -> 0 | K25: =IF(H25="A","A",IF(H25="NA",0,IF(H25>=($H$13*60)/100,1,0))) -> 1
... A58: 45 | B58: A | C58: =Internal!C58 -> 2301650140049 | D58: NIDHI PAL | E58: P | F58: 46 | G58: =IF(E58="A","A",IF(COUNTBLANK(F58)=COUNT($F$13),"ERROR",SUM(F58))) -> 46 | H58: =IF(E58="P",IF(ISNUMBER(MATCH($H$12,$F$10,0)),(SUMIF($F$10,$H$12,F58)),"NA"),"A") -> 46 | I58: =IF(H58="A","A",IF(COUNTBLANK(F58)=COUNT($F$13),0,IF(H58="NA",0,IF(H58<($H$13*40)/100,1,0)))) -> 0 | J58: =IF(H58="A","A",IF(H58="NA",0,IF(AND(H58>=($H$13*40)/100,H58<($H$13*60)/100),1,0))) -> 0 | K58: =IF(H58="A","A",IF(H58="NA",0,IF(H58>=($H$13*60)/100,1,0))) -> 1
A59: 46 | B59: A | C59: =Internal!C59 -> 2301650140050 | D59: NIKHIL DHEEMAN | E59: A | G59: =IF(E59="A","A",IF(COUNTBLANK(F59)=COUNT($F$13),"ERROR",SUM(F59))) -> A | H59: =IF(E59="P",IF(ISNUMBER(MATCH($H$12,$F$10,0)),(SUMIF($F$10,$H$12,F59)),"NA"),"A") -> A | I59: =IF(H59="A","A",IF(COUNTBLANK(F59)=COUNT($F$13),0,IF(H59="NA",0,IF(H59<($H$13*40)/100,1,0)))) -> A | J59: =IF(H59="A","A",IF(H59="NA",0,IF(AND(H59>=($H$13*40)/100,H59<($H$13*60)/100),1,0))) -> A | K59: =IF(H59="A","A",IF(H59="NA",0,IF(H59>=($H$13*60)/100,1,0))) -> A
A60: 47 | B60: A | C60: =Internal!C60 -> 2301650140051 | D60: NIKHIL SHUKLA | E60: P | F60: 40 | G60: =IF(E60="A","A",IF(COUNTBLANK(F60)=COUNT($F$13),"ERROR",SUM(F60))) -> 40 | H60: =IF(E60="P",IF(ISNUMBER(MATCH($H$12,$F$10,0)),(SUMIF($F$10,$H$12,F60)),"NA"),"A") -> 40 | I60: =IF(H60="A","A",IF(COUNTBLANK(F60)=COUNT($F$13),0,IF(H60="NA",0,IF(H60<($H$13*40)/100,1,0)))) -> 0 | J60: =IF(H60="A","A",IF(H60="NA",0,IF(AND(H60>=($H$13*40)/100,H60<($H$13*60)/100),1,0))) -> 0 | K60: =IF(H60="A","A",IF(H60="NA",0,IF(H60>=($H$13*60)/100,1,0))) -> 1
A61: 48 | B61: A | C61: =Internal!C61 -> 2301650140052 | D61: NIMISH DEV TIWARI | E61: P | F61: 50 | G61: =IF(E61="A","A",IF(COUNTBLANK(F61)=COUNT($F$13),"ERROR",SUM(F61))) -> 50 | H61: =IF(E61="P",IF(ISNUMBER(MATCH($H$12,$F$10,0)),(SUMIF($F$10,$H$12,F61)),"NA"),"A") -> 50 | I61: =IF(H61="A","A",IF(COUNTBLANK(F61)=COUNT($F$13),0,IF(H61="NA",0,IF(H61<($H$13*40)/100,1,0)))) -> 0 | J61: =IF(H61="A","A",IF(H61="NA",0,IF(AND(H61>=($H$13*40)/100,H61<($H$13*60)/100),1,0))) -> 0 | K61: =IF(H61="A","A",IF(H61="NA",0,IF(H61>=($H$13*60)/100,1,0))) -> 1
A62: 49 | B62: A | C62: =Internal!C62 -> 2301650140053 | D62: NITIN SHUKLA | E62: P | F62: 40 | G62: =IF(E62="A","A",IF(COUNTBLANK(F62)=COUNT($F$13),"ERROR",SUM(F62))) -> 40 | H62: =IF(E62="P",IF(ISNUMBER(MATCH($H$12,$F$10,0)),(SUMIF($F$10,$H$12,F62)),"NA"),"A") -> 40 | I62: =IF(H62="A","A",IF(COUNTBLANK(F62)=COUNT($F$13),0,IF(H62="NA",0,IF(H62<($H$13*40)/100,1,0)))) -> 0 | J62: =IF(H62="A","A",IF(H62="NA",0,IF(AND(H62>=($H$13*40)/100,H62<($H$13*60)/100),1,0))) -> 0 | K62: =IF(H62="A","A",IF(H62="NA",0,IF(H62>=($H$13*60)/100,1,0))) -> 1
A63: 50 | B63: A | C63: =Internal!C63 -> 2301650140054 | D63: PALAK TIWARI | E63: P | F63: 42 | G63: =IF(E63="A","A",IF(COUNTBLANK(F63)=COUNT($F$13),"ERROR",SUM(F63))) -> 42 | H63: =IF(E63="P",IF(ISNUMBER(MATCH($H$12,$F$10,0)),(SUMIF($F$10,$H$12,F63)),"NA"),"A") -> 42 | I63: =IF(H63="A","A",IF(COUNTBLANK(F63)=COUNT($F$13),0,IF(H63="NA",0,IF(H63<($H$13*40)/100,1,0)))) -> 0 | J63: =IF(H63="A","A",IF(H63="NA",0,IF(AND(H63>=($H$13*40)/100,H63<($H$13*60)/100),1,0))) -> 0 | K63: =IF(H63="A","A",IF(H63="NA",0,IF(H63>=($H$13*60)/100,1,0))) -> 1
A64: 51 | B64: A | C64: =Internal!C64 -> 2301650140055 | D64: PARASH PANDEY | E64: P | F64: 45 | G64: =IF(E64="A","A",IF(COUNTBLANK(F64)=COUNT($F$13),"ERROR",SUM(F64))) -> 45 | H64: =IF(E64="P",IF(ISNUMBER(MATCH($H$12,$F$10,0)),(SUMIF($F$10,$H$12,F64)),"NA"),"A") -> 45 | I64: =IF(H64="A","A",IF(COUNTBLANK(F64)=COUNT($F$13),0,IF(H64="NA",0,IF(H64<($H$13*40)/100,1,0)))) -> 0 | J64: =IF(H64="A","A",IF(H64="NA",0,IF(AND(H64>=($H$13*40)/100,H64<($H$13*60)/100),1,0))) -> 0 | K64: =IF(H64="A","A",IF(H64="NA",0,IF(H64>=($H$13*60)/100,1,0))) -> 1
A65: 52 | B65: B | C65: =Internal!C65 -> 2301650140056 | D65: PAWAN KUMAR | E65: P | F65: 49 | G65: =IF(E65="A","A",IF(COUNTBLANK(F65)=COUNT($F$13),"ERROR",SUM(F65))) -> 49 | H65: =IF(E65="P",IF(ISNUMBER(MATCH($H$12,$F$10,0)),(SUMIF($F$10,$H$12,F65)),"NA"),"A") -> 49 | I65: =IF(H65="A","A",IF(COUNTBLANK(F65)=COUNT($F$13),0,IF(H65="NA",0,IF(H65<($H$13*40)/100,1,0)))) -> 0 | J65: =IF(H65="A","A",IF(H65="NA",0,IF(AND(H65>=($H$13*40)/100,H65<($H$13*60)/100),1,0))) -> 0 | K65: =IF(H65="A","A",IF(H65="NA",0,IF(H65>=($H$13*60)/100,1,0))) -> 1
A66: 53 | B66: B | C66: =Internal!C66 -> 2301650140057 | D66: POONAM PAL | E66: P | F66: 40 | G66: =IF(E66="A","A",IF(COUNTBLANK(F66)=COUNT($F$13),"ERROR",SUM(F66))) -> 40 | H66: =IF(E66="P",IF(ISNUMBER(MATCH($H$12,$F$10,0)),(SUMIF($F$10,$H$12,F66)),"NA"),"A") -> 40 | I66: =IF(H66="A","A",IF(COUNTBLANK(F66)=COUNT($F$13),0,IF(H66="NA",0,IF(H66<($H$13*40)/100,1,0)))) -> 0 | J66: =IF(H66="A","A",IF(H66="NA",0,IF(AND(H66>=($H$13*40)/100,H66<($H$13*60)/100),1,0))) -> 0 | K66: =IF(H66="A","A",IF(H66="NA",0,IF(H66>=($H$13*60)/100,1,0))) -> 1
A67: 54 | B67: B | C67: =Internal!C67 -> 2301650140058 | D67: PRABHAT SINGH | E67: P | F67: 49 | G67: =IF(E67="A","A",IF(COUNTBLANK(F67)=COUNT($F$13),"ERROR",SUM(F67))) -> 49 | H67: =IF(E67="P",IF(ISNUMBER(MATCH($H$12,$F$10,0)),(SUMIF($F$10,$H$12,F67)),"NA"),"A") -> 49 | I67: =IF(H67="A","A",IF(COUNTBLANK(F67)=COUNT($F$13),0,IF(H67="NA",0,IF(H67<($H$13*40)/100,1,0)))) -> 0 | J67: =IF(H67="A","A",IF(H67="NA",0,IF(AND(H67>=($H$13*40)/100,H67<($H$13*60)/100),1,0))) -> 0 | K67: =IF(H67="A","A",IF(H67="NA",0,IF(H67>=($H$13*60)/100,1,0))) -> 1
A68: 55 | B68: B | C68: =Internal!C68 -> 2301650140059 | D68: PRACHI DWIVEDI | E68: P | F68: 42 | G68: =IF(E68="A","A",IF(COUNTBLANK(F68)=COUNT($F$13),"ERROR",SUM(F68))) -> 42 | H68: =IF(E68="P",IF(ISNUMBER(MATCH($H$12,$F$10,0)),(SUMIF($F$10,$H$12,F68)),"NA"),"A") -> 42 | I68: =IF(H68="A","A",IF(COUNTBLANK(F68)=COUNT($F$13),0,IF(H68="NA",0,IF(H68<($H$13*40)/100,1,0)))) -> 0 | J68: =IF(H68="A","A",IF(H68="NA",0,IF(AND(H68>=($H$13*40)/100,H68<($H$13*60)/100),1,0))) -> 0 | K68: =IF(H68="A","A",IF(H68="NA",0,IF(H68>=($H$13*60)/100,1,0))) -> 1
A69: 56 | B69: B | C69: =Internal!C69 -> 2301650140060 | D69: PRAGYA VERMA | E69: P | F69: 49 | G69: =IF(E69="A","A",IF(COUNTBLANK(F69)=COUNT($F$13),"ERROR",SUM(F69))) -> 49 | H69: =IF(E69="P",IF(ISNUMBER(MATCH($H$12,$F$10,0)),(SUMIF($F$10,$H$12,F69)),"NA"),"A") -> 49 | I69: =IF(H69="A","A",IF(COUNTBLANK(F69)=COUNT($F$13),0,IF(H69="NA",0,IF(H69<($H$13*40)/100,1,0)))) -> 0 | J69: =IF(H69="A","A",IF(H69="NA",0,IF(AND(H69>=($H$13*40)/100,H69<($H$13*60)/100),1,0))) -> 0 | K69: =IF(H69="A","A",IF(H69="NA",0,IF(H69>=($H$13*60)/100,1,0))) -> 1
A70: 57 | B70: B | C70: =Internal!C70 -> 2301650140061 | D70: PRANJUL DIXIT | E70: P | F70: 43 | G70: =IF(E70="A","A",IF(COUNTBLANK(F70)=COUNT($F$13),"ERROR",SUM(F70))) -> 43 | H70: =IF(E70="P",IF(ISNUMBER(MATCH($H$12,$F$10,0)),(SUMIF($F$10,$H$12,F70)),"NA"),"A") -> 43 | I70: =IF(H70="A","A",IF(COUNTBLANK(F70)=COUNT($F$13),0,IF(H70="NA",0,IF(H70<($H$13*40)/100,1,0)))) -> 0 | J70: =IF(H70="A","A",IF(H70="NA",0,IF(AND(H70>=($H$13*40)/100,H70<($H$13*60)/100),1,0))) -> 0 | K70: =IF(H70="A","A",IF(H70="NA",0,IF(H70>=($H$13*60)/100,1,0))) -> 1
A71: 58 | B71: B | C71: =Internal!C71 -> 2301650140062 | D71: PRASHANT BAJPEYEE | E71: P | F71: 30 | G71: =IF(E71="A","A",IF(COUNTBLANK(F71)=COUNT($F$13),"ERROR",SUM(F71))) -> 30 | H71: =IF(E71="P",IF(ISNUMBER(MATCH($H$12,$F$10,0)),(SUMIF($F$10,$H$12,F71)),"NA"),"A") -> 30 | I71: =IF(H71="A","A",IF(COUNTBLANK(F71)=COUNT($F$13),0,IF(H71="NA",0,IF(H71<($H$13*40)/100,1,0)))) -> 0 | J71: =IF(H71="A","A",IF(H71="NA",0,IF(AND(H71>=($H$13*40)/100,H71<($H$13*60)/100),1,0))) -> 0 | K71: =IF(H71="A","A",IF(H71="NA",0,IF(H71>=($H$13*60)/100,1,0))) -> 1
... A114: 101 | B114: B | C114: =Internal!C114 -> 2301650140108 | D114: YASHPAL SINGH | E114: P | F114: 41 | G114: =IF(E114="A","A",IF(COUNTBLANK(F114)=COUNT($F$13),"ERROR",SUM(F114))) -> 41 | H114: =IF(E114="P",IF(ISNUMBER(MATCH($H$12,$F$10,0)),(SUMIF($F$10,$H$12,F114)),"NA"),"A") -> 41 | I114: =IF(H114="A","A",IF(COUNTBLANK(F114)=COUNT($F$13),0,IF(H114="NA",0,IF(H114<($H$13*40)/100,1,0)))) -> 0 | J114: =IF(H114="A","A",IF(H114="NA",0,IF(AND(H114>=($H$13*40)/100,H114<($H$13*60)/100),1,0))) -> 0 | K114: =IF(H114="A","A",IF(H114="NA",0,IF(H114>=($H$13*60)/100,1,0))) -> 1
G115: Total | H115: CO | I115: =SUM(I14:I114) -> 0 | J115: =SUM(J14:J114) -> 1 | K115: =SUM(K14:K114) -> 99
G116: % Student | I116: =IF($E$13=0,0,(I115*100)/$E$13) -> 0 | J116: =IF($E$13=0,0,(J115*100)/$E$13) -> 0.99009901 | K116: =IF($E$13=0,0,(K115*100)/$E$13) -> 98.019802
G117: % CO attained | I117: =IF(H13=0,"NOT APPLICABLE",ROUND((I116+2*J116+3*K116)/3,2)) -> 98.68

Sheet Student Feedback Analysis
A1: Kanpur Institute of Technology, Kanpur
A2: Assessment Sheet for Feedback
A3: ='DATA INPUT SHEET'!A3:E3 -> Semester: _____llnd_ | E3: ='DATA INPUT SHEET'!E3:Q3 -> Name of the Faculty:_____Mr. Subodh Kumar_________________
A4: ='DATA INPUT SHEET'!A4:E4 -> Subject Code: ______KCA205______ | H4: ='DATA INPUT SHEET'!K4 -> Subject Name: _____DATA STRUCTURES & ANALYSIS OF ALGORITHMS_____________
A5: ='DATA INPUT SHEET'!A9:C9 -> CO1 | D5: ='DATA INPUT SHEET'!D9 -> Explain the concept of data structure, abstract data types, algorithms, analysis of algorithms and basic data organization schemes such as arrays and linked lists.
A6: ='DATA INPUT SHEET'!A10:C10 -> CO2 | D6: ='DATA INPUT SHEET'!D10:Q10 -> Describe the applications of stacks and queues and implement various operations on them using arrays and linked lists.
A7: ='DATA INPUT SHEET'!A11:C11 -> CO3 | D7: ='DATA INPUT SHEET'!D11:Q11 -> Describe the properties of graphs and trees and implement various operations such as searching and traversal on them.
A8: ='DATA INPUT SHEET'!A12:C12 -> CO4 | D8: ='DATA INPUT SHEET'!D12:Q12 -> Compare incremental and divide-and-conquer approaches of designing algorithms for problems such as sorting and searching.
A9: ='DATA INPUT SHEET'!A13:C13 -> CO5 | D9: ='DATA INPUT SHEET'!D13:Q13 -> Apply and analyze various design approaches such as Divide-and-Conquer, greedy and dynamic for problem solving .
F10: Course Outcomes | K10: CO1 Feedback | L10: CO2 Feedback | M10: CO3 Feedback | N10: CO4 feedback | O10: CO5 feedback
F11: CO1 | G11: CO2 | H11: CO3 | I11: CO4 | J11: CO5 | K11: =IF(F$12="NA","NOT APPLICABLE","APPLICABLE") -> APPLICABLE | L11: =IF(G$12="NA","NOT APPLICABLE","APPLICABLE") -> APPLICABLE | M11: =IF(H$12="NA","NOT APPLICABLE","APPLICABLE") -> APPLICABLE | N11: =IF(I$12="NA","NOT APPLICABLE","APPLICABLE") -> APPLICABLE | O11: =IF(J$12="NA","NOT APPLICABLE","APPLICABLE") -> APPLICABLE
F12: {=INDEX('DATA INPUT SHEET'!$C$18:$C$22,MATCH('Student Feedback Analysis'!$F$11:$J$11,'DATA INPUT SHEET'!$B$18:$B$22,0))} -> A | G12: {=INDEX('DATA INPUT SHEET'!$C$18:$C$22,MATCH('Student Feedback Analysis'!$F$11:$J$11,'DATA INPUT SHEET'!$B$18:$B$22,0))} -> A | H12: {=INDEX('DATA INPUT SHEET'!$C$18:$C$22,MATCH('Student Feedback Analysis'!$F$11:$J$11,'DATA INPUT SHEET'!$B$18:$B$22,0))} -> A | I12: {=INDEX('DATA INPUT SHEET'!$C$18:$C$22,MATCH('Student Feedback Analysis'!$F$11:$J$11,'DATA INPUT SHEET'!$B$18:$B$22,0))} -> A | J12: {=INDEX('DATA INPUT SHEET'!$C$18:$C$22,MATCH('Student Feedback Analysis'!$F$11:$J$11,'DATA INPUT SHEET'!$B$18:$B$22,0))} -> A
C13: Total Students | D13: 101 | F13: No of students in option1 (3) | K13: 58 | L13: 56 | M13: 57 | N13: 60 | O13: 60
F14: No. of students for option2 (2) | K14: 34 | L14: 36 | M14: 37 | N14: 36 | O14: 33
F15: No. of students in option3 (1) | K15: 7 | L15: 8 | M15: 7 | N15: 3 | O15: 7
F16: No. of students in option4 (0) | K16: 2 | L16: 1 | M16: 0 | N16: 2 | O16: 1
K17: =K13+K14+K15+K16 -> 101 | L17: =L13+L14+L15+L16 -> 101 | M17: =M13+M14+M15+M16 -> 101 | N17: =N13+N14+N15+N16 -> 101 | O17: =O13+O14+O15+O16 -> 101

Sheet COAttainment
A1: Kanpur Institute of Technology, Kanpur
A2: Assessment Sheet for CO Attainment
A3: ='DATA INPUT SHEET'!A3:E3 -> Semester: _____llnd_ | C3: ='DATA INPUT SHEET'!E3 -> Name of the Faculty:_____Mr. Subodh Kumar_________________
A4: ='DATA INPUT SHEET'!A4:E4 -> Subject Code: ______KCA205______ | C4: ='DATA INPUT SHEET'!F4 -> Total No. of Students: __101______ | E4: ='DATA INPUT SHEET'!K4 -> Subject Name: _____DATA STRUCTURES & ANALYSIS OF ALGORITHMS_____________
A5: ='DATA INPUT SHEET'!A9:C9 -> CO1 | C5: ='DATA INPUT SHEET'!D9 -> Explain the concept of data structure, abstract data types, algorithms, analysis of algorithms and basic data organization schemes such as arrays and linked lists.
A6: ='DATA INPUT SHEET'!A10:C10 -> CO2 | C6: ='DATA INPUT SHEET'!D10 -> Describe the applications of stacks and queues and implement various operations on them using arrays and linked lists.
A7: ='DATA INPUT SHEET'!A11:C11 -> CO3 | C7: ='DATA INPUT SHEET'!D11 -> Describe the properties of graphs and trees and implement various operations such as searching and traversal on them.
A8: ='DATA INPUT SHEET'!A12:C12 -> CO4 | C8: ='DATA INPUT SHEET'!D12 -> Compare incremental and divide-and-conquer approaches of designing algorithms for problems such as sorting and searching.
A9: ='DATA INPUT SHEET'!A13:C13 -> CO5 | C9: ='DATA INPUT SHEET'!D13 -> Apply and analyze various design approaches such as Divide-and-Conquer, greedy and dynamic for problem solving .
A11: Direct Assessment
A12: S.No. | B12: Exam | C12: CO1 | D12: CO2 | E12: CO3 | F12: CO4 | G12: CO5
A13: 1 | B13: Internal | C13: =Internal!I117 -> 98.68 | D13: =Internal!I117 -> 98.68 | E13: =Internal!I117 -> 98.68 | F13: =Internal!I117 -> 98.68 | G13: =Internal!I117 -> 98.68
A14: Average | C14: =IF(SUMPRODUCT(--(C13<>"NOT APPLICABLE"))=0,"NOT APPLICABLE",ROUND(AVERAGE(C13),2)) -> 98.68 | D14: =IF(SUMPRODUCT(--(D13<>"NOT APPLICABLE"))=0,"NOT APPLICABLE",ROUND(AVERAGE(D13),2)) -> 98.68 | E14: =IF(SUMPRODUCT(--(E13<>"NOT APPLICABLE"))=0,"NOT APPLICABLE",ROUND(AVERAGE(E13),2)) -> 98.68 | F14: =IF(SUMPRODUCT(--(F13<>"NOT APPLICABLE"))=0,"NOT APPLICABLE",ROUND(AVERAGE(F13),2)) -> 98.68 | G14: =IF(SUMPRODUCT(--(G13<>"NOT APPLICABLE"))=0,"NOT APPLICABLE",ROUND(AVERAGE(G13),2)) -> 98.68
A16: Average % Students Attained Course Outcomes
A17: S.N. | B17: Course Outcome | C17: TOTAL % STUDENT WHO ATTAINED OUTCOME (Internal) | D17: TOTAL % STUDENT WHO ATTAINED OUTCOME (University) | E17: TOTAL % STUDENT WHO ATTAINED OUTCOME (Indirect -Survey) | F17: Goal
A18: 1 | B18: CO1 | C18: =C14 -> 98.68 | D18: =IF(C18="NOT APPLICABLE","NOT APPLICABLE",UNIVERSITY!$H$117) -> 55.44 | E18: =IF(C18="NOT APPLICABLE","NOT APPLICABLE",Indirect!J22) -> 82.508251 | F18: 60
A19: 2 | B19: CO2 | C19: =D14 -> 98.68 | D19: =IF(C19="NOT APPLICABLE","NOT APPLICABLE",UNIVERSITY!$H$117) -> 55.44 | E19: =IF(C19="NOT APPLICABLE","NOT APPLICABLE",Indirect!J23) -> 81.848185 | F19: =IF(C19="NOT APPLICABLE","NOT APPLICABLE",F18) -> 60
A20: 3 | B20: CO3 | C20: =E14 -> 98.68 | D20: =IF(C20="NOT APPLICABLE","NOT APPLICABLE",UNIVERSITY!$H$117) -> 55.44 | E20: =IF(C20="NOT APPLICABLE","NOT APPLICABLE",Indirect!J24) -> 83.168317 | F20: =IF(C20="NOT APPLICABLE","NOT APPLICABLE",F19) -> 60
A21: 4 | B21: CO4 | C21: =F14 -> 98.68 | D21: =IF(C21="NOT APPLICABLE","NOT APPLICABLE",UNIVERSITY!$H$117) -> 55.44 | E21: =IF(C21="NOT APPLICABLE","NOT APPLICABLE",Indirect!J25) -> 84.158416 | F21: =IF(C21="NOT APPLICABLE","NOT APPLICABLE",F20) -> 60
A22: 5 | B22: CO5 | C22: =G14 -> 98.68 | D22: =IF(C22="NOT APPLICABLE","NOT APPLICABLE",UNIVERSITY!$H$117) -> 55.44 | E22: =IF(C22="NOT APPLICABLE","NOT APPLICABLE",Indirect!J26) -> 83.49835 | F22: =IF(C22="NOT APPLICABLE","NOT APPLICABLE",F21) -> 60
A23: Average % Students Attained Course Outcomes | C23: =IF(SUMPRODUCT(--(C18:C22<>"NOT APPLICABLE"))=0,"NOT APPLICABLE",ROUND(AVERAGE(C18:C22),2)) -> 98.68 | D23: =IF(SUMPRODUCT(--(D18:D22<>"NOT APPLICABLE"))=0,"NOT APPLICABLE",ROUND(AVERAGE(D18:D22),2)) -> 55.44 | E23: =IF(SUMPRODUCT(--(E18:E22<>"NOT APPLICABLE"))=0,"NOT APPLICABLE",ROUND(AVERAGE(E18:E22),2)) -> 83.04 | F23: =IF(SUMPRODUCT(--(F18:F22<>"NOT APPLICABLE"))=0,"NOT APPLICABLE",ROUND(AVERAGE(F18:F22),2)) -> 60
B25: Weigtage of attainment level
B26: Direct Assessment | E26: 0.8
B27: Internal Assessment | E27: 0.6
B28: University Assessment | E28: 0.4
B29: Indirect Assessment | E29: 0.2
A31: % of students attained the outcome
A32: Assessment Types | C32: % of students attained CO1 | D32: % of students attained CO2 | E32: % of students attained CO3 | F32: % of students attained CO4 | G32: % of students attained CO5
A33: Internal Assessment (I) | C33: =C18 -> 98.68 | D33: =C19 -> 98.68 | E33: =C20 -> 98.68 | F33: =C21 -> 98.68 | G33: =C22 -> 98.68
A34: University Assessment (U) | C34: =IF(C33="NOT APPLICABLE","NOT APPLICABLE",UNIVERSITY!$H$117) -> 55.44 | D34: =IF(C33="NOT APPLICABLE","NOT APPLICABLE",UNIVERSITY!$H$117) -> 55.44 | E34: =IF(C33="NOT APPLICABLE","NOT APPLICABLE",UNIVERSITY!$H$117) -> 55.44 | F34: =IF(C33="NOT APPLICABLE","NOT APPLICABLE",UNIVERSITY!$H$117) -> 55.44 | G34: =IF(C33="NOT APPLICABLE","NOT APPLICABLE",UNIVERSITY!$H$117) -> 55.44
A35: Direct Assessment (DI) DI=0.6*I + 0.4* U | C35: =IF(C33="NOT APPLICABLE","NOT APPLICABLE",C33*0.6+C34*0.4) -> 81.384 | D35: =IF(D33="NOT APPLICABLE","NOT APPLICABLE",D33*0.6+D34*0.4) -> 81.384 | E35: =IF(E33="NOT APPLICABLE","NOT APPLICABLE",E33*0.6+E34*0.4) -> 81.384 | F35: =IF(F33="NOT APPLICABLE","NOT APPLICABLE",F33*0.6+F34*0.4) -> 81.384 | G35: =IF(G33="NOT APPLICABLE","NOT APPLICABLE",G33*0.6+G34*0.4) -> 81.384
A36: Indirect Assessment (ID) | C36: =E18 -> 82.508251 | D36: =E19 -> 81.848185 | E36: =E20 -> 83.168317 | F36: =E21 -> 84.158416 | G36: =E22 -> 83.49835
A37: Total = 0.8*DI + 0.2*ID | C37: =IF(SUMPRODUCT(--(C33:C36<>"NOT APPLICABLE"))=0,"NOT APPLICABLE",C35*0.8+C36*0.2) -> 81.60885 | D37: =IF(SUMPRODUCT(--(D33:D36<>"NOT APPLICABLE"))=0,"NOT APPLICABLE",D35*0.8+D36*0.2) -> 81.476837 | E37: =IF(SUMPRODUCT(--(E33:E36<>"NOT APPLICABLE"))=0,"NOT APPLICABLE",E35*0.8+E36*0.2) -> 81.740863 | F37: =IF(SUMPRODUCT(--(F33:F36<>"NOT APPLICABLE"))=0,"NOT APPLICABLE",F35*0.8+F36*0.2) -> 81.938883 | G37: =IF(SUMPRODUCT(--(G33:G36<>"NOT APPLICABLE"))=0,"NOT APPLICABLE",G35*0.8+G36*0.2) -> 81.80687
A40: Attainment Level: Rationale
A41: EE | B41: Exceed Expectation | D41: Attainment > 5% above the goal
A42: ME | B42: Meet Expectation | D42: 5% below the goal<=Attainment < 5% above the goal
A43: BE | B43: Below Expectation | D43: Attainment <5% below the goal
A45: Code | B45: Description | D45: Goal (%) | E45: Attainment obtained | G45: Attainment Level
A46: EE | B46: Attainment obtained > 58% | D46: =F23 -> 60 | E46: =CONCATENATE("Attainment value"," > ",ROUND(D46+(5*D46)/100,0)) -> Attainment value > 63 | G46: 3
A47: ME | B47: Attainment obtained between 52.% to 58% | E47: =CONCATENATE(ROUND(D46-(5*D46)/100,0)," <= ","Attainment value"," > ",ROUND(D46+(5*D46)/100,0)) -> 57 <= Attainment value > 63 | G47: 2
A48: BE | B48: Attainment obtained below 52% | E48: =CONCATENATE("Attainment value"," <",ROUND(D46-(5*D46)/100,0)) -> Attainment value <57 | G48: 1
A51: % of students attained the outcome w.r.t attainment level
A52: Assessment Types | C52: % of students attained CO1 | D52: % of students attained CO2 | E52: % of students attained CO3 | F52: % of students attained CO4 | G52: % of students attained CO5
A53: Internal Assessment (I) | C53: =IF(C33="NOT APPLICABLE","NOT APPLICABLE",IF(C33>=$D$46+ROUND(($D$46*5)/100,2),3,IF(C33>=$D$46-ROUND(($D$46*5)/100,2),2,1))) -> 3 | D53: =IF(D33="NOT APPLICABLE","NOT APPLICABLE",IF(D33>=$D$46+ROUND(($D$46*5)/100,2),3,IF(D33>=$D$46-ROUND(($D$46*5)/100,2),2,1))) -> 3 | E53: =IF(E33="NOT APPLICABLE","NOT APPLICABLE",IF(E33>=$D$46+ROUND(($D$46*5)/100,2),3,IF(E33>=$D$46-ROUND(($D$46*5)/100,2),2,1))) -> 3 | F53: =IF(F33="NOT APPLICABLE","NOT APPLICABLE",IF(F33>=$D$46+ROUND(($D$46*5)/100,2),3,IF(F33>=$D$46-ROUND(($D$46*5)/100,2),2,1))) -> 3 | G53: =IF(G33="NOT APPLICABLE","NOT APPLICABLE",IF(G33>=$D$46+ROUND(($D$46*5)/100,2),3,IF(G33>=$D$46-ROUND(($D$46*5)/100,2),2,1))) -> 3
A54: University Assessment (U) | C54: =IF(C34="NOT APPLICABLE","NOT APPLICABLE",IF(C34>=$D$46+ROUND(($D$46*5)/100,2),3,IF(C34>=$D$46-ROUND(($D$46*5)/100,2),2,1))) -> 1 | D54: =IF(D34="NOT APPLICABLE","NOT APPLICABLE",IF(D34>=$D$46+ROUND(($D$46*5)/100,2),3,IF(D34>=$D$46-ROUND(($D$46*5)/100,2),2,1))) -> 1 | E54: =IF(E34="NOT APPLICABLE","NOT APPLICABLE",IF(E34>=$D$46+ROUND(($D$46*5)/100,2),3,IF(E34>=$D$46-ROUND(($D$46*5)/100,2),2,1))) -> 1 | F54: =IF(F34="NOT APPLICABLE","NOT APPLICABLE",IF(F34>=$D$46+ROUND(($D$46*5)/100,2),3,IF(F34>=$D$46-ROUND(($D$46*5)/100,2),2,1))) -> 1 | G54: =IF(G34="NOT APPLICABLE","NOT APPLICABLE",IF(G34>=$D$46+ROUND(($D$46*5)/100,2),3,IF(G34>=$D$46-ROUND(($D$46*5)/100,2),2,1))) -> 1
A55: Direct Assessment (DI) DI=0.6*I + 0.4* U | C55: =IF(OR(C33="NOT APPLICABLE",C34="NOT APPLICABLE"),"NOT APPLICABLE",0.6*C53+0.4*C54) -> 2.2 | D55: =IF(OR(D33="NOT APPLICABLE",D34="NOT APPLICABLE"),"NOT APPLICABLE",0.6*D53+0.4*D54) -> 2.2 | E55: =IF(OR(E33="NOT APPLICABLE",E34="NOT APPLICABLE"),"NOT APPLICABLE",0.6*E53+0.4*E54) -> 2.2 | F55: =IF(OR(F33="NOT APPLICABLE",F34="NOT APPLICABLE"),"NOT APPLICABLE",0.6*F53+0.4*F54) -> 2.2 | G55: =IF(OR(G33="NOT APPLICABLE",G34="NOT APPLICABLE"),"NOT APPLICABLE",0.6*G53+0.4*G54) -> 2.2
A56: Indirect Assessment (ID) | C56: =IF(C36="NOT APPLICABLE","NOT APPLICABLE",IF(C36>=$D$46+ROUND(($D$46*5)/100,2),3,IF(C36>=$D$46-ROUND(($D$46*5)/100,2),2,1))) -> 3 | D56: =IF(D36="NOT APPLICABLE","NOT APPLICABLE",IF(D36>=$D$46+ROUND(($D$46*5)/100,2),3,IF(D36>=$D$46-ROUND(($D$46*5)/100,2),2,1))) -> 3 | E56: =IF(E36="NOT APPLICABLE","NOT APPLICABLE",IF(E36>=$D$46+ROUND(($D$46*5)/100,2),3,IF(E36>=$D$46-ROUND(($D$46*5)/100,2),2,1))) -> 3 | F56: =IF(F36="NOT APPLICABLE","NOT APPLICABLE",IF(F36>=$D$46+ROUND(($D$46*5)/100,2),3,IF(F36>=$D$46-ROUND(($D$46*5)/100,2),2,1))) -> 3 | G56: =IF(G36="NOT APPLICABLE","NOT APPLICABLE",IF(G36>=$D$46+ROUND(($D$46*5)/100,2),3,IF(G36>=$D$46-ROUND(($D$46*5)/100,2),2,1))) -> 3
A57: Total = 0.8*DI + 0.2*ID | C57: =IF(OR(C33="NOT APPLICABLE",C34="NOT APPLICABLE"),"NOT APPLICABLE",0.8*C55+0.2*C56) -> 2.36 | D57: =IF(OR(D33="NOT APPLICABLE",D34="NOT APPLICABLE"),"NOT APPLICABLE",0.8*D55+0.2*D56) -> 2.36 | E57: =IF(OR(E33="NOT APPLICABLE",E34="NOT APPLICABLE"),"NOT APPLICABLE",0.8*E55+0.2*E56) -> 2.36 | F57: =IF(OR(F33="NOT APPLICABLE",F34="NOT APPLICABLE"),"NOT APPLICABLE",0.8*F55+0.2*F56) -> 2.36 | G57: =IF(OR(G33="NOT APPLICABLE",G34="NOT APPLICABLE"),"NOT APPLICABLE",0.8*G55+0.2*G56) -> 2.36
G59: =AVERAGE(C57:G57) -> 2.36

Sheet Indirect
A1: Kanpur Institute of Technology, Kanpur
A2: Assessment Sheet for Indirect Assesment
A3: ='DATA INPUT SHEET'!A3:E3 -> Semester: _____llnd_ | E3: ='DATA INPUT SHEET'!E3 -> Name of the Faculty:_____Mr. Subodh Kumar_________________
A4: ='DATA INPUT SHEET'!A4:E4 -> Subject Code: ______KCA205______ | E4: ='DATA INPUT SHEET'!F4 -> Total No. of Students: __101______ | J4: ='DATA INPUT SHEET'!K4 -> Subject Name: _____DATA STRUCTURES & ANALYSIS OF ALGORITHMS_____________
A6: ='DATA INPUT SHEET'!A9:C9 -> CO1 | D6: ='DATA INPUT SHEET'!D9:Q9 -> Explain the concept of data structure, abstract data types, algorithms, analysis of algorithms and basic data organization schemes such as arrays and linked lists.
A7: ='DATA INPUT SHEET'!A10:C10 -> CO2 | D7: ='DATA INPUT SHEET'!D10:Q10 -> Describe the applications of stacks and queues and implement various operations on them using arrays and linked lists.
A8: ='DATA INPUT SHEET'!A11:C11 -> CO3 | D8: ='DATA INPUT SHEET'!D11:Q11 -> Describe the properties of graphs and trees and implement various operations such as searching and traversal on them.
A9: ='DATA INPUT SHEET'!A12:C12 -> CO4 | D9: ='DATA INPUT SHEET'!D12:Q12 -> Compare incremental and divide-and-conquer approaches of designing algorithms for problems such as sorting and searching.
A10: ='DATA INPUT SHEET'!A13:C13 -> CO5 | D10: ='DATA INPUT SHEET'!D13:Q13 -> Apply and analyze various design approaches such as Divide-and-Conquer, greedy and dynamic for problem solving .
A12: Indirect Survay Table
A13: Options | C13: Description | J13: Value
A14: Option 1 | C14: Acquired Very Well with proficiency | J14: 3
A15: Option 2 | C15: Acquired enough to do my work | J15: 2
A16: Option 3 | C16: Acquired Marginally | J16: 1
A17: Option 4 | C17: Did not acquire at all | J17: 0
A20: Students feedback Matrix | F20: Total No. of Participants | J20: ='Student Feedback Analysis'!E10 -> 0
A21: S.No | B21: Course Outcome | C21: Total students participated in feedback | D21: No of students in option1 (3) | E21: No. of students for option2 (2) | F21: No. of students in option3 (1) | G21: No. of students in option4 (0) | H21: Total Point | I21: Total point attained | J21: % Attained
A22: 1 | B22: CO1 | C22: 101 | D22: ='Student Feedback Analysis'!$K$13 -> 58 | E22: ='Student Feedback Analysis'!$K$14 -> 34 | F22: ='Student Feedback Analysis'!$L$15 -> 8 | G22: ='Student Feedback Analysis'!$K$16 -> 2 | H22: =IF(C22="NA","NA",C22*$J$14) -> 303 | I22: =IF(C22="NA","NA",3*D22+E22*2+1*F22+0*G22) -> 250 | J22: =IF(C22="NA","NA",(I22/H22)*100) -> 82.508251
A23: 2 | B23: CO2 | C23: 101 | D23: ='Student Feedback Analysis'!$L$13 -> 56 | E23: ='Student Feedback Analysis'!$L$14 -> 36 | F23: ='Student Feedback Analysis'!$L$15 -> 8 | G23: ='Student Feedback Analysis'!$L$16 -> 1 | H23: =IF(C23="NA","NA",C23*$J$14) -> 303 | I23: =IF(C23="NA","NA",3*D23+E23*2+1*F23+0*G23) -> 248 | J23: =IF(C23="NA","NA",(I23/H23)*100) -> 81.848185
A24: 3 | B24: CO3 | C24: 101 | D24: ='Student Feedback Analysis'!$M$13 -> 57 | E24: ='Student Feedback Analysis'!$M$14 -> 37 | F24: ='Student Feedback Analysis'!$M$15 -> 7 | G24: ='Student Feedback Analysis'!$M$16 -> 0 | H24: =IF(C24="NA","NA",C24*$J$14) -> 303 | I24: =IF(C24="NA","NA",3*D24+E24*2+1*F24+0*G24) -> 252 | J24: =IF(C24="NA","NA",(I24/H24)*100) -> 83.168317
A25: 4 | B25: CO4 | C25: 101 | D25: ='Student Feedback Analysis'!$N$13 -> 60 | E25: ='Student Feedback Analysis'!$N$14 -> 36 | F25: ='Student Feedback Analysis'!$N$15 -> 3 | G25: ='Student Feedback Analysis'!$N$16 -> 2 | H25: =IF(C25="NA","NA",C25*$J$14) -> 303 | I25: =IF(C25="NA","NA",3*D25+E25*2+1*F25+0*G25) -> 255 | J25: =IF(C25="NA","NA",(I25/H25)*100) -> 84.158416
A26: 5 | B26: CO5 | C26: 101 | D26: ='Student Feedback Analysis'!$O$13 -> 60 | E26: ='Student Feedback Analysis'!$O$14 -> 33 | F26: ='Student Feedback Analysis'!$O$15 -> 7 | G26: ='Student Feedback Analysis'!$O$16 -> 1 | H26: =IF(C26="NA","NA",C26*$J$14) -> 303 | I26: =IF(C26="NA","NA",3*D26+E26*2+1*F26+0*G26) -> 253 | J26: =IF(C26="NA","NA",(I26/H26)*100) -> 83.49835
A27: Average % Students who Attained Course Outcomes | J27: =ROUND(AVERAGE(J22:J26),2) -> 83.04
A29: CO-PO Matrix
A30: S.No. | B30: CO/PO | C30: STATUS | D30: PO1 | E30: PO2 | F30: PO3 | G30: PO4 | H30: PO5 | I30: PO6 | J30: PO7 | K30: PO8 | L30: PO9 | M30: PO10 | N30: PO11 | O30: PO12 | P30: PSO1 | Q30: PSO2 | R30: PSO3
A31: 1 | B31: CO1 | C31: =IF(ISNUMBER(C22),"A","NA") -> A | D31: =IF('DATA INPUT SHEET'!D18="","",'DATA INPUT SHEET'!D18) -> 2 | E31: =IF('DATA INPUT SHEET'!E18="","",'DATA INPUT SHEET'!E18) -> 2 | F31: =IF('DATA INPUT SHEET'!F18="","",'DATA INPUT SHEET'!F18) -> 2 | G31: =IF('DATA INPUT SHEET'!G18="","",'DATA INPUT SHEET'!G18) -> 2 | H31: =IF('DATA INPUT SHEET'!H18="","",'DATA INPUT SHEET'!H18) -> 2 | I31: =IF('DATA INPUT SHEET'!I18="","",'DATA INPUT SHEET'!I18) -> NA | J31: =IF('DATA INPUT SHEET'!J18="","",'DATA INPUT SHEET'!J18) -> NA | K31: =IF('DATA INPUT SHEET'!K18="","",'DATA INPUT SHEET'!K18) -> 1 | ... R31: =IF('DATA INPUT SHEET'!R18="","",'DATA INPUT SHEET'!R18) -> 2
A32: 2 | B32: CO2 | C32: =IF(ISNUMBER(C23),"A","NA") -> A | D32: =IF('DATA INPUT SHEET'!D19="","",'DATA INPUT SHEET'!D19) -> 2 | E32: =IF('DATA INPUT SHEET'!E19="","",'DATA INPUT SHEET'!E19) -> 3 | F32: =IF('DATA INPUT SHEET'!F19="","",'DATA INPUT SHEET'!F19) -> 2 | G32: =IF('DATA INPUT SHEET'!G19="","",'DATA INPUT SHEET'!G19) -> 2 | H32: =IF('DATA INPUT SHEET'!H19="","",'DATA INPUT SHEET'!H19) -> 2 | I32: =IF('DATA INPUT SHEET'!I19="","",'DATA INPUT SHEET'!I19) -> NA | J32: =IF('DATA INPUT SHEET'!J19="","",'DATA INPUT SHEET'!J19) -> NA | K32: =IF('DATA INPUT SHEET'!K19="","",'DATA INPUT SHEET'!K19) -> NA | ... R32: =IF('DATA INPUT SHEET'!R19="","",'DATA INPUT SHEET'!R19) -> 2
A33: 3 | B33: CO3 | C33: =IF(ISNUMBER(C24),"A","NA") -> A | D33: =IF('DATA INPUT SHEET'!D20="","",'DATA INPUT SHEET'!D20) -> 2 | E33: =IF('DATA INPUT SHEET'!E20="","",'DATA INPUT SHEET'!E20) -> 2 | F33: =IF('DATA INPUT SHEET'!F20="","",'DATA INPUT SHEET'!F20) -> 3 | G33: =IF('DATA INPUT SHEET'!G20="","",'DATA INPUT SHEET'!G20) -> 2 | H33: =IF('DATA INPUT SHEET'!H20="","",'DATA INPUT SHEET'!H20) -> 2 | I33: =IF('DATA INPUT SHEET'!I20="","",'DATA INPUT SHEET'!I20) -> NA | J33: =IF('DATA INPUT SHEET'!J20="","",'DATA INPUT SHEET'!J20) -> NA | K33: =IF('DATA INPUT SHEET'!K20="","",'DATA INPUT SHEET'!K20) -> 2 | ... R33: =IF('DATA INPUT SHEET'!R20="","",'DATA INPUT SHEET'!R20) -> 2
A34: 4 | B34: CO4 | C34: =IF(ISNUMBER(C25),"A","NA") -> A | D34: =IF('DATA INPUT SHEET'!D21="","",'DATA INPUT SHEET'!D21) -> 2 | E34: =IF('DATA INPUT SHEET'!E21="","",'DATA INPUT SHEET'!E21) -> 2 | F34: =IF('DATA INPUT SHEET'!F21="","",'DATA INPUT SHEET'!F21) -> 2 | G34: =IF('DATA INPUT SHEET'!G21="","",'DATA INPUT SHEET'!G21) -> 2 | H34: =IF('DATA INPUT SHEET'!H21="","",'DATA INPUT SHEET'!H21) -> 2 | I34: =IF('DATA INPUT SHEET'!I21="","",'DATA INPUT SHEET'!I21) -> NA | J34: =IF('DATA INPUT SHEET'!J21="","",'DATA INPUT SHEET'!J21) -> 2 | K34: =IF('DATA INPUT SHEET'!K21="","",'DATA INPUT SHEET'!K21) -> 2 | ... R34: =IF('DATA INPUT SHEET'!R21="","",'DATA INPUT SHEET'!R21) -> 2
A35: 5 | B35: CO5 | C35: =IF(ISNUMBER(C26),"A","NA") -> A | D35: =IF('DATA INPUT SHEET'!D22="","",'DATA INPUT SHEET'!D22) -> 3 | E35: =IF('DATA INPUT SHEET'!E22="","",'DATA INPUT SHEET'!E22) -> 2 | F35: =IF('DATA INPUT SHEET'!F22="","",'DATA INPUT SHEET'!F22) -> 2 | G35: =IF('DATA INPUT SHEET'!G22="","",'DATA INPUT SHEET'!G22) -> 2 | H35: =IF('DATA INPUT SHEET'!H22="","",'DATA INPUT SHEET'!H22) -> 2 | I35: =IF('DATA INPUT SHEET'!I22="","",'DATA INPUT SHEET'!I22) -> 2 | J35: =IF('DATA INPUT SHEET'!J22="","",'DATA INPUT SHEET'!J22) -> NA | K35: =IF('DATA INPUT SHEET'!K22="","",'DATA INPUT SHEET'!K22) -> NA | ... R35: =IF('DATA INPUT SHEET'!R22="","",'DATA INPUT SHEET'!R22) -> 2
A36: Average PO | D36: =IF(SUMPRODUCT(--(D31:D35<>""))=0,"",ROUND(AVERAGE(D31:D35),2)) -> 2.2 | E36: =IF(SUMPRODUCT(--(E31:E35<>""))=0,"",ROUND(AVERAGE(E31:E35),2)) -> 2.2 | F36: =IF(SUMPRODUCT(--(F31:F35<>""))=0,"",ROUND(AVERAGE(F31:F35),2)) -> 2.2 | G36: =IF(SUMPRODUCT(--(G31:G35<>""))=0,"",ROUND(AVERAGE(G31:G35),2)) -> 2 | H36: =IF(SUMPRODUCT(--(H31:H35<>""))=0,"",ROUND(AVERAGE(H31:H35),2)) -> 2 | I36: =IF(SUMPRODUCT(--(I31:I35<>""))=0,"",ROUND(AVERAGE(I31:I35),2)) -> 2 | J36: =IF(SUMPRODUCT(--(J31:J35<>""))=0,"",ROUND(AVERAGE(J31:J35),2)) -> 2 | K36: =IF(SUMPRODUCT(--(K31:K35<>""))=0,"",ROUND(AVERAGE(K31:K35),2)) -> 1.67 | ... R36: =IF(SUMPRODUCT(--(R31:R35<>""))=0,"",ROUND(AVERAGE(R31:R35),2)) -> 2
A38: Indirect Attainment of CO
A39: S.No. | B39: Exam | C39: STATUS | D39: PO1 | E39: PO2 | F39: PO3 | G39: PO4 | H39: PO5 | I39: PO6 | J39: PO7 | K39: PO8 | L39: PO9 | M39: PO10 | N39: PO11 | O39: PO12 | P39: PSO1 | Q39: PSO2 | R39: PSO3
A40: 1 | B40: CO1 | C40: =IF(ISNUMBER(C22),"A","NA") -> A | D40: =IF(ISNUMBER(D31),D31*$J$22/100,"") -> 1.650165 | E40: =IF(ISNUMBER(E31),E31*$J$22/100,"") -> 1.650165 | F40: =IF(ISNUMBER(F31),F31*$J$22/100,"") -> 1.650165 | G40: =IF(ISNUMBER(G31),G31*$J$22/100,"") -> 1.650165 | H40: =IF(ISNUMBER(H31),H31*$J$22/100,"") -> 1.650165 | I40: =IF(ISNUMBER(I31),I31*$J$22/100,"") | J40: =IF(ISNUMBER(J31),J31*$J$22/100,"") | K40: =IF(ISNUMBER(K31),K31*$J$22/100,"") -> 0.82508251 | ... R40: =IF(ISNUMBER(R31),R31*$J$22/100,"") -> 1.650165
A41: 2 | B41: CO2 | C41: =IF(ISNUMBER(C23),"A","NA") -> A | D41: =IF(ISNUMBER(D32),D32*$J$23/100,"") -> 1.6369637 | E41: =IF(ISNUMBER(E32),E32*$J$23/100,"") -> 2.4554455 | F41: =IF(ISNUMBER(F32),F32*$J$23/100,"") -> 1.6369637 | G41: =IF(ISNUMBER(G32),G32*$J$23/100,"") -> 1.6369637 | H41: =IF(ISNUMBER(H32),H32*$J$23/100,"") -> 1.6369637 | I41: =IF(ISNUMBER(I32),I32*$J$23/100,"") | J41: =IF(ISNUMBER(J32),J32*$J$23/100,"") | K41: =IF(ISNUMBER(K32),K32*$J$23/100,"") | ... Q41: =IF(ISNUMBER(Q32),Q32*$J$23/100,"") -> 1.6369637 | R41: =IF(ISNUMBER(R32),R32*$J$22/100,"") -> 1.650165
A42: 3 | B42: CO3 | C42: =IF(ISNUMBER(C24),"A","NA") -> A | D42: =IF(ISNUMBER(D33),D33*$J$24/100,"") -> 1.6633663 | E42: =IF(ISNUMBER(E33),E33*$J$24/100,"") -> 1.6633663 | F42: =IF(ISNUMBER(F33),F33*$J$24/100,"") -> 2.4950495 | G42: =IF(ISNUMBER(G33),G33*$J$24/100,"") -> 1.6633663 | H42: =IF(ISNUMBER(H33),H33*$J$24/100,"") -> 1.6633663 | I42: =IF(ISNUMBER(I33),I33*$J$24/100,"") | J42: =IF(ISNUMBER(J33),J33*$J$24/100,"") | K42: =IF(ISNUMBER(K33),K33*$J$24/100,"") -> 1.6633663 | ... Q42: =IF(ISNUMBER(Q33),Q33*$J$24/100,"") -> 1.6633663 | R42: =IF(ISNUMBER(R33),R33*$J$22/100,"") -> 1.650165
A43: 4 | B43: CO4 | C43: =IF(ISNUMBER(C25),"A","NA") -> A | D43: =IF(ISNUMBER(D34),D34*$J$25/100,"") -> 1.6831683 | E43: =IF(ISNUMBER(E34),E34*$J$25/100,"") -> 1.6831683 | F43: =IF(ISNUMBER(F34),F34*$J$25/100,"") -> 1.6831683 | G43: =IF(ISNUMBER(G34),G34*$J$25/100,"") -> 1.6831683 | H43: =IF(ISNUMBER(H34),H34*$J$25/100,"") -> 1.6831683 | I43: =IF(ISNUMBER(I34),I34*$J$25/100,"") | J43: =IF(ISNUMBER(J34),J34*$J$25/100,"") -> 1.6831683 | K43: =IF(ISNUMBER(K34),K34*$J$25/100,"") -> 1.6831683 | ... Q43: =IF(ISNUMBER(Q34),Q34*$J$25/100,"") -> 1.6831683 | R43: =IF(ISNUMBER(R34),R34*$J$22/100,"") -> 1.650165
A44: 5 | B44: CO5 | C44: =IF(ISNUMBER(C26),"A","NA") -> A | D44: =IF(ISNUMBER(D35),D35*$J$26/100,"") -> 2.5049505 | E44: =IF(ISNUMBER(E35),E35*$J$26/100,"") -> 1.669967 | F44: =IF(ISNUMBER(F35),F35*$J$26/100,"") -> 1.669967 | G44: =IF(ISNUMBER(G35),G35*$J$26/100,"") -> 1.669967 | H44: =IF(ISNUMBER(H35),H35*$J$26/100,"") -> 1.669967 | I44: =IF(ISNUMBER(I35),I35*$J$26/100,"") -> 1.669967 | J44: =IF(ISNUMBER(J35),J35*$J$26/100,"") | K44: =IF(ISNUMBER(K35),K35*$J$26/100,"") | ... Q44: =IF(ISNUMBER(Q35),Q35*$J$26/100,"") -> 1.669967 | R44: =IF(ISNUMBER(R35),R35*$J$22/100,"") -> 1.650165
A45: Average PO | D45: =IF(SUMPRODUCT(--(D31:D35<>""))=0,"",ROUND(AVERAGE(D40:D44),2)) -> 1.83 | E45: =IF(SUMPRODUCT(--(E31:E35<>""))=0,"",ROUND(AVERAGE(E40:E44),2)) -> 1.82 | F45: =IF(SUMPRODUCT(--(F31:F35<>""))=0,"",ROUND(AVERAGE(F40:F44),2)) -> 1.83 | G45: =IF(SUMPRODUCT(--(G31:G35<>""))=0,"",ROUND(AVERAGE(G40:G44),2)) -> 1.66 | H45: =IF(SUMPRODUCT(--(H31:H35<>""))=0,"",ROUND(AVERAGE(H40:H44),2)) -> 1.66 | I45: =IF(SUMPRODUCT(--(I31:I35<>""))=0,"",ROUND(AVERAGE(I40:I44),2)) -> 1.67 | J45: =IF(SUMPRODUCT(--(J31:J35<>""))=0,"",ROUND(AVERAGE(J40:J44),2)) -> 1.68 | K45: =IF(SUMPRODUCT(--(K31:K35<>""))=0,"",ROUND(AVERAGE(K40:K44),2)) -> 1.39 | ... R45: =IF(SUMPRODUCT(--(R31:R35<>""))=0,"",ROUND(AVERAGE(R40:R44),2)) -> 1.65

Sheet UNIVERSITY
A1: Kanpur Institute of Technology, Kanpur
A2: Assessment Sheet for UNIVERSITY
A3: ='DATA INPUT SHEET'!A3:E3 -> Semester: _____llnd_ | E3: ='DATA INPUT SHEET'!E3:Q3 -> Name of the Faculty:_____Mr. Subodh Kumar_________________
A4: ='DATA INPUT SHEET'!A4:E4 -> Subject Code: ______KCA205______ | E4: DATA STRUCTURES & ANALYSIS OF ALGORITHMS
A5: ='DATA INPUT SHEET'!A9:C9 -> CO1 | D5: Explain the concept of data structure, abstract data types, algorithms, analysis of algorithms and basic data organization schemes such as arrays and linked lists.
A6: ='DATA INPUT SHEET'!A10:C10 -> CO2 | D6: Describe the applications of stacks and queues and implement various operations on them using arrays and linked lists.
A7: ='DATA INPUT SHEET'!A11:C11 -> CO3 | D7: Describe the properties of graphs and trees and implement various operations such as searching and traversal on them.
A8: ='DATA INPUT SHEET'!A12:C12 -> CO4 | D8: Compare incremental and divide-and-conquer approaches of designing algorithms for problems such as sorting and searching.
A9: ='DATA INPUT SHEET'!A13:C13 -> CO5 | D9: Apply and analyze various design approaches such as Divide-and-Conquer, greedy and dynamic for problem solving .
A10: S.No | B10: SEC | C10: Roll No | D10: Student Name | E10: Total Present Status | F10: From University | G10: Out of | H10: UNIVERSITY ATTAINTMENT
H11: =IF($G$13=0,"NOT APPLICABLE","APPLICABLE") -> APPLICABLE
H12: AL:1 | I12: AL:2 | J12: AL:3
A13: Distribution of Marks | E13: =COUNT(A14:A114) -> 101 | F13: 100 | G13: =F13 -> 100 | H13: <40% | I13: >=40% & <60% | J13: >=60%
A14: 1 | B14: =Internal!B14 -> A | C14: =Internal!C14 -> 2301650140002 | D14: =Internal!D14 -> ABHISHEK KATIYAR | E14: P | F14: 31 | G14: =IF(E14="A","A",IF(AND(ISBLANK(F14),E14="P"),"ERROR",F14)) -> 31 | H14: =IF(ISBLANK(G14),0,IF(E14="A","A",IF(G14<($G$13*40)/100,1,0))) -> 1 | I14: =IF(G14="A","A",IF(AND(G14>=($G$13*40)/100,G14<($G$13*60)/100),1,0)) -> 0 | J14: =IF(E14="A","A",IF(ISNUMBER(G14),IF(G14>=($G$13*60)/100,1,0),0)) -> 0
A15: 2 | B15: =Internal!B15 -> A | C15: =Internal!C15 -> 2301650140003 | D15: =Internal!D15 -> ABHISHEK KUMAR | E15: P | F15: 36 | G15: =IF(E15="A","A",IF(AND(ISBLANK(F15),E15="P"),"ERROR",F15)) -> 36 | H15: =IF(ISBLANK(G15),0,IF(E15="A","A",IF(G15<($G$13*40)/100,1,0))) -> 1 | I15: =IF(G15="A","A",IF(AND(G15>=($G$13*40)/100,G15<($G$13*60)/100),1,0)) -> 0 | J15: =IF(E15="A","A",IF(ISNUMBER(G15),IF(G15>=($G$13*60)/100,1,0),0)) -> 0
A16: 3 | B16: =Internal!B16 -> A | C16: =Internal!C16 -> 2301650140004 | D16: =Internal!D16 -> ABU BAKER HANZALAH | E16: P | F16: 42 | G16: =IF(E16="A","A",IF(AND(ISBLANK(F16),E16="P"),"ERROR",F16)) -> 42 | H16: =IF(ISBLANK(G16),0,IF(E16="A","A",IF(G16<($G$13*40)/100,1,0))) -> 0 | I16: =IF(G16="A","A",IF(AND(G16>=($G$13*40)/100,G16<($G$13*60)/100),1,0)) -> 1 | J16: =IF(E16="A","A",IF(ISNUMBER(G16),IF(G16>=($G$13*60)/100,1,0),0)) -> 0
A17: 4 | B17: =Internal!B17 -> A | C17: =Internal!C17 -> 2301650140005 | D17: =Internal!D17 -> ADARSH PRATAP SINGH GAUTAM | E17: P | F17: 55 | G17: =IF(E17="A","A",IF(AND(ISBLANK(F17),E17="P"),"ERROR",F17)) -> 55 | H17: =IF(ISBLANK(G17),0,IF(E17="A","A",IF(G17<($G$13*40)/100,1,0))) -> 0 | I17: =IF(G17="A","A",IF(AND(G17>=($G$13*40)/100,G17<($G$13*60)/100),1,0)) -> 1 | J17: =IF(E17="A","A",IF(ISNUMBER(G17),IF(G17>=($G$13*60)/100,1,0),0)) -> 0
A18: 5 | B18: =Internal!B18 -> A | C18: =Internal!C18 -> 2301650140006 | D18: =Internal!D18 -> ADITYA TIWARI | E18: P | F18: 47 | G18: =IF(E18="A","A",IF(AND(ISBLANK(F18),E18="P"),"ERROR",F18)) -> 47 | H18: =IF(ISBLANK(G18),0,IF(E18="A","A",IF(G18<($G$13*40)/100,1,0))) -> 0 | I18: =IF(G18="A","A",IF(AND(G18>=($G$13*40)/100,G18<($G$13*60)/100),1,0)) -> 1 | J18: =IF(E18="A","A",IF(ISNUMBER(G18),IF(G18>=($G$13*60)/100,1,0),0)) -> 0
A19: 6 | B19: =Internal!B19 -> A | C19: =Internal!C19 -> 2301650140008 | D19: =Internal!D19 -> AKSHARA GAHARWAR | E19: P | F19: 51 | G19: =IF(E19="A","A",IF(AND(ISBLANK(F19),E19="P"),"ERROR",F19)) -> 51 | H19: =IF(ISBLANK(G19),0,IF(E19="A","A",IF(G19<($G$13*40)/100,1,0))) -> 0 | I19: =IF(G19="A","A",IF(AND(G19>=($G$13*40)/100,G19<($G$13*60)/100),1,0)) -> 1 | J19: =IF(E19="A","A",IF(ISNUMBER(G19),IF(G19>=($G$13*60)/100,1,0),0)) -> 0
A20: 7 | B20: =Internal!B20 -> A | C20: =Internal!C20 -> 2301650140009 | D20: =Internal!D20 -> AKSHAT SINGH | E20: P | F20: 45 | G20: =IF(E20="A","A",IF(AND(ISBLANK(F20),E20="P"),"ERROR",F20)) -> 45 | H20: =IF(ISBLANK(G20),0,IF(E20="A","A",IF(G20<($G$13*40)/100,1,0))) -> 0 | I20: =IF(G20="A","A",IF(AND(G20>=($G$13*40)/100,G20<($G$13*60)/100),1,0)) -> 1 | J20: =IF(E20="A","A",IF(ISNUMBER(G20),IF(G20>=($G$13*60)/100,1,0),0)) -> 0
A21: 8 | B21: =Internal!B21 -> A | C21: =Internal!C21 -> 2301650140010 | D21: =Internal!D21 -> AMITA YADAV | E21: P | F21: 45 | G21: =IF(E21="A","A",IF(AND(ISBLANK(F21),E21="P"),"ERROR",F21)) -> 45 | H21: =IF(ISBLANK(G21),0,IF(E21="A","A",IF(G21<($G$13*40)/100,1,0))) -> 0 | I21: =IF(G21="A","A",IF(AND(G21>=($G$13*40)/100,G21<($G$13*60)/100),1,0)) -> 1 | J21: =IF(E21="A","A",IF(ISNUMBER(G21),IF(G21>=($G$13*60)/100,1,0),0)) -> 0
A22: 9 | B22: =Internal!B22 -> A | C22: =Internal!C22 -> 2301650140011 | D22: =Internal!D22 -> ANJALI SHARMA | E22: P | F22: 44 | G22: =IF(E22="A","A",IF(AND(ISBLANK(F22),E22="P"),"ERROR",F22)) -> 44 | H22: =IF(ISBLANK(G22),0,IF(E22="A","A",IF(G22<($G$13*40)/100,1,0))) -> 0 | I22: =IF(G22="A","A",IF(AND(G22>=($G$13*40)/100,G22<($G$13*60)/100),1,0)) -> 1 | J22: =IF(E22="A","A",IF(ISNUMBER(G22),IF(G22>=($G$13*60)/100,1,0),0)) -> 0
A23: 10 | B23: =Internal!B23 -> A | C23: =Internal!C23 -> 2301650140012 | D23: =Internal!D23 -> ANKIT KUMAR SAHU | E23: P | F23: 42 | G23: =IF(E23="A","A",IF(AND(ISBLANK(F23),E23="P"),"ERROR",F23)) -> 42 | H23: =IF(ISBLANK(G23),0,IF(E23="A","A",IF(G23<($G$13*40)/100,1,0))) -> 0 | I23: =IF(G23="A","A",IF(AND(G23>=($G$13*40)/100,G23<($G$13*60)/100),1,0)) -> 1 | J23: =IF(E23="A","A",IF(ISNUMBER(G23),IF(G23>=($G$13*60)/100,1,0),0)) -> 0
A24: 11 | B24: =Internal!B24 -> A | C24: =Internal!C24 -> 2301650140013 | D24: =Internal!D24 -> ANKIT PAL | E24: P | F24: 64 | G24: =IF(E24="A","A",IF(AND(ISBLANK(F24),E24="P"),"ERROR",F24)) -> 64 | H24: =IF(ISBLANK(G24),0,IF(E24="A","A",IF(G24<($G$13*40)/100,1,0))) -> 0 | I24: =IF(G24="A","A",IF(AND(G24>=($G$13*40)/100,G24<($G$13*60)/100),1,0)) -> 0 | J24: =IF(E24="A","A",IF(ISNUMBER(G24),IF(G24>=($G$13*60)/100,1,0),0)) -> 1
A25: 12 | B25: =Internal!B25 -> A | C25: =Internal!C25 -> 2301650140014 | D25: =Internal!D25 -> ANKIT PAL | E25: P | F25: 78 | G25: =IF(E25="A","A",IF(AND(ISBLANK(F25),E25="P"),"ERROR",F25)) -> 78 | H25: =IF(ISBLANK(G25),0,IF(E25="A","A",IF(G25<($G$13*40)/100,1,0))) -> 0 | I25: =IF(G25="A","A",IF(AND(G25>=($G$13*40)/100,G25<($G$13*60)/100),1,0)) -> 0 | J25: =IF(E25="A","A",IF(ISNUMBER(G25),IF(G25>=($G$13*60)/100,1,0),0)) -> 1
... A58: 45 | B58: =Internal!B58 -> A | C58: =Internal!C58 -> 2301650140049 | D58: =Internal!D58 -> NIDHI PAL | E58: P | F58: 43 | G58: =IF(E58="A","A",IF(AND(ISBLANK(F58),E58="P"),"ERROR",F58)) -> 43 | H58: =IF(ISBLANK(G58),0,IF(E58="A","A",IF(G58<($G$13*40)/100,1,0))) -> 0 | I58: =IF(G58="A","A",IF(AND(G58>=($G$13*40)/100,G58<($G$13*60)/100),1,0)) -> 1 | J58: =IF(E58="A","A",IF(ISNUMBER(G58),IF(G58>=($G$13*60)/100,1,0),0)) -> 0
A59: 46 | B59: =Internal!B59 -> A | C59: =Internal!C59 -> 2301650140050 | D59: =Internal!D59 -> NIKHIL DHEEMAN | E59: A | G59: =IF(E59="A","A",IF(AND(ISBLANK(F59),E59="P"),"ERROR",F59)) -> A | H59: =IF(ISBLANK(G59),0,IF(E59="A","A",IF(G59<($G$13*40)/100,1,0))) -> A | I59: =IF(G59="A","A",IF(AND(G59>=($G$13*40)/100,G59<($G$13*60)/100),1,0)) -> A | J59: =IF(E59="A","A",IF(ISNUMBER(G59),IF(G59>=($G$13*60)/100,1,0),0)) -> A
A60: 47 | B60: =Internal!B60 -> A | C60: =Internal!C60 -> 2301650140051 | D60: =Internal!D60 -> NIKHIL SHUKLA | E60: P | F60: 66 | G60: =IF(E60="A","A",IF(AND(ISBLANK(F60),E60="P"),"ERROR",F60)) -> 66 | H60: =IF(ISBLANK(G60),0,IF(E60="A","A",IF(G60<($G$13*40)/100,1,0))) -> 0 | I60: =IF(G60="A","A",IF(AND(G60>=($G$13*40)/100,G60<($G$13*60)/100),1,0)) -> 0 | J60: =IF(E60="A","A",IF(ISNUMBER(G60),IF(G60>=($G$13*60)/100,1,0),0)) -> 1
A61: 48 | B61: =Internal!B61 -> A | C61: =Internal!C61 -> 2301650140052 | D61: =Internal!D61 -> NIMISH DEV TIWARI | E61: P | F61: 43 | G61: =IF(E61="A","A",IF(AND(ISBLANK(F61),E61="P"),"ERROR",F61)) -> 43 | H61: =IF(ISBLANK(G61),0,IF(E61="A","A",IF(G61<($G$13*40)/100,1,0))) -> 0 | I61: =IF(G61="A","A",IF(AND(G61>=($G$13*40)/100,G61<($G$13*60)/100),1,0)) -> 1 | J61: =IF(E61="A","A",IF(ISNUMBER(G61),IF(G61>=($G$13*60)/100,1,0),0)) -> 0
A62: 49 | B62: =Internal!B62 -> A | C62: =Internal!C62 -> 2301650140053 | D62: =Internal!D62 -> NITIN SHUKLA | E62: P | F62: 44 | G62: =IF(E62="A","A",IF(AND(ISBLANK(F62),E62="P"),"ERROR",F62)) -> 44 | H62: =IF(ISBLANK(G62),0,IF(E62="A","A",IF(G62<($G$13*40)/100,1,0))) -> 0 | I62: =IF(G62="A","A",IF(AND(G62>=($G$13*40)/100,G62<($G$13*60)/100),1,0)) -> 1 | J62: =IF(E62="A","A",IF(ISNUMBER(G62),IF(G62>=($G$13*60)/100,1,0),0)) -> 0
A63: 50 | B63: =Internal!B63 -> A | C63: =Internal!C63 -> 2301650140054 | D63: =Internal!D63 -> PALAK TIWARI | E63: P | F63: 44 | G63: =IF(E63="A","A",IF(AND(ISBLANK(F63),E63="P"),"ERROR",F63)) -> 44 | H63: =IF(ISBLANK(G63),0,IF(E63="A","A",IF(G63<($G$13*40)/100,1,0))) -> 0 | I63: =IF(G63="A","A",IF(AND(G63>=($G$13*40)/100,G63<($G$13*60)/100),1,0)) -> 1 | J63: =IF(E63="A","A",IF(ISNUMBER(G63),IF(G63>=($G$13*60)/100,1,0),0)) -> 0
A64: 51 | B64: =Internal!B64 -> A | C64: =Internal!C64 -> 2301650140055 | D64: =Internal!D64 -> PARASH PANDEY | E64: P | F64: 61 | G64: =IF(E64="A","A",IF(AND(ISBLANK(F64),E64="P"),"ERROR",F64)) -> 61 | H64: =IF(ISBLANK(G64),0,IF(E64="A","A",IF(G64<($G$13*40)/100,1,0))) -> 0 | I64: =IF(G64="A","A",IF(AND(G64>=($G$13*40)/100,G64<($G$13*60)/100),1,0)) -> 0 | J64: =IF(E64="A","A",IF(ISNUMBER(G64),IF(G64>=($G$13*60)/100,1,0),0)) -> 1
A65: 52 | B65: =Internal!B65 -> B | C65: =Internal!C65 -> 2301650140056 | D65: =Internal!D65 -> PAWAN KUMAR | E65: P | F65: 64 | G65: =IF(E65="A","A",IF(AND(ISBLANK(F65),E65="P"),"ERROR",F65)) -> 64 | H65: =IF(ISBLANK(G65),0,IF(E65="A","A",IF(G65<($G$13*40)/100,1,0))) -> 0 | I65: =IF(G65="A","A",IF(AND(G65>=($G$13*40)/100,G65<($G$13*60)/100),1,0)) -> 0 | J65: =IF(E65="A","A",IF(ISNUMBER(G65),IF(G65>=($G$13*60)/100,1,0),0)) -> 1
A66: 53 | B66: =Internal!B66 -> B | C66: =Internal!C66 -> 2301650140057 | D66: =Internal!D66 -> POONAM PAL | E66: P | F66: 63 | G66: =IF(E66="A","A",IF(AND(ISBLANK(F66),E66="P"),"ERROR",F66)) -> 63 | H66: =IF(ISBLANK(G66),0,IF(E66="A","A",IF(G66<($G$13*40)/100,1,0))) -> 0 | I66: =IF(G66="A","A",IF(AND(G66>=($G$13*40)/100,G66<($G$13*60)/100),1,0)) -> 0 | J66: =IF(E66="A","A",IF(ISNUMBER(G66),IF(G66>=($G$13*60)/100,1,0),0)) -> 1
A67: 54 | B67: =Internal!B67 -> B | C67: =Internal!C67 -> 2301650140058 | D67: =Internal!D67 -> PRABHAT SINGH | E67: P | F67: 65 | G67: =IF(E67="A","A",IF(AND(ISBLANK(F67),E67="P"),"ERROR",F67)) -> 65 | H67: =IF(ISBLANK(G67),0,IF(E67="A","A",IF(G67<($G$13*40)/100,1,0))) -> 0 | I67: =IF(G67="A","A",IF(AND(G67>=($G$13*40)/100,G67<($G$13*60)/100),1,0)) -> 0 | J67: =IF(E67="A","A",IF(ISNUMBER(G67),IF(G67>=($G$13*60)/100,1,0),0)) -> 1
A68: 55 | B68: =Internal!B68 -> B | C68: =Internal!C68 -> 2301650140059 | D68: =Internal!D68 -> PRACHI DWIVEDI | E68: P | F68: 64 | G68: =IF(E68="A","A",IF(AND(ISBLANK(F68),E68="P"),"ERROR",F68)) -> 64 | H68: =IF(ISBLANK(G68),0,IF(E68="A","A",IF(G68<($G$13*40)/100,1,0))) -> 0 | I68: =IF(G68="A","A",IF(AND(G68>=($G$13*40)/100,G68<($G$13*60)/100),1,0)) -> 0 | J68: =IF(E68="A","A",IF(ISNUMBER(G68),IF(G68>=($G$13*60)/100,1,0),0)) -> 1
A69: 56 | B69: =Internal!B69 -> B | C69: =Internal!C69 -> 2301650140060 | D69: =Internal!D69 -> PRAGYA VERMA | E69: P | F69: 60 | G69: =IF(E69="A","A",IF(AND(ISBLANK(F69),E69="P"),"ERROR",F69)) -> 60 | H69: =IF(ISBLANK(G69),0,IF(E69="A","A",IF(G69<($G$13*40)/100,1,0))) -> 0 | I69: =IF(G69="A","A",IF(AND(G69>=($G$13*40)/100,G69<($G$13*60)/100),1,0)) -> 0 | J69: =IF(E69="A","A",IF(ISNUMBER(G69),IF(G69>=($G$13*60)/100,1,0),0)) -> 1
A70: 57 | B70: =Internal!B70 -> B | C70: =Internal!C70 -> 2301650140061 | D70: =Internal!D70 -> PRANJUL DIXIT | E70: P | F70: 54 | G70: =IF(E70="A","A",IF(AND(ISBLANK(F70),E70="P"),"ERROR",F70)) -> 54 | H70: =IF(ISBLANK(G70),0,IF(E70="A","A",IF(G70<($G$13*40)/100,1,0))) -> 0 | I70: =IF(G70="A","A",IF(AND(G70>=($G$13*40)/100,G70<($G$13*60)/100),1,0)) -> 1 | J70: =IF(E70="A","A",IF(ISNUMBER(G70),IF(G70>=($G$13*60)/100,1,0),0)) -> 0
A71: 58 | B71: =Internal!B71 -> B | C71: =Internal!C71 -> 2301650140062 | D71: =Internal!D71 -> PRASHANT BAJPEYEE | E71: P | F71: 0 | G71: =IF(E71="A","A",IF(AND(ISBLANK(F71),E71="P"),"ERROR",F71)) -> 0 | H71: =IF(ISBLANK(G71),0,IF(E71="A","A",IF(G71<($G$13*40)/100,1,0))) -> 1 | I71: =IF(G71="A","A",IF(AND(G71>=($G$13*40)/100,G71<($G$13*60)/100),1,0)) -> 0 | J71: =IF(E71="A","A",IF(ISNUMBER(G71),IF(G71>=($G$13*60)/100,1,0),0)) -> 0
... A114: 101 | B114: =Internal!B114 -> B | C114: =Internal!C114 -> 2301650140108 | D114: =Internal!D114 -> YASHPAL SINGH | E114: P | F114: 44 | G114: =IF(E114="A","A",IF(AND(ISBLANK(F114),E114="P"),"ERROR",F114)) -> 44 | H114: =IF(ISBLANK(G114),0,IF(E114="A","A",IF(G114<($G$13*40)/100,1,0))) -> 0 | I114: =IF(G114="A","A",IF(AND(G114>=($G$13*40)/100,G114<($G$13*60)/100),1,0)) -> 1 | J114: =IF(E114="A","A",IF(ISNUMBER(G114),IF(G114>=($G$13*60)/100,1,0),0)) -> 0
G115: Total | H115: =SUM(H14:H114) -> 13 | I115: =SUM(I14:I114) -> 42 | J115: =SUM(J14:J114) -> 45
G116: % Student | H116: =IF($E$13=0,0,ROUND((H115*100)/$E$13,2)) -> 12.87 | I116: =IF($E$13=0,0,ROUND((I115*100)/$E$13,2)) -> 41.58 | J116: =IF($E$13=0,0,ROUND((J115*100)/$E$13,2)) -> 44.55
G117: % CO attained | H117: =IF($G$13=0,"NOT APPLICABLE",ROUND((J116+2*I116+3*H116)/3,2)) -> 55.44

Sheet POAttainment
A1: Kanpur Institute of Technology, Kanpur
A2: Assessment Sheet for PO Attainment
A3: ='DATA INPUT SHEET'!A3:E3 -> Semester: _____llnd_ | E3: ='DATA INPUT SHEET'!E3 -> Name of the Faculty:_____Mr. Subodh Kumar_________________
A4: ='DATA INPUT SHEET'!A4:E4 -> Subject Code: ______KCA205______ | E4: ='DATA INPUT SHEET'!F4 -> Total No. of Students: __101______ | J4: ='DATA INPUT SHEET'!K4 -> Subject Name: _____DATA STRUCTURES & ANALYSIS OF ALGORITHMS_____________
A6: MAPPING OF COURSE OUTCOME WITH PROGRAM OUTCOMES/PROGRAM SPECIFIC OUTCOME
A7: S.No. | B7: Course Outcomes | C7: PO1 | D7: PO2 | E7: PO3 | F7: PO4 | G7: PO5 | H7: PO6 | I7: PO7 | J7: PO8 | K7: PO9 | L7: PO10 | M7: PO11 | N7: PO12 | O7: PSO1 | P7: PSO2 | Q7: PSO3
A8: 1 | B8: CO1 | C8: =Indirect!D31 -> 2 | D8: =Indirect!E31 -> 2 | E8: =Indirect!F31 -> 2 | F8: =Indirect!G31 -> 2 | G8: =Indirect!H31 -> 2 | H8: =Indirect!I31 -> NA | I8: =Indirect!J31 -> NA | J8: =Indirect!K31 -> 1 | ... Q8: =Indirect!R31 -> 2
A9: 2 | B9: CO2 | C9: =Indirect!D32 -> 2 | D9: =Indirect!E32 -> 3 | E9: =Indirect!F32 -> 2 | F9: =Indirect!G32 -> 2 | G9: =Indirect!H32 -> 2 | H9: =Indirect!I32 -> NA | I9: =Indirect!J32 -> NA | J9: =Indirect!K32 -> NA | ... Q9: =Indirect!R32 -> 2
A10: 3 | B10: CO3 | C10: =Indirect!D33 -> 2 | D10: =Indirect!E33 -> 2 | E10: =Indirect!F33 -> 3 | F10: =Indirect!G33 -> 2 | G10: =Indirect!H33 -> 2 | H10: =Indirect!I33 -> NA | I10: =Indirect!J33 -> NA | J10: =Indirect!K33 -> 2 | ... Q10: =Indirect!R33 -> 2
A11: 4 | B11: CO4 | C11: =Indirect!D34 -> 2 | D11: =Indirect!E34 -> 2 | E11: =Indirect!F34 -> 2 | F11: =Indirect!G34 -> 2 | G11: =Indirect!H34 -> 2 | H11: =Indirect!I34 -> NA | I11: =Indirect!J34 -> 2 | J11: =Indirect!K34 -> 2 | ... Q11: =Indirect!R34 -> 2
A12: 5 | B12: CO5 | C12: =Indirect!D35 -> 3 | D12: =Indirect!E35 -> 2 | E12: =Indirect!F35 -> 2 | F12: =Indirect!G35 -> 2 | G12: =Indirect!H35 -> 2 | H12: =Indirect!I35 -> 2 | I12: =Indirect!J35 -> NA | J12: =Indirect!K35 -> NA | ... Q12: =Indirect!R35 -> 2
A13: Average CO | C13: =IF(SUMPRODUCT(--(C8:C12<>""))=0,"",ROUND(AVERAGE(C8:C12),2)) -> 2.2 | D13: =IF(SUMPRODUCT(--(D8:D12<>""))=0,"",ROUND(AVERAGE(D8:D12),2)) -> 2.2 | E13: =IF(SUMPRODUCT(--(E8:E12<>""))=0,"",ROUND(AVERAGE(E8:E12),2)) -> 2.2 | F13: =IF(SUMPRODUCT(--(F8:F12<>""))=0,"",ROUND(AVERAGE(F8:F12),2)) -> 2 | G13: =IF(SUMPRODUCT(--(G8:G12<>""))=0,"",ROUND(AVERAGE(G8:G12),2)) -> 2 | H13: =IF(SUMPRODUCT(--(H8:H12<>""))=0,"",ROUND(AVERAGE(H8:H12),2)) -> 2 | I13: =IF(SUMPRODUCT(--(I8:I12<>""))=0,"",ROUND(AVERAGE(I8:I12),2)) -> 2 | J13: =IF(SUMPRODUCT(--(J8:J12<>""))=0,"",ROUND(AVERAGE(J8:J12),2)) -> 1.67 | ... Q13: =IF(SUMPRODUCT(--(Q8:Q12<>""))=0,"",ROUND(AVERAGE(Q8:Q12),2)) -> 2
A15: Direct Assessment (Internal + University)
A16: S.No. | B16: Course Outcomes | C16: PO1 | D16: PO2 | E16: PO3 | F16: PO4 | G16: PO5 | H16: PO6 | I16: PO7 | J16: PO8 | K16: PO9 | L16: PO10 | M16: PO11 | N16: PO12 | O16: PSO1 | P16: PSO2 | Q16: PSO3 | R16: % of students attained CO
A17: 1 | B17: CO1 | C17: =IF($R$17="NOT APPLICABLE","",IF(ISNUMBER(C8),C8*$R$17/100,"")) -> 1.62768 | D17: =IF($R$17="NOT APPLICABLE","",IF(ISNUMBER(D8),D8*$R$17/100,"")) -> 1.62768 | E17: =IF($R$17="NOT APPLICABLE","",IF(ISNUMBER(E8),E8*$R$17/100,"")) -> 1.62768 | F17: =IF($R$17="NOT APPLICABLE","",IF(ISNUMBER(F8),F8*$R$17/100,"")) -> 1.62768 | G17: =IF($R$17="NOT APPLICABLE","",IF(ISNUMBER(G8),G8*$R$17/100,"")) -> 1.62768 | H17: =IF($R$17="NOT APPLICABLE","",IF(ISNUMBER(H8),H8*$R$17/100,"")) | I17: =IF($R$17="NOT APPLICABLE","",IF(ISNUMBER(I8),I8*$R$17/100,"")) | J17: =IF($R$17="NOT APPLICABLE","",IF(ISNUMBER(J8),J8*$R$17/100,"")) -> 0.81384 | ... Q17: =IF($R$17="NOT APPLICABLE","",IF(ISNUMBER(Q8),Q8*$R$17/100,"")) -> 1.62768 | R17: =COAttainment!C35 -> 81.384
A18: 2 | B18: CO2 | C18: =IF($R$18="NOT APPLICABLE","",IF(ISNUMBER(C9),C9*$R$18/100,"")) -> 1.62768 | D18: =IF($R$18="NOT APPLICABLE","",IF(ISNUMBER(D9),D9*$R$18/100,"")) -> 2.44152 | E18: =IF($R$18="NOT APPLICABLE","",IF(ISNUMBER(E9),E9*$R$18/100,"")) -> 1.62768 | F18: =IF($R$18="NOT APPLICABLE","",IF(ISNUMBER(F9),F9*$R$18/100,"")) -> 1.62768 | G18: =IF($R$18="NOT APPLICABLE","",IF(ISNUMBER(G9),G9*$R$18/100,"")) -> 1.62768 | H18: =IF($R$18="NOT APPLICABLE","",IF(ISNUMBER(H9),H9*$R$18/100,"")) | I18: =IF($R$18="NOT APPLICABLE","",IF(ISNUMBER(I9),I9*$R$18/100,"")) | J18: =IF($R$18="NOT APPLICABLE","",IF(ISNUMBER(J9),J9*$R$18/100,"")) | ... P18: =IF($R$18="NOT APPLICABLE","",IF(ISNUMBER(P9),P9*$R$18/100,"")) -> 1.62768 | Q18: =IF($R$17="NOT APPLICABLE","",IF(ISNUMBER(Q9),Q9*$R$17/100,"")) -> 1.62768 | R18: =COAttainment!D35 -> 81.384
A19: 3 | B19: CO3 | C19: =IF($R$19="NOT APPLICABLE","",IF(ISNUMBER(C10),C10*$R$19/100,"")) -> 1.62768 | D19: =IF($R$19="NOT APPLICABLE","",IF(ISNUMBER(D10),D10*$R$19/100,"")) -> 1.62768 | E19: =IF($R$19="NOT APPLICABLE","",IF(ISNUMBER(E10),E10*$R$19/100,"")) -> 2.44152 | F19: =IF($R$19="NOT APPLICABLE","",IF(ISNUMBER(F10),F10*$R$19/100,"")) -> 1.62768 | G19: =IF($R$19="NOT APPLICABLE","",IF(ISNUMBER(G10),G10*$R$19/100,"")) -> 1.62768 | H19: =IF($R$19="NOT APPLICABLE","",IF(ISNUMBER(H10),H10*$R$19/100,"")) | I19: =IF($R$19="NOT APPLICABLE","",IF(ISNUMBER(I10),I10*$R$19/100,"")) | J19: =IF($R$19="NOT APPLICABLE","",IF(ISNUMBER(J10),J10*$R$19/100,"")) -> 1.62768 | ... P19: =IF($R$19="NOT APPLICABLE","",IF(ISNUMBER(P10),P10*$R$19/100,"")) -> 1.62768 | Q19: =IF($R$17="NOT APPLICABLE","",IF(ISNUMBER(Q10),Q10*$R$17/100,"")) -> 1.62768 | R19: =COAttainment!E35 -> 81.384
A20: 4 | B20: CO4 | C20: =IF(R20="NOT APPLICABLE","",IF(ISNUMBER(C11),C11*$R$20/100,"")) -> 1.62768 | D20: =IF(#REF!="NOT APPLICABLE","",IF(ISNUMBER(D11),D11*$R$20/100,"")) -> #REF! | E20: =IF(S20="NOT APPLICABLE","",IF(ISNUMBER(E11),E11*$R$20/100,"")) -> 1.62768 | F20: =IF(T20="NOT APPLICABLE","",IF(ISNUMBER(F11),F11*$R$20/100,"")) -> 1.62768 | G20: =IF(U20="NOT APPLICABLE","",IF(ISNUMBER(G11),G11*$R$20/100,"")) -> 1.62768 | H20: =IF(V20="NOT APPLICABLE","",IF(ISNUMBER(H11),H11*$R$20/100,"")) | I20: =IF(W20="NOT APPLICABLE","",IF(ISNUMBER(I11),I11*$R$20/100,"")) -> 1.62768 | J20: =IF(X20="NOT APPLICABLE","",IF(ISNUMBER(J11),J11*$R$20/100,"")) -> 1.62768 | K20: =IF(Y20="NOT APPLICABLE","",IF(ISNUMBER(K11),K11*$R$20/100,"")) -> 1.62768 | L20: =IF(Z20="NOT APPLICABLE","",IF(ISNUMBER(L11),L11*$R$20/100,"")) -> 1.62768 | ... P20: =IF(AD20="NOT APPLICABLE","",IF(ISNUMBER(P11),P11*$R$20/100,"")) -> 1.62768 | Q20: =IF($R$17="NOT APPLICABLE","",IF(ISNUMBER(Q11),Q11*$R$17/100,"")) -> 1.62768 | R20: =COAttainment!F35 -> 81.384
A21: 5 | B21: CO5 | C21: =IF($R$21="NOT APPLICABLE","",IF(ISNUMBER(C12),C12*$R$21/100,"")) -> 2.44152 | D21: =IF($R$21="NOT APPLICABLE","",IF(ISNUMBER(D12),D12*$R$21/100,"")) -> 1.62768 | E21: =IF($R$21="NOT APPLICABLE","",IF(ISNUMBER(E12),E12*$R$21/100,"")) -> 1.62768 | F21: =IF($R$21="NOT APPLICABLE","",IF(ISNUMBER(F12),F12*$R$21/100,"")) -> 1.62768 | G21: =IF($R$21="NOT APPLICABLE","",IF(ISNUMBER(G12),G12*$R$21/100,"")) -> 1.62768 | H21: =IF($R$21="NOT APPLICABLE","",IF(ISNUMBER(H12),H12*$R$21/100,"")) -> 1.62768 | I21: =IF($R$21="NOT APPLICABLE","",IF(ISNUMBER(I12),I12*$R$21/100,"")) | J21: =IF($R$21="NOT APPLICABLE","",IF(ISNUMBER(J12),J12*$R$21/100,"")) | ... P21: =IF($R$21="NOT APPLICABLE","",IF(ISNUMBER(P12),P12*$R$21/100,"")) -> 1.62768 | Q21: =IF($R$17="NOT APPLICABLE","",IF(ISNUMBER(Q12),Q12*$R$17/100,"")) -> 1.62768 | R21: =COAttainment!G35 -> 81.384
A22: Average PO | C22: =IF(SUMPRODUCT(--(C17:C21<>""))=0,"",ROUND(AVERAGE(C17:C21),2)) -> 1.79 | D22: =IF(SUMPRODUCT(--(D17:D21<>""))=0,"",ROUND(AVERAGE(D17:D21),2)) -> #REF! | E22: =IF(SUMPRODUCT(--(E17:E21<>""))=0,"",ROUND(AVERAGE(E17:E21),2)) -> 1.79 | F22: =IF(SUMPRODUCT(--(F17:F21<>""))=0,"",ROUND(AVERAGE(F17:F21),2)) -> 1.63 | G22: =IF(SUMPRODUCT(--(G17:G21<>""))=0,"",ROUND(AVERAGE(G17:G21),2)) -> 1.63 | H22: =IF(SUMPRODUCT(--(H17:H21<>""))=0,"",ROUND(AVERAGE(H17:H21),2)) -> 1.63 | I22: =IF(SUMPRODUCT(--(I17:I21<>""))=0,"",ROUND(AVERAGE(I17:I21),2)) -> 1.63 | J22: =IF(SUMPRODUCT(--(J17:J21<>""))=0,"",ROUND(AVERAGE(J17:J21),2)) -> 1.36 | ... R22: =IF(SUMPRODUCT(--(R17:R21<>""))=0,"",ROUND(AVERAGE(R17:R21),2)) -> 81.38
A24: Indirect Attainment of CO
A25: S.No. | B25: Exam | C25: PO1 | D25: PO2 | E25: PO3 | F25: PO4 | G25: PO5 | H25: PO6 | I25: PO7 | J25: PO8 | K25: PO9 | L25: PO10 | M25: PO11 | N25: PO12 | O25: PSO1 | P25: PSO2 | Q25: PSO3 | R25: % of student Indirect Attained
A26: 1 | B26: CO1 | C26: =IF($R$26="NOT APPLICABLE","",IF(ISNUMBER(C8),C8*$R$26/100,"")) -> 1.650165 | D26: =IF($R$26="NOT APPLICABLE","",IF(ISNUMBER(D8),D8*$R$26/100,"")) -> 1.650165 | E26: =IF($R$26="NOT APPLICABLE","",IF(ISNUMBER(E8),E8*$R$26/100,"")) -> 1.650165 | F26: =IF($R$26="NOT APPLICABLE","",IF(ISNUMBER(F8),F8*$R$26/100,"")) -> 1.650165 | G26: =IF($R$26="NOT APPLICABLE","",IF(ISNUMBER(G8),G8*$R$26/100,"")) -> 1.650165 | H26: =IF($R$26="NOT APPLICABLE","",IF(ISNUMBER(H8),H8*$R$26/100,"")) | I26: =IF($R$26="NOT APPLICABLE","",IF(ISNUMBER(I8),I8*$R$26/100,"")) | J26: =IF($R$26="NOT APPLICABLE","",IF(ISNUMBER(J8),J8*$R$26/100,"")) -> 0.82508251 | ... Q26: =IF($R$26="NOT APPLICABLE","",IF(ISNUMBER(Q8),Q8*$R$26/100,"")) -> 1.650165 | R26: =COAttainment!C36 -> 82.508251
A27: 2 | B27: CO2 | C27: =IF($R$27="NOT APPLICABLE","",IF(ISNUMBER(C9),C9*$R$27/100,"")) -> 1.6369637 | D27: =IF($R$27="NOT APPLICABLE","",IF(ISNUMBER(D9),D9*$R$27/100,"")) -> 2.4554455 | E27: =IF($R$27="NOT APPLICABLE","",IF(ISNUMBER(E9),E9*$R$27/100,"")) -> 1.6369637 | F27: =IF($R$27="NOT APPLICABLE","",IF(ISNUMBER(F9),F9*$R$27/100,"")) -> 1.6369637 | G27: =IF($R$27="NOT APPLICABLE","",IF(ISNUMBER(G9),G9*$R$27/100,"")) -> 1.6369637 | H27: =IF($R$27="NOT APPLICABLE","",IF(ISNUMBER(H9),H9*$R$27/100,"")) | I27: =IF($R$27="NOT APPLICABLE","",IF(ISNUMBER(I9),I9*$R$27/100,"")) | J27: =IF($R$27="NOT APPLICABLE","",IF(ISNUMBER(J9),J9*$R$27/100,"")) | ... P27: =IF($R$27="NOT APPLICABLE","",IF(ISNUMBER(P9),P9*$R$27/100,"")) -> 1.6369637 | Q27: =IF($R$26="NOT APPLICABLE","",IF(ISNUMBER(Q9),Q9*$R$26/100,"")) -> 1.650165 | R27: =COAttainment!D36 -> 81.848185
A28: 3 | B28: CO3 | C28: =IF($R$28="NOT APPLICABLE","",IF(ISNUMBER(C10),C10*$R$28/100,"")) -> 1.6633663 | D28: =IF($R$28="NOT APPLICABLE","",IF(ISNUMBER(D10),D10*$R$28/100,"")) -> 1.6633663 | E28: =IF($R$28="NOT APPLICABLE","",IF(ISNUMBER(E10),E10*$R$28/100,"")) -> 2.4950495 | F28: =IF($R$28="NOT APPLICABLE","",IF(ISNUMBER(F10),F10*$R$28/100,"")) -> 1.6633663 | G28: =IF($R$28="NOT APPLICABLE","",IF(ISNUMBER(G10),G10*$R$28/100,"")) -> 1.6633663 | H28: =IF($R$28="NOT APPLICABLE","",IF(ISNUMBER(H10),H10*$R$28/100,"")) | I28: =IF($R$28="NOT APPLICABLE","",IF(ISNUMBER(I10),I10*$R$28/100,"")) | J28: =IF($R$28="NOT APPLICABLE","",IF(ISNUMBER(J10),J10*$R$28/100,"")) -> 1.6633663 | ... P28: =IF($R$28="NOT APPLICABLE","",IF(ISNUMBER(P10),P10*$R$28/100,"")) -> 1.6633663 | Q28: =IF($R$26="NOT APPLICABLE","",IF(ISNUMBER(Q10),Q10*$R$26/100,"")) -> 1.650165 | R28: =COAttainment!E36 -> 83.168317
A29: 4 | B29: CO4 | C29: =IF($R$29="NOT APPLICABLE","",IF(ISNUMBER(C11),C11*$R$29/100,"")) -> 1.6831683 | D29: =IF($R$29="NOT APPLICABLE","",IF(ISNUMBER(D11),D11*$R$29/100,"")) -> 1.6831683 | E29: =IF($R$29="NOT APPLICABLE","",IF(ISNUMBER(E11),E11*$R$29/100,"")) -> 1.6831683 | F29: =IF($R$29="NOT APPLICABLE","",IF(ISNUMBER(F11),F11*$R$29/100,"")) -> 1.6831683 | G29: =IF($R$29="NOT APPLICABLE","",IF(ISNUMBER(G11),G11*$R$29/100,"")) -> 1.6831683 | H29: =IF($R$29="NOT APPLICABLE","",IF(ISNUMBER(H11),H11*$R$29/100,"")) | I29: =IF($R$29="NOT APPLICABLE","",IF(ISNUMBER(I11),I11*$R$29/100,"")) -> 1.6831683 | J29: =IF($R$29="NOT APPLICABLE","",IF(ISNUMBER(J11),J11*$R$29/100,"")) -> 1.6831683 | ... P29: =IF($R$29="NOT APPLICABLE","",IF(ISNUMBER(P11),P11*$R$29/100,"")) -> 1.6831683 | Q29: =IF($R$26="NOT APPLICABLE","",IF(ISNUMBER(Q11),Q11*$R$26/100,"")) -> 1.650165 | R29: =COAttainment!F36 -> 84.158416
A30: 5 | B30: CO5 | C30: =IF($R$30="NOT APPLICABLE","",IF(ISNUMBER(C12),C12*$R$30/100,"")) -> 2.5049505 | D30: =IF($R$30="NOT APPLICABLE","",IF(ISNUMBER(D12),D12*$R$30/100,"")) -> 1.669967 | E30: =IF($R$30="NOT APPLICABLE","",IF(ISNUMBER(E12),E12*$R$30/100,"")) -> 1.669967 | F30: =IF($R$30="NOT APPLICABLE","",IF(ISNUMBER(F12),F12*$R$30/100,"")) -> 1.669967 | G30: =IF($R$30="NOT APPLICABLE","",IF(ISNUMBER(G12),G12*$R$30/100,"")) -> 1.669967 | H30: =IF($R$30="NOT APPLICABLE","",IF(ISNUMBER(H12),H12*$R$30/100,"")) -> 1.669967 | I30: =IF($R$30="NOT APPLICABLE","",IF(ISNUMBER(I12),I12*$R$30/100,"")) | J30: =IF($R$30="NOT APPLICABLE","",IF(ISNUMBER(J12),J12*$R$30/100,"")) | ... P30: =IF($R$30="NOT APPLICABLE","",IF(ISNUMBER(P12),P12*$R$30/100,"")) -> 1.669967 | Q30: =IF($R$26="NOT APPLICABLE","",IF(ISNUMBER(Q12),Q12*$R$26/100,"")) -> 1.650165 | R30: =COAttainment!G36 -> 83.49835
A31: Average PO | C31: =IF(SUMPRODUCT(--(C26:C30<>""))=0,"",ROUND(AVERAGE(C26:C30),2)) -> 1.83 | D31: =IF(SUMPRODUCT(--(D26:D30<>""))=0,"",ROUND(AVERAGE(D26:D30),2)) -> 1.82 | E31: =IF(SUMPRODUCT(--(E26:E30<>""))=0,"",ROUND(AVERAGE(E26:E30),2)) -> 1.83 | F31: =IF(SUMPRODUCT(--(F26:F30<>""))=0,"",ROUND(AVERAGE(F26:F30),2)) -> 1.66 | G31: =IF(SUMPRODUCT(--(G26:G30<>""))=0,"",ROUND(AVERAGE(G26:G30),2)) -> 1.66 | H31: =IF(SUMPRODUCT(--(H26:H30<>""))=0,"",ROUND(AVERAGE(H26:H30),2)) -> 1.67 | I31: =IF(SUMPRODUCT(--(I26:I30<>""))=0,"",ROUND(AVERAGE(I26:I30),2)) -> 1.68 | J31: =IF(SUMPRODUCT(--(J26:J30<>""))=0,"",ROUND(AVERAGE(J26:J30),2)) -> 1.39 | ... R31: =IF(SUMPRODUCT(--(R26:R30<>""))=0,"",ROUND(AVERAGE(R26:R30),2)) -> 83.04
A33: PO Attainment
A34: Attainment | C34: PO1 | D34: PO2 | E34: PO3 | F34: PO4 | G34: PO5 | H34: PO6 | I34: PO7 | J34: PO8 | K34: PO9 | L34: PO10 | M34: PO11 | N34: PO12 | O34: PSO1 | P34: PSO2 | Q34: PSO3
A35: Direct(D) | C35: =C22 -> 1.79 | D35: =D22 -> #REF! | E35: =E22 -> 1.79 | F35: =F22 -> 1.63 | G35: =G22 -> 1.63 | H35: =H22 -> 1.63 | I35: =I22 -> 1.63 | J35: =J22 -> 1.36 | ... Q35: =Q22 -> 1.63
A36: Indirect(I) | C36: =C31 -> 1.83 | D36: =D31 -> 1.82 | E36: =E31 -> 1.83 | F36: =F31 -> 1.66 | G36: =G31 -> 1.66 | H36: =H31 -> 1.67 | I36: =I31 -> 1.68 | J36: =J31 -> 1.39 | ... Q36: =Q31 -> 1.65
A37: Total=.8*D+0.2*I | C37: =IF(SUMPRODUCT(--(C26:C30<>""))=0,"",ROUND((0.8*C35+0.2*C36),2)) -> 1.8 | D37: =IF(SUMPRODUCT(--(D26:D30<>""))=0,"",ROUND((0.8*D35+0.2*D36),2)) -> #REF! | E37: =IF(SUMPRODUCT(--(E26:E30<>""))=0,"",ROUND((0.8*E35+0.2*E36),2)) -> 1.8 | F37: =IF(SUMPRODUCT(--(F26:F30<>""))=0,"",ROUND((0.8*F35+0.2*F36),2)) -> 1.64 | G37: =IF(SUMPRODUCT(--(G26:G30<>""))=0,"",ROUND((0.8*G35+0.2*G36),2)) -> 1.64 | H37: =IF(SUMPRODUCT(--(H26:H30<>""))=0,"",ROUND((0.8*H35+0.2*H36),2)) -> 1.64 | I37: =IF(SUMPRODUCT(--(I26:I30<>""))=0,"",ROUND((0.8*I35+0.2*I36),2)) -> 1.64 | J37: =IF(SUMPRODUCT(--(J26:J30<>""))=0,"",ROUND((0.8*J35+0.2*J36),2)) -> 1.37 | ... Q37: =IF(SUMPRODUCT(--(Q26:Q30<>""))=0,"",ROUND((0.8*Q35+0.2*Q36),2)) -> 1.63

Sheet Feedback
A1: Kanpur Institute of Technology, Kanpur | P1: VALUE
A2: Feedback
A3: ='DATA INPUT SHEET'!A3:E3 -> Semester: _____llnd_ | G3: ='DATA INPUT SHEET'!E3 -> Name of the Faculty:_____Mr. Subodh Kumar_________________
A4: ='DATA INPUT SHEET'!A4:E4 -> Subject Code: ______KCA205______ | G4: ='DATA INPUT SHEET'!F4 -> Total No. of Students: __101______ | K4: ='DATA INPUT SHEET'!K4 -> Subject Name: _____DATA STRUCTURES & ANALYSIS OF ALGORITHMS_____________
A5: ='DATA INPUT SHEET'!A9:C9 -> CO1 | D5: ='DATA INPUT SHEET'!D9:Q9 -> Explain the concept of data structure, abstract data types, algorithms, analysis of algorithms and basic data organization schemes such as arrays and linked lists. | P5: To be filled by students
A6: ='DATA INPUT SHEET'!A10:C10 -> CO2 | D6: ='DATA INPUT SHEET'!D10:Q10 -> Describe the applications of stacks and queues and implement various operations on them using arrays and linked lists. | P6: To be filled by students
A7: ='DATA INPUT SHEET'!A11:C11 -> CO3 | D7: ='DATA INPUT SHEET'!D11:Q11 -> Describe the properties of graphs and trees and implement various operations such as searching and traversal on them. | P7: To be filled by students
A8: ='DATA INPUT SHEET'!A12:C12 -> CO4 | D8: ='DATA INPUT SHEET'!D12:Q12 -> Compare incremental and divide-and-conquer approaches of designing algorithms for problems such as sorting and searching. | P8: To be filled by students
A9: ='DATA INPUT SHEET'!A13:C13 -> CO5 | D9: ='DATA INPUT SHEET'!D13:Q13 -> Apply and analyze various design approaches such as Divide-and-Conquer, greedy and dynamic for problem solving . | P9: To be filled by students
A11: Indirect Survay Table
A12: Options | C12: Description | J12: Value
A13: Option 1 | C13: Acquired Very Well with proficiency | J13: 3
A14: Option 2 | C14: Acquired enough to do my work | J14: 2
A15: Option 3 | C15: Acquired Marginally | J15: 1
A16: Option 4 | C16: Did not acquire at all | J16: 0
L21: Name & Signature of the Student
A24: Kanpur Institute of Technology, Kanpur | P24: VALUE
A25: Feedback
A26: ='DATA INPUT SHEET'!A3:E3 -> Semester: _____llnd_ | G26: ='DATA INPUT SHEET'!E3 -> Name of the Faculty:_____Mr. Subodh Kumar_________________
A27: ='DATA INPUT SHEET'!A4:E4 -> Subject Code: ______KCA205______ | G27: ='DATA INPUT SHEET'!F4 -> Total No. of Students: __101______ | K27: ='DATA INPUT SHEET'!K4 -> Subject Name: _____DATA STRUCTURES & ANALYSIS OF ALGORITHMS_____________
A28: ='DATA INPUT SHEET'!A9:C9 -> CO1 | D28: ='DATA INPUT SHEET'!D9:Q9 -> Explain the concept of data structure, abstract data types, algorithms, analysis of algorithms and basic data organization schemes such as arrays and linked lists. | P28: To be filled by students
A29: ='DATA INPUT SHEET'!A10:C10 -> CO2 | D29: ='DATA INPUT SHEET'!D10:Q10 -> Describe the applications of stacks and queues and implement various operations on them using arrays and linked lists. | P29: To be filled by students
A30: ='DATA INPUT SHEET'!A11:C11 -> CO3 | D30: ='DATA INPUT SHEET'!D11:Q11 -> Describe the properties of graphs and trees and implement various operations such as searching and traversal on them. | P30: To be filled by students
A31: ='DATA INPUT SHEET'!A12:C12 -> CO4 | D31: ='DATA INPUT SHEET'!D12:Q12 -> Compare incremental and divide-and-conquer approaches of designing algorithms for problems such as sorting and searching. | P31: To be filled by students
A32: ='DATA INPUT SHEET'!A13:C13 -> CO5 | D32: ='DATA INPUT SHEET'!D13:Q13 -> Apply and analyze various design approaches such as Divide-and-Conquer, greedy and dynamic for problem solving . | P32: To be filled by students
A34: Indirect Survay Table
A35: Options | C35: Description | J35: Value
A36: Option 1 | C36: Acquired Very Well with proficiency | J36: 3
A37: Option 2 | C37: Acquired enough to do my work | J37: 2
A38: Option 3 | C38: Acquired Marginally | J38: 1
A39: Option 4 | C39: Did not acquire at all | J39: 0
L44: Name & Signature of the Student
