Workbook

Sheet DATA INPUT SHEET
A1: Kanpur Institute of Technology, Kanpur
A2: Common Data Input Sheet
A3: Semester: III | E3: Name of the Faculty: Dr. Prateek Gangwar
A4: Subject Code: BME-303 | F4: Total No. of Students: 18 | K4: Subject Name:Materials Engineering
A7: CO DESCRIPTION TABLE
A8: CO LIST | D8: DESCRIPTION
A9: CO1 | D9: Student will be able to identify crystal structures for various materials and understand the defects in such structures
A10: CO2 | D10: Understand how to tailor material properties of ferrous and non-ferrous alloys.
A11: CO3 | D11: To understand method of Grinding & Superfinishing for betterment of the manufacturing product.
A12: CO4 | D12: To learn various hardness test.
A13: CO5 | D13: Basic knowledge of NDT.
A16: CO-PO Matrix
A17: S.No. | B17: CO/PO | C17: STATUS | D17: PO1 | E17: PO2 | F17: PO3 | G17: PO4 | H17: PO5 | I17: PO6 | J17: PO7 | K17: PO8 | L17: PO9 | M17: PO10 | N17: PO11 | O17: PO12 | P17: PSO1 | Q17: PSO2 | R17: PSO3
A18: 1 | B18: CO1 | C18: A | D18: 3 | E18: 1 | F18: 2 | G18: 2 | H18: 2 | I18: - | J18: - | K18: - | L18: - | M18: 2 | N18: - | O18: 2 | P18: 2 | Q18: 2 | R18: 2
A19: 2 | B19: CO2 | C19: A | D19: 2 | E19: 3 | F19: 2 | G19: 2 | H19: 1 | I19: - | J19: - | K19: - | L19: - | M19: 2 | N19: - | O19: 2 | P19: 2 | Q19: 2 | R19: 2
A20: 3 | B20: CO3 | C20: A | D20: 3 | E20: 3 | F20: 3 | G20: 2 | H20: 2 | I20: - | J20: - | K20: - | L20: - | M20: 2 | N20: - | O20: 2 | P20: 2 | Q20: 2 | R20: 2
A21: 4 | B21: CO4 | C21: A | D21: 2 | E21: 3 | F21: 3 | G21: 3 | H21: 2 | I21: - | J21: - | K21: - | L21: - | M21: 2 | N21: - | O21: 2 | P21: 2 | Q21: 2 | R21: 2
A22: 5 | B22: CO5 | C22: A | D22: 3 | E22: 3 | F22: 3 | G22: 2 | H22: 2 | M22: 2 | O22: 2 | P22: 2 | Q22: 2 | R22: 2
A23: ( Please Fill up 'NA' in STATUS COLUMN if any CO is NOT APPLICABLE)

Sheet Internal
A1: Kanpur Institute of Technology, Kanpur
A2: Assessment Sheet for PU
A3: ='DATA INPUT SHEET'!A3:D3 -> Semester: III | E3: ='DATA INPUT SHEET'!E3:Q3 -> Name of the Faculty: Dr. Prateek Gangwar | K3: ='DATA INPUT SHEET'!A4 -> Subject Code: BME-303
A4: ='DATA INPUT SHEET'!A9:C9 -> CO1 | D4: ='DATA INPUT SHEET'!D9:Q9 -> Student will be able to identify crystal structures for various materials and understand the defects in such structures
A5: ='DATA INPUT SHEET'!A10:C10 -> CO2 | D5: ='DATA INPUT SHEET'!D10:Q10 -> Understand how to tailor material properties of ferrous and non-ferrous alloys.
A6: ='DATA INPUT SHEET'!A11:C11 -> CO3 | D6: ='DATA INPUT SHEET'!D11:Q11 -> To understand method of Grinding & Superfinishing for betterment of the manufacturing product.
A7: ='DATA INPUT SHEET'!A12:C12 -> CO4 | D7: ='DATA INPUT SHEET'!D12:Q12 -> To learn various hardness test.
A8: ='DATA INPUT SHEET'!A13:C13 -> CO5 | D8: ='DATA INPUT SHEET'!D13:Q13 -> Basic knowledge of NDT.
A9: S.No | B9: SEC | C9: Roll No | D9: Student Name | E9: Total Present Status | F9: Internal | G9: Out of | H9: CO attained
F10: CO
F11: marks | H11: =IF(H13=0,"NOT APPLICABLE","APPLICABLE") -> APPLICABLE
H12: CO | I12: AL:1 | J12: AL:2 | K12: AL:3
A13: Distribution of Marks | E13: 30 | F13: 30 | G13: =SUM(F13:F13) -> 30 | H13: =SUMIF($F$10:$F$10,$H$12,$F$13:$F$13) -> 30 | I13: <40% | J13: >=40% & <60% | K13: >=60%
A14: 1 | B14: A | C14: 2101650400002 | D14: AKASHSHARMA | E14: P | F14: 20 | G14: =IF(E14="A","A",IF(COUNTBLANK(F14:F14)=COUNT($F$13:$F$13),"ERROR",SUM(F14:F14))) -> 20 | H14: =IF(E14="P",IF(ISNUMBER(MATCH($H$12,$F$10:$F$10,0)),(SUMIF($F$10:$F$10,$H$12,F14:F14)),"NA"),"A") -> 20 | I14: =IF(H14="A","A",IF(COUNTBLANK(F14:F14)=COUNT($F$13:$F$13),0,IF(H14="NA",0,IF(H14<($H$13*40)/100,1,0)))) -> 0 | J14: =IF(H14="A","A",IF(H14="NA",0,IF(AND(H14>=($H$13*40)/100,H14<($H$13*60)/100),1,0))) -> 0 | K14: =IF(H14="A","A",IF(H14="NA",0,IF(H14>=($H$13*60)/100,1,0))) -> 1
A15: 2 | B15: A | C15: 2201650400001 | D15: ABDULREHMAN | E15: P | F15: 30 | G15: =IF(E15="A","A",IF(COUNTBLANK(F15:F15)=COUNT($F$13:$F$13),"ERROR",SUM(F15:F15))) -> 30 | H15: =IF(E15="P",IF(ISNUMBER(MATCH($H$12,$F$10:$F$10,0)),(SUMIF($F$10:$F$10,$H$12,F15:F15)),"NA"),"A") -> 30 | I15: =IF(H15="A","A",IF(COUNTBLANK(F15:F15)=COUNT($F$13:$F$13),0,IF(H15="NA",0,IF(H15<($H$13*40)/100,1,0)))) -> 0 | J15: =IF(H15="A","A",IF(H15="NA",0,IF(AND(H15>=($H$13*40)/100,H15<($H$13*60)/100),1,0))) -> 0 | K15: =IF(H15="A","A",IF(H15="NA",0,IF(H15>=($H$13*60)/100,1,0))) -> 1
A16: 3 | B16: A | C16: 2201650400002 | D16: ABHISHEKSINGH | E16: P | F16: 23 | G16: =IF(E16="A","A",IF(COUNTBLANK(F16:F16)=COUNT($F$13:$F$13),"ERROR",SUM(F16:F16))) -> 23 | H16: =IF(E16="P",IF(ISNUMBER(MATCH($H$12,$F$10:$F$10,0)),(SUMIF($F$10:$F$10,$H$12,F16:F16)),"NA"),"A") -> 23 | I16: =IF(H16="A","A",IF(COUNTBLANK(F16:F16)=COUNT($F$13:$F$13),0,IF(H16="NA",0,IF(H16<($H$13*40)/100,1,0)))) -> 0 | J16: =IF(H16="A","A",IF(H16="NA",0,IF(AND(H16>=($H$13*40)/100,H16<($H$13*60)/100),1,0))) -> 0 | K16: =IF(H16="A","A",IF(H16="NA",0,IF(H16>=($H$13*60)/100,1,0))) -> 1
A17: 4 | B17: A | C17: 2201650400004 | D17: AMANKUMAR | E17: P | F17: 30 | G17: =IF(E17="A","A",IF(COUNTBLANK(F17:F17)=COUNT($F$13:$F$13),"ERROR",SUM(F17:F17))) -> 30 | H17: =IF(E17="P",IF(ISNUMBER(MATCH($H$12,$F$10:$F$10,0)),(SUMIF($F$10:$F$10,$H$12,F17:F17)),"NA"),"A") -> 30 | I17: =IF(H17="A","A",IF(COUNTBLANK(F17:F17)=COUNT($F$13:$F$13),0,IF(H17="NA",0,IF(H17<($H$13*40)/100,1,0)))) -> 0 | J17: =IF(H17="A","A",IF(H17="NA",0,IF(AND(H17>=($H$13*40)/100,H17<($H$13*60)/100),1,0))) -> 0 | K17: =IF(H17="A","A",IF(H17="NA",0,IF(H17>=($H$13*60)/100,1,0))) -> 1
A18: 5 | B18: A | C18: 2201650400007 | D18: GULSHANKUMARKASHYAP | E18: P | F18: 26 | G18: =IF(E18="A","A",IF(COUNTBLANK(F18:F18)=COUNT($F$13:$F$13),"ERROR",SUM(F18:F18))) -> 26 | H18: =IF(E18="P",IF(ISNUMBER(MATCH($H$12,$F$10:$F$10,0)),(SUMIF($F$10:$F$10,$H$12,F18:F18)),"NA"),"A") -> 26 | I18: =IF(H18="A","A",IF(COUNTBLANK(F18:F18)=COUNT($F$13:$F$13),0,IF(H18="NA",0,IF(H18<($H$13*40)/100,1,0)))) -> 0 | J18: =IF(H18="A","A",IF(H18="NA",0,IF(AND(H18>=($H$13*40)/100,H18<($H$13*60)/100),1,0))) -> 0 | K18: =IF(H18="A","A",IF(H18="NA",0,IF(H18>=($H$13*60)/100,1,0))) -> 1
A19: 6 | B19: A | C19: 2201650400008 | D19: HARSHITSHARMA | E19: P | F19: 25 | G19: =IF(E19="A","A",IF(COUNTBLANK(F19:F19)=COUNT($F$13:$F$13),"ERROR",SUM(F19:F19))) -> 25 | H19: =IF(E19="P",IF(ISNUMBER(MATCH($H$12,$F$10:$F$10,0)),(SUMIF($F$10:$F$10,$H$12,F19:F19)),"NA"),"A") -> 25 | I19: =IF(H19="A","A",IF(COUNTBLANK(F19:F19)=COUNT($F$13:$F$13),0,IF(H19="NA",0,IF(H19<($H$13*40)/100,1,0)))) -> 0 | J19: =IF(H19="A","A",IF(H19="NA",0,IF(AND(H19>=($H$13*40)/100,H19<($H$13*60)/100),1,0))) -> 0 | K19: =IF(H19="A","A",IF(H19="NA",0,IF(H19>=($H$13*60)/100,1,0))) -> 1
A20: 7 | B20: A | C20: 2201650400009 | D20: PAWANKUMAR | E20: P | F20: 23 | G20: =IF(E20="A","A",IF(COUNTBLANK(F20:F20)=COUNT($F$13:$F$13),"ERROR",SUM(F20:F20))) -> 23 | H20: =IF(E20="P",IF(ISNUMBER(MATCH($H$12,$F$10:$F$10,0)),(SUMIF($F$10:$F$10,$H$12,F20:F20)),"NA"),"A") -> 23 | I20: =IF(H20="A","A",IF(COUNTBLANK(F20:F20)=COUNT($F$13:$F$13),0,IF(H20="NA",0,IF(H20<($H$13*40)/100,1,0)))) -> 0 | J20: =IF(H20="A","A",IF(H20="NA",0,IF(AND(H20>=($H$13*40)/100,H20<($H$13*60)/100),1,0))) -> 0 | K20: =IF(H20="A","A",IF(H20="NA",0,IF(H20>=($H$13*60)/100,1,0))) -> 1
A21: 8 | B21: A | C21: 2201650400013 | D21: SHIVAMTIWARI | E21: P | F21: 19 | G21: =IF(E21="A","A",IF(COUNTBLANK(F21:F21)=COUNT($F$13:$F$13),"ERROR",SUM(F21:F21))) -> 19 | H21: =IF(E21="P",IF(ISNUMBER(MATCH($H$12,$F$10:$F$10,0)),(SUMIF($F$10:$F$10,$H$12,F21:F21)),"NA"),"A") -> 19 | I21: =IF(H21="A","A",IF(COUNTBLANK(F21:F21)=COUNT($F$13:$F$13),0,IF(H21="NA",0,IF(H21<($H$13*40)/100,1,0)))) -> 0 | J21: =IF(H21="A","A",IF(H21="NA",0,IF(AND(H21>=($H$13*40)/100,H21<($H$13*60)/100),1,0))) -> 0 | K21: =IF(H21="A","A",IF(H21="NA",0,IF(H21>=($H$13*60)/100,1,0))) -> 1
A22: 9 | B22: A | C22: 2201650400014 | D22: TIWARI SHITESHSANTOSHKUMAR | E22: P | F22: 23 | G22: =IF(E22="A","A",IF(COUNTBLANK(F22:F22)=COUNT($F$13:$F$13),"ERROR",SUM(F22:F22))) -> 23 | H22: =IF(E22="P",IF(ISNUMBER(MATCH($H$12,$F$10:$F$10,0)),(SUMIF($F$10:$F$10,$H$12,F22:F22)),"NA"),"A") -> 23 | I22: =IF(H22="A","A",IF(COUNTBLANK(F22:F22)=COUNT($F$13:$F$13),0,IF(H22="NA",0,IF(H22<($H$13*40)/100,1,0)))) -> 0 | J22: =IF(H22="A","A",IF(H22="NA",0,IF(AND(H22>=($H$13*40)/100,H22<($H$13*60)/100),1,0))) -> 0 | K22: =IF(H22="A","A",IF(H22="NA",0,IF(H22>=($H$13*60)/100,1,0))) -> 1
A23: 10 | B23: A | C23: 2201650400015 | D23: VIRATSHARMA | E23: P | F23: 30 | G23: =IF(E23="A","A",IF(COUNTBLANK(F23:F23)=COUNT($F$13:$F$13),"ERROR",SUM(F23:F23))) -> 30 | H23: =IF(E23="P",IF(ISNUMBER(MATCH($H$12,$F$10:$F$10,0)),(SUMIF($F$10:$F$10,$H$12,F23:F23)),"NA"),"A") -> 30 | I23: =IF(H23="A","A",IF(COUNTBLANK(F23:F23)=COUNT($F$13:$F$13),0,IF(H23="NA",0,IF(H23<($H$13*40)/100,1,0)))) -> 0 | J23: =IF(H23="A","A",IF(H23="NA",0,IF(AND(H23>=($H$13*40)/100,H23<($H$13*60)/100),1,0))) -> 0 | K23: =IF(H23="A","A",IF(H23="NA",0,IF(H23>=($H$13*60)/100,1,0))) -> 1
A24: 11 | B24: A | C24: 2301650409001 | D24: ABHINAV TIWARI | E24: P | F24: 16 | G24: =IF(E24="A","A",IF(COUNTBLANK(F24:F24)=COUNT($F$13:$F$13),"ERROR",SUM(F24:F24))) -> 16 | H24: =IF(E24="P",IF(ISNUMBER(MATCH($H$12,$F$10:$F$10,0)),(SUMIF($F$10:$F$10,$H$12,F24:F24)),"NA"),"A") -> 16 | I24: =IF(H24="A","A",IF(COUNTBLANK(F24:F24)=COUNT($F$13:$F$13),0,IF(H24="NA",0,IF(H24<($H$13*40)/100,1,0)))) -> 0 | J24: =IF(H24="A","A",IF(H24="NA",0,IF(AND(H24>=($H$13*40)/100,H24<($H$13*60)/100),1,0))) -> 1 | K24: =IF(H24="A","A",IF(H24="NA",0,IF(H24>=($H$13*60)/100,1,0))) -> 0
A25: 12 | B25: A | C25: 2301650409002 | D25: ABHISHEKKASHYAP | E25: P | F25: 24 | G25: =IF(E25="A","A",IF(COUNTBLANK(F25:F25)=COUNT($F$13:$F$13),"ERROR",SUM(F25:F25))) -> 24 | H25: =IF(E25="P",IF(ISNUMBER(MATCH($H$12,$F$10:$F$10,0)),(SUMIF($F$10:$F$10,$H$12,F25:F25)),"NA"),"A") -> 24 | I25: =IF(H25="A","A",IF(COUNTBLANK(F25:F25)=COUNT($F$13:$F$13),0,IF(H25="NA",0,IF(H25<($H$13*40)/100,1,0)))) -> 0 | J25: =IF(H25="A","A",IF(H25="NA",0,IF(AND(H25>=($H$13*40)/100,H25<($H$13*60)/100),1,0))) -> 0 | K25: =IF(H25="A","A",IF(H25="NA",0,IF(H25>=($H$13*60)/100,1,0))) -> 1
... A31: 18 | B31: A | C31: 2301650409009 | D31: RIYANKPORWAL | E31: P | F31: 26 | G31: =IF(E31="A","A",IF(COUNTBLANK(F31:F31)=COUNT($F$13:$F$13),"ERROR",SUM(F31:F31))) -> 26 | H31: =IF(E31="P",IF(ISNUMBER(MATCH($H$12,$F$10:$F$10,0)),(SUMIF($F$10:$F$10,$H$12,F31:F31)),"NA"),"A") -> 26 | I31: =IF(H31="A","A",IF(COUNTBLANK(F31:F31)=COUNT($F$13:$F$13),0,IF(H31="NA",0,IF(H31<($H$13*40)/100,1,0)))) -> 0 | J31: =IF(H31="A","A",IF(H31="NA",0,IF(AND(H31>=($H$13*40)/100,H31<($H$13*60)/100),1,0))) -> 0 | K31: =IF(H31="A","A",IF(H31="NA",0,IF(H31>=($H$13*60)/100,1,0))) -> 1
A32: 19 | B32: A
A33: 20 | B33: A
A34: 21 | B34: A
A35: 22 | B35: A
A36: 23 | B36: A
A37: 24 | B37: A
A38: 25 | B38: A
A39: 26 | B39: A
A40: 27 | B40: A
A41: 28 | B41: A
A42: 29 | B42: A
A43: 30 | B43: A
... A93: 80 | B93: A
G94: Total | H94: CO | I94: =SUM(I14:I93) -> 0 | J94: =SUM(J14:J93) -> 2 | K94: =SUM(K14:K93) -> 16
G95: % Student | I95: =IF($E$13=0,0,(I94*100)/$E$13) -> 0 | J95: =IF($E$13=0,0,(J94*100)/$E$13) -> 6.6666667 | K95: =IF($E$13=0,0,(K94*100)/$E$13) -> 53.333333
G96: % CO attained | I96: =IF(H13=0,"NOT APPLICABLE",ROUND((I95+2*J95+3*K95)/3,2)) -> 57.78

Sheet Student Feedback Analysis
A1: Kanpur Institute of Technology, Kanpur
A2: Assessment Sheet for Feedback
A3: ='DATA INPUT SHEET'!A3:E3 -> Semester: III | E3: ='DATA INPUT SHEET'!E3:Q3 -> Name of the Faculty: Dr. Prateek Gangwar
A4: ='DATA INPUT SHEET'!A4:E4 -> Subject Code: BME-303 | H4: ='DATA INPUT SHEET'!K4 -> Subject Name:Materials Engineering
A5: ='DATA INPUT SHEET'!A9:C9 -> CO1 | D5: ='DATA INPUT SHEET'!D9 -> Student will be able to identify crystal structures for various materials and understand the defects in such structures
A6: ='DATA INPUT SHEET'!A10:C10 -> CO2 | D6: ='DATA INPUT SHEET'!D10:Q10 -> Understand how to tailor material properties of ferrous and non-ferrous alloys.
A7: ='DATA INPUT SHEET'!A11:C11 -> CO3 | D7: ='DATA INPUT SHEET'!D11:Q11 -> To understand method of Grinding & Superfinishing for betterment of the manufacturing product.
A8: ='DATA INPUT SHEET'!A12:C12 -> CO4 | D8: ='DATA INPUT SHEET'!D12:Q12 -> To learn various hardness test.
A9: ='DATA INPUT SHEET'!A13:C13 -> CO5 | D9: ='DATA INPUT SHEET'!D13:Q13 -> Basic knowledge of NDT.
F10: Course Outcomes | K10: CO1 Feedback | L10: CO2 Feedback | M10: CO3 Feedback | N10: CO4 feedback | O10: CO5 feedback
F11: CO1 | G11: CO2 | H11: CO3 | I11: CO4 | J11: CO5 | K11: =IF(F$12="NA","NOT APPLICABLE","APPLICABLE") -> APPLICABLE | L11: =IF(G$12="NA","NOT APPLICABLE","APPLICABLE") -> APPLICABLE | M11: =IF(H$12="NA","NOT APPLICABLE","APPLICABLE") -> APPLICABLE | N11: =IF(I$12="NA","NOT APPLICABLE","APPLICABLE") -> APPLICABLE | O11: =IF(J$12="NA","NOT APPLICABLE","APPLICABLE") -> APPLICABLE
F12: =INDEX('DATA INPUT SHEET'!$C$18:$C$22,MATCH('Student Feedback Analysis'!$F$11:$J$11,'DATA INPUT SHEET'!$B$18:$B$22,0)) -> A | G12: =INDEX('DATA INPUT SHEET'!$C$18:$C$22,MATCH('Student Feedback Analysis'!$F$11:$J$11,'DATA INPUT SHEET'!$B$18:$B$22,0)) -> A | H12: =INDEX('DATA INPUT SHEET'!$C$18:$C$22,MATCH('Student Feedback Analysis'!$F$11:$J$11,'DATA INPUT SHEET'!$B$18:$B$22,0)) -> A | I12: =INDEX('DATA INPUT SHEET'!$C$18:$C$22,MATCH('Student Feedback Analysis'!$F$11:$J$11,'DATA INPUT SHEET'!$B$18:$B$22,0)) -> A | J12: =INDEX('DATA INPUT SHEET'!$C$18:$C$22,MATCH('Student Feedback Analysis'!$F$11:$J$11,'DATA INPUT SHEET'!$B$18:$B$22,0)) -> A
C13: Total Students | D13: 30 | F13: No of students in option1 (3) | K13: 25 | L13: 33 | M13: 34 | N13: 30 | O13: 32
F14: No. of students for option2 (2) | K14: 25 | L14: 20 | M14: 17 | N14: 18 | O14: 19
F15: No. of students in option3 (1) | K15: 6 | L15: 3 | M15: 6 | N15: 9 | O15: 5
F16: No. of students in option4 (0) | K16: 1 | L16: 1 | M16: 0 | N16: 0 | O16: 1
K17: =K13+K14+K15+K16 -> 57 | L17: =L13+L14+L15+L16 -> 57 | M17: =M13+M14+M15+M16 -> 57 | N17: =N13+N14+N15+N16 -> 57 | O17: =O13+O14+O15+O16 -> 57

Sheet UNIVERSITY
A1: Kanpur Institute of Technology, Kanpur
A2: Assessment Sheet for UNIVERSITY
A3: ='DATA INPUT SHEET'!A3:E3 -> Semester: III | E3: ='DATA INPUT SHEET'!E3:Q3 -> Name of the Faculty: Dr. Prateek Gangwar
A4: ='DATA INPUT SHEET'!A4:E4 -> Subject Code: BME-303 | E4: ='DATA INPUT SHEET'!K4 -> Subject Name:Materials Engineering
A5: ='DATA INPUT SHEET'!A9:C9 -> CO1 | D5: ='DATA INPUT SHEET'!D9:Q9 -> Student will be able to identify crystal structures for various materials and understand the defects in such structures
A6: ='DATA INPUT SHEET'!A10:C10 -> CO2 | D6: ='DATA INPUT SHEET'!D10:Q10 -> Understand how to tailor material properties of ferrous and non-ferrous alloys.
A7: ='DATA INPUT SHEET'!A11:C11 -> CO3 | D7: ='DATA INPUT SHEET'!D11:Q11 -> To understand method of Grinding & Superfinishing for betterment of the manufacturing product.
A8: ='DATA INPUT SHEET'!A12:C12 -> CO4 | D8: ='DATA INPUT SHEET'!D12:Q12 -> To learn various hardness test.
A9: ='DATA INPUT SHEET'!A13:C13 -> CO5 | D9: ='DATA INPUT SHEET'!D13:Q13 -> Basic knowledge of NDT.
A10: S.No | B10: SEC | C10: Roll No | D10: Student Name | E10: Total Present Status | F10: From University | G10: Out of | H10: UNIVERSITY ATTAINTMENT
H11: =IF($G$13=0,"NOT APPLICABLE","APPLICABLE") -> APPLICABLE
H12: AL:1 | I12: AL:2 | J12: AL:3
A13: Distribution of Marks | E13: 30 | F13: 70 | G13: 70 | H13: <40% | I13: >=40% & <60% | J13: >=60%
A14: 1 | B14: =Internal!B14 -> A | C14: =Internal!C14 -> 2101650400002 | D14: =Internal!D14 -> AKASHSHARMA | E14: P | F14: 34 | G14: 34 | H14: =IF(ISBLANK(G14),0,IF(E14="A","A",IF(G14<($G$13*40)/100,1,0))) -> 0 | I14: =IF(G14="A","A",IF(AND(G14>=($G$13*40)/100,G14<($G$13*60)/100),1,0)) -> 1 | J14: =IF(E14="A","A",IF(ISNUMBER(G14),IF(G14>=($G$13*60)/100,1,0),0)) -> 0
A15: 2 | B15: =Internal!B15 -> A | C15: =Internal!C15 -> 2201650400001 | D15: =Internal!D15 -> ABDULREHMAN | E15: P | F15: 45 | G15: 45 | H15: =IF(ISBLANK(G15),0,IF(E15="A","A",IF(G15<($G$13*40)/100,1,0))) -> 0 | I15: =IF(G15="A","A",IF(AND(G15>=($G$13*40)/100,G15<($G$13*60)/100),1,0)) -> 0 | J15: =IF(E15="A","A",IF(ISNUMBER(G15),IF(G15>=($G$13*60)/100,1,0),0)) -> 1
A16: 3 | B16: =Internal!B16 -> A | C16: =Internal!C16 -> 2201650400002 | D16: =Internal!D16 -> ABHISHEKSINGH | E16: P | F16: 26 | G16: 26 | H16: =IF(ISBLANK(G16),0,IF(E16="A","A",IF(G16<($G$13*40)/100,1,0))) -> 1 | I16: =IF(G16="A","A",IF(AND(G16>=($G$13*40)/100,G16<($G$13*60)/100),1,0)) -> 0 | J16: =IF(E16="A","A",IF(ISNUMBER(G16),IF(G16>=($G$13*60)/100,1,0),0)) -> 0
A17: 4 | B17: =Internal!B17 -> A | C17: =Internal!C17 -> 2201650400004 | D17: =Internal!D17 -> AMANKUMAR | E17: P | F17: 40 | G17: 40 | H17: =IF(ISBLANK(G17),0,IF(E17="A","A",IF(G17<($G$13*40)/100,1,0))) -> 0 | I17: =IF(G17="A","A",IF(AND(G17>=($G$13*40)/100,G17<($G$13*60)/100),1,0)) -> 1 | J17: =IF(E17="A","A",IF(ISNUMBER(G17),IF(G17>=($G$13*60)/100,1,0),0)) -> 0
A18: 5 | B18: =Internal!B18 -> A | C18: =Internal!C18 -> 2201650400007 | D18: =Internal!D18 -> GULSHANKUMARKASHYAP | E18: P | F18: 21 | G18: 21 | H18: =IF(ISBLANK(G18),0,IF(E18="A","A",IF(G18<($G$13*40)/100,1,0))) -> 1 | I18: =IF(G18="A","A",IF(AND(G18>=($G$13*40)/100,G18<($G$13*60)/100),1,0)) -> 0 | J18: =IF(E18="A","A",IF(ISNUMBER(G18),IF(G18>=($G$13*60)/100,1,0),0)) -> 0
A19: 6 | B19: =Internal!B19 -> A | C19: =Internal!C19 -> 2201650400008 | D19: =Internal!D19 -> HARSHITSHARMA | E19: P | F19: 42 | G19: 42 | H19: =IF(ISBLANK(G19),0,IF(E19="A","A",IF(G19<($G$13*40)/100,1,0))) -> 0 | I19: =IF(G19="A","A",IF(AND(G19>=($G$13*40)/100,G19<($G$13*60)/100),1,0)) -> 0 | J19: =IF(E19="A","A",IF(ISNUMBER(G19),IF(G19>=($G$13*60)/100,1,0),0)) -> 1
A20: 7 | B20: =Internal!B20 -> A | C20: =Internal!C20 -> 2201650400009 | D20: =Internal!D20 -> PAWANKUMAR | E20: P | F20: 31 | G20: 31 | H20: =IF(ISBLANK(G20),0,IF(E20="A","A",IF(G20<($G$13*40)/100,1,0))) -> 0 | I20: =IF(G20="A","A",IF(AND(G20>=($G$13*40)/100,G20<($G$13*60)/100),1,0)) -> 1 | J20: =IF(E20="A","A",IF(ISNUMBER(G20),IF(G20>=($G$13*60)/100,1,0),0)) -> 0
A21: 8 | B21: =Internal!B21 -> A | C21: =Internal!C21 -> 2201650400013 | D21: =Internal!D21 -> SHIVAMTIWARI | E21: P | F21: 21 | G21: 21 | H21: =IF(ISBLANK(G21),0,IF(E21="A","A",IF(G21<($G$13*40)/100,1,0))) -> 1 | I21: =IF(G21="A","A",IF(AND(G21>=($G$13*40)/100,G21<($G$13*60)/100),1,0)) -> 0 | J21: =IF(E21="A","A",IF(ISNUMBER(G21),IF(G21>=($G$13*60)/100,1,0),0)) -> 0
A22: 9 | B22: =Internal!B22 -> A | C22: =Internal!C22 -> 2201650400014 | D22: =Internal!D22 -> TIWARI SHITESHSANTOSHKUMAR | E22: P | F22: 22 | G22: 22 | H22: =IF(ISBLANK(G22),0,IF(E22="A","A",IF(G22<($G$13*40)/100,1,0))) -> 1 | I22: =IF(G22="A","A",IF(AND(G22>=($G$13*40)/100,G22<($G$13*60)/100),1,0)) -> 0 | J22: =IF(E22="A","A",IF(ISNUMBER(G22),IF(G22>=($G$13*60)/100,1,0),0)) -> 0
A23: 10 | B23: =Internal!B23 -> A | C23: =Internal!C23 -> 2201650400015 | D23: =Internal!D23 -> VIRATSHARMA | E23: P | F23: 29 | G23: 29 | H23: =IF(ISBLANK(G23),0,IF(E23="A","A",IF(G23<($G$13*40)/100,1,0))) -> 0 | I23: =IF(G23="A","A",IF(AND(G23>=($G$13*40)/100,G23<($G$13*60)/100),1,0)) -> 1 | J23: =IF(E23="A","A",IF(ISNUMBER(G23),IF(G23>=($G$13*60)/100,1,0),0)) -> 0
A24: 11 | B24: =Internal!B24 -> A | C24: =Internal!C24 -> 2301650409001 | D24: =Internal!D24 -> ABHINAV TIWARI | E24: P | F24: 21 | G24: 21 | H24: =IF(ISBLANK(G24),0,IF(E24="A","A",IF(G24<($G$13*40)/100,1,0))) -> 1 | I24: =IF(G24="A","A",IF(AND(G24>=($G$13*40)/100,G24<($G$13*60)/100),1,0)) -> 0 | J24: =IF(E24="A","A",IF(ISNUMBER(G24),IF(G24>=($G$13*60)/100,1,0),0)) -> 0
A25: 12 | B25: =Internal!B25 -> A | C25: =Internal!C25 -> 2301650409002 | D25: =Internal!D25 -> ABHISHEKKASHYAP | E25: P | F25: 38 | G25: 38 | H25: =IF(ISBLANK(G25),0,IF(E25="A","A",IF(G25<($G$13*40)/100,1,0))) -> 0 | I25: =IF(G25="A","A",IF(AND(G25>=($G$13*40)/100,G25<($G$13*60)/100),1,0)) -> 1 | J25: =IF(E25="A","A",IF(ISNUMBER(G25),IF(G25>=($G$13*60)/100,1,0),0)) -> 0
... A31: 18 | B31: =Internal!B31 -> A | C31: =Internal!C31 -> 2301650409009 | D31: =Internal!D31 -> RIYANKPORWAL | E31: P | F31: 22 | G31: 22 | H31: =IF(ISBLANK(G31),0,IF(E31="A","A",IF(G31<($G$13*40)/100,1,0))) -> 1 | I31: =IF(G31="A","A",IF(AND(G31>=($G$13*40)/100,G31<($G$13*60)/100),1,0)) -> 0 | J31: =IF(E31="A","A",IF(ISNUMBER(G31),IF(G31>=($G$13*60)/100,1,0),0)) -> 0
A32: 19 | B32: =Internal!B32 -> A | C32: =Internal!C32 -> 0 | D32: =Internal!D32 -> 0 | E32: P | H32: =IF(ISBLANK(G32),0,IF(E32="A","A",IF(G32<($G$13*40)/100,1,0))) -> 0 | I32: =IF(G32="A","A",IF(AND(G32>=($G$13*40)/100,G32<($G$13*60)/100),1,0)) -> 0 | J32: =IF(E32="A","A",IF(ISNUMBER(G32),IF(G32>=($G$13*60)/100,1,0),0)) -> 0
A33: 20 | B33: =Internal!B33 -> A | C33: =Internal!C33 -> 0 | D33: =Internal!D33 -> 0 | E33: P | H33: =IF(ISBLANK(G33),0,IF(E33="A","A",IF(G33<($G$13*40)/100,1,0))) -> 0 | I33: =IF(G33="A","A",IF(AND(G33>=($G$13*40)/100,G33<($G$13*60)/100),1,0)) -> 0 | J33: =IF(E33="A","A",IF(ISNUMBER(G33),IF(G33>=($G$13*60)/100,1,0),0)) -> 0
A34: 21 | B34: =Internal!B34 -> A | C34: =Internal!C34 -> 0 | D34: =Internal!D34 -> 0 | E34: P | H34: =IF(ISBLANK(G34),0,IF(E34="A","A",IF(G34<($G$13*40)/100,1,0))) -> 0 | I34: =IF(G34="A","A",IF(AND(G34>=($G$13*40)/100,G34<($G$13*60)/100),1,0)) -> 0 | J34: =IF(E34="A","A",IF(ISNUMBER(G34),IF(G34>=($G$13*60)/100,1,0),0)) -> 0
A35: 22 | B35: =Internal!B35 -> A | C35: =Internal!C35 -> 0 | D35: =Internal!D35 -> 0 | E35: P | H35: =IF(ISBLANK(G35),0,IF(E35="A","A",IF(G35<($G$13*40)/100,1,0))) -> 0 | I35: =IF(G35="A","A",IF(AND(G35>=($G$13*40)/100,G35<($G$13*60)/100),1,0)) -> 0 | J35: =IF(E35="A","A",IF(ISNUMBER(G35),IF(G35>=($G$13*60)/100,1,0),0)) -> 0
A36: 23 | B36: =Internal!B36 -> A | C36: =Internal!C36 -> 0 | D36: =Internal!D36 -> 0 | E36: P | H36: =IF(ISBLANK(G36),0,IF(E36="A","A",IF(G36<($G$13*40)/100,1,0))) -> 0 | I36: =IF(G36="A","A",IF(AND(G36>=($G$13*40)/100,G36<($G$13*60)/100),1,0)) -> 0 | J36: =IF(E36="A","A",IF(ISNUMBER(G36),IF(G36>=($G$13*60)/100,1,0),0)) -> 0
A37: 24 | B37: =Internal!B37 -> A | C37: =Internal!C37 -> 0 | D37: =Internal!D37 -> 0 | E37: P | H37: =IF(ISBLANK(G37),0,IF(E37="A","A",IF(G37<($G$13*40)/100,1,0))) -> 0 | I37: =IF(G37="A","A",IF(AND(G37>=($G$13*40)/100,G37<($G$13*60)/100),1,0)) -> 0 | J37: =IF(E37="A","A",IF(ISNUMBER(G37),IF(G37>=($G$13*60)/100,1,0),0)) -> 0
A38: 25 | B38: =Internal!B38 -> A | C38: =Internal!C38 -> 0 | D38: =Internal!D38 -> 0 | E38: P | H38: =IF(ISBLANK(G38),0,IF(E38="A","A",IF(G38<($G$13*40)/100,1,0))) -> 0 | I38: =IF(G38="A","A",IF(AND(G38>=($G$13*40)/100,G38<($G$13*60)/100),1,0)) -> 0 | J38: =IF(E38="A","A",IF(ISNUMBER(G38),IF(G38>=($G$13*60)/100,1,0),0)) -> 0
A39: 26 | B39: =Internal!B39 -> A | C39: =Internal!C39 -> 0 | D39: =Internal!D39 -> 0 | E39: P | H39: =IF(ISBLANK(G39),0,IF(E39="A","A",IF(G39<($G$13*40)/100,1,0))) -> 0 | I39: =IF(G39="A","A",IF(AND(G39>=($G$13*40)/100,G39<($G$13*60)/100),1,0)) -> 0 | J39: =IF(E39="A","A",IF(ISNUMBER(G39),IF(G39>=($G$13*60)/100,1,0),0)) -> 0
A40: 27 | B40: =Internal!B40 -> A | C40: =Internal!C40 -> 0 | D40: =Internal!D40 -> 0 | E40: P | H40: =IF(ISBLANK(G40),0,IF(E40="A","A",IF(G40<($G$13*40)/100,1,0))) -> 0 | I40: =IF(G40="A","A",IF(AND(G40>=($G$13*40)/100,G40<($G$13*60)/100),1,0)) -> 0 | J40: =IF(E40="A","A",IF(ISNUMBER(G40),IF(G40>=($G$13*60)/100,1,0),0)) -> 0
A41: 28 | B41: =Internal!B41 -> A | C41: =Internal!C41 -> 0 | D41: =Internal!D41 -> 0 | E41: P | H41: =IF(ISBLANK(G41),0,IF(E41="A","A",IF(G41<($G$13*40)/100,1,0))) -> 0 | I41: =IF(G41="A","A",IF(AND(G41>=($G$13*40)/100,G41<($G$13*60)/100),1,0)) -> 0 | J41: =IF(E41="A","A",IF(ISNUMBER(G41),IF(G41>=($G$13*60)/100,1,0),0)) -> 0
A42: 29 | B42: =Internal!B42 -> A | C42: =Internal!C42 -> 0 | D42: =Internal!D42 -> 0 | E42: P | H42: =IF(ISBLANK(G42),0,IF(E42="A","A",IF(G42<($G$13*40)/100,1,0))) -> 0 | I42: =IF(G42="A","A",IF(AND(G42>=($G$13*40)/100,G42<($G$13*60)/100),1,0)) -> 0 | J42: =IF(E42="A","A",IF(ISNUMBER(G42),IF(G42>=($G$13*60)/100,1,0),0)) -> 0
A43: 30 | B43: =Internal!B43 -> A | C43: =Internal!C43 -> 0 | D43: =Internal!D43 -> 0 | E43: P | H43: =IF(ISBLANK(G43),0,IF(E43="A","A",IF(G43<($G$13*40)/100,1,0))) -> 0 | I43: =IF(G43="A","A",IF(AND(G43>=($G$13*40)/100,G43<($G$13*60)/100),1,0)) -> 0 | J43: =IF(E43="A","A",IF(ISNUMBER(G43),IF(G43>=($G$13*60)/100,1,0),0)) -> 0
A44: 31 | B44: =Internal!B44 -> A | C44: =Internal!C44 -> 0
A45: 32 | B45: =Internal!B45 -> A | C45: =Internal!C45 -> 0
A46: 33 | B46: =Internal!B46 -> A | C46: =Internal!C46 -> 0
A47: 34 | B47: =Internal!B47 -> A | C47: =Internal!C47 -> 0
A48: 35 | B48: =Internal!B48 -> A | C48: =Internal!C48 -> 0
A49: 36 | B49: =Internal!B49 -> A | C49: =Internal!C49 -> 0
A50: 37 | B50: =Internal!B50 -> A | C50: =Internal!C50 -> 0
A51: 38 | B51: =Internal!B51 -> A | C51: =Internal!C51 -> 0
A52: 39 | B52: =Internal!B52 -> A | C52: =Internal!C52 -> 0
A53: 40 | B53: =Internal!B53 -> A | C53: =Internal!C53 -> 0
A54: 41 | B54: =Internal!B54 -> A | C54: =Internal!C54 -> 0
A55: 42 | B55: =Internal!B55 -> A | C55: =Internal!C55 -> 0
... A93: 80 | B93: =Internal!B93 -> A | C93: =Internal!C93 -> 0
G94: Total | H94: =SUM(H14:H93) -> 8 | I94: =SUM(I14:I93) -> 7 | J94: =SUM(J14:J93) -> 3
G95: % Student | H95: =IF($E$13=0,0,ROUND((H94*100)/$E$13,2)) -> 26.67 | I95: =IF($E$13=0,0,ROUND((I94*100)/$E$13,2)) -> 23.33 | J95: =IF($E$13=0,0,ROUND((J94*100)/$E$13,2)) -> 10
G96: % CO attained | H96: =IF($G$13=0,"NOT APPLICABLE",ROUND((H95+2*I95+3*J95)/3,2)) -> 34.44

Sheet COAttainment
A1: Kanpur Institute of Technology, Kanpur
A2: Assessment Sheet for CO Attainment
A3: ='DATA INPUT SHEET'!A3:E3 -> Semester: III | C3: ='DATA INPUT SHEET'!E3 -> Name of the Faculty: Dr. Prateek Gangwar
A4: ='DATA INPUT SHEET'!A4:E4 -> Subject Code: BME-303 | C4: ='DATA INPUT SHEET'!F4 -> Total No. of Students: 18 | E4: ='DATA INPUT SHEET'!K4 -> Subject Name:Materials Engineering
A5: ='DATA INPUT SHEET'!A9:C9 -> CO1 | C5: ='DATA INPUT SHEET'!D9 -> Student will be able to identify crystal structures for various materials and understand the defects in such structures
A6: ='DATA INPUT SHEET'!A10:C10 -> CO2 | C6: ='DATA INPUT SHEET'!D10 -> Understand how to tailor material properties of ferrous and non-ferrous alloys.
A7: ='DATA INPUT SHEET'!A11:C11 -> CO3 | C7: ='DATA INPUT SHEET'!D11 -> To understand method of Grinding & Superfinishing for betterment of the manufacturing product.
A8: ='DATA INPUT SHEET'!A12:C12 -> CO4 | C8: ='DATA INPUT SHEET'!D12 -> To learn various hardness test.
A9: ='DATA INPUT SHEET'!A13:C13 -> CO5 | C9: ='DATA INPUT SHEET'!D13 -> Basic knowledge of NDT.
A11: Direct Assessment
A12: S.No. | B12: Exam | C12: CO1 | D12: CO2 | E12: CO3 | F12: CO4 | G12: CO5
A13: 1 | B13: Internal | C13: =Internal!I96 -> 57.78 | D13: =Internal!I96 -> 57.78 | E13: =Internal!I96 -> 57.78 | F13: =Internal!I96 -> 57.78 | G13: =Internal!I96 -> 57.78
A14: Average | C14: =IF(SUMPRODUCT(--(C13:C13<>"NOT APPLICABLE"))=0,"NOT APPLICABLE",ROUND(AVERAGE(C13:C13),2)) -> 57.78 | D14: =IF(SUMPRODUCT(--(D13:D13<>"NOT APPLICABLE"))=0,"NOT APPLICABLE",ROUND(AVERAGE(D13:D13),2)) -> 57.78 | E14: =IF(SUMPRODUCT(--(E13:E13<>"NOT APPLICABLE"))=0,"NOT APPLICABLE",ROUND(AVERAGE(E13:E13),2)) -> 57.78 | F14: =IF(SUMPRODUCT(--(F13:F13<>"NOT APPLICABLE"))=0,"NOT APPLICABLE",ROUND(AVERAGE(F13:F13),2)) -> 57.78 | G14: =IF(SUMPRODUCT(--(G13:G13<>"NOT APPLICABLE"))=0,"NOT APPLICABLE",ROUND(AVERAGE(G13:G13),2)) -> 57.78
A16: Average % Students Attained Course Outcomes
A17: S.N. | B17: Course Outcome | C17: TOTAL % STUDENT WHO ATTAINED OUTCOME (Internal) | D17: TOTAL % STUDENT WHO ATTAINED OUTCOME (University) | E17: TOTAL % STUDENT WHO ATTAINED OUTCOME (Indirect -Survey) | F17: Goal
A18: 1 | B18: CO1 | C18: =C14 -> 57.78 | D18: =IF(C18="NOT APPLICABLE","NOT APPLICABLE",UNIVERSITY!$H$96) -> 34.44 | E18: =IF(C18="NOT APPLICABLE","NOT APPLICABLE",Indirect!J22) -> 76.608187 | F18: 60
A19: 2 | B19: CO2 | C19: =D14 -> 57.78 | D19: =IF(C19="NOT APPLICABLE","NOT APPLICABLE",UNIVERSITY!$H$96) -> 34.44 | E19: =IF(C19="NOT APPLICABLE","NOT APPLICABLE",Indirect!J23) -> 83.040936 | F19: =IF(C19="NOT APPLICABLE","NOT APPLICABLE",F18) -> 60
A20: 3 | B20: CO3 | C20: =E14 -> 57.78 | D20: =IF(C20="NOT APPLICABLE","NOT APPLICABLE",UNIVERSITY!$H$96) -> 34.44 | E20: =IF(C20="NOT APPLICABLE","NOT APPLICABLE",Indirect!J24) -> 83.040936 | F20: =IF(C20="NOT APPLICABLE","NOT APPLICABLE",F19) -> 60
A21: 4 | B21: CO4 | C21: =F14 -> 57.78 | D21: =IF(C21="NOT APPLICABLE","NOT APPLICABLE",UNIVERSITY!$H$96) -> 34.44 | E21: =IF(C21="NOT APPLICABLE","NOT APPLICABLE",Indirect!J25) -> 78.947368 | F21: =IF(C21="NOT APPLICABLE","NOT APPLICABLE",F20) -> 60
A22: 5 | B22: CO5 | C22: =G14 -> 57.78 | D22: =IF(C22="NOT APPLICABLE","NOT APPLICABLE",UNIVERSITY!$H$96) -> 34.44 | E22: =IF(C22="NOT APPLICABLE","NOT APPLICABLE",Indirect!J26) -> 81.28655 | F22: =IF(C22="NOT APPLICABLE","NOT APPLICABLE",F21) -> 60
A23: Average % Students Attained Course Outcomes | C23: =IF(SUMPRODUCT(--(C18:C22<>"NOT APPLICABLE"))=0,"NOT APPLICABLE",ROUND(AVERAGE(C18:C22),2)) -> 57.78 | D23: =IF(SUMPRODUCT(--(D18:D22<>"NOT APPLICABLE"))=0,"NOT APPLICABLE",ROUND(AVERAGE(D18:D22),2)) -> 34.44 | E23: =IF(SUMPRODUCT(--(E18:E22<>"NOT APPLICABLE"))=0,"NOT APPLICABLE",ROUND(AVERAGE(E18:E22),2)) -> 80.58 | F23: =IF(SUMPRODUCT(--(F18:F22<>"NOT APPLICABLE"))=0,"NOT APPLICABLE",ROUND(AVERAGE(F18:F22),2)) -> 60
B25: Weigtage of attainment level
B26: Direct Assessment | E26: 0.8
B27: Internal Assessment | E27: 0.6
B28: University Assessment | E28: 0.4
B29: Indirect Assessment | E29: 0.2
A31: % of students attained the outcome
A32: Assessment Types | C32: % of students attained CO1 | D32: % of students attained CO2 | E32: % of students attained CO3 | F32: % of students attained CO4 | G32: % of students attained CO5
A33: Internal Assessment (I) | C33: =C18 -> 57.78 | D33: =C19 -> 57.78 | E33: =C20 -> 57.78 | F33: =C21 -> 57.78 | G33: =C22 -> 57.78
A34: University Assessment (U) | C34: =IF(C33="NOT APPLICABLE","NOT APPLICABLE",UNIVERSITY!$H$96) -> 34.44 | D34: =IF(C33="NOT APPLICABLE","NOT APPLICABLE",UNIVERSITY!$H$96) -> 34.44 | E34: =IF(C33="NOT APPLICABLE","NOT APPLICABLE",UNIVERSITY!$H$96) -> 34.44 | F34: =IF(C33="NOT APPLICABLE","NOT APPLICABLE",UNIVERSITY!$H$96) -> 34.44 | G34: =IF(C33="NOT APPLICABLE","NOT APPLICABLE",UNIVERSITY!$H$96) -> 34.44
A35: Direct Assessment (DI) DI=0.6*I + 0.4* U | C35: =IF(C33="NOT APPLICABLE","NOT APPLICABLE",C33*0.6+C34*0.4) -> 48.444 | D35: =IF(D33="NOT APPLICABLE","NOT APPLICABLE",D33*0.6+D34*0.4) -> 48.444 | E35: =IF(E33="NOT APPLICABLE","NOT APPLICABLE",E33*0.6+E34*0.4) -> 48.444 | F35: =IF(F33="NOT APPLICABLE","NOT APPLICABLE",F33*0.6+F34*0.4) -> 48.444 | G35: =IF(G33="NOT APPLICABLE","NOT APPLICABLE",G33*0.6+G34*0.4) -> 48.444
A36: Indirect Assessment (ID) | C36: =E18 -> 76.608187 | D36: =E19 -> 83.040936 | E36: =E20 -> 83.040936 | F36: =E21 -> 78.947368 | G36: =E22 -> 81.28655
A37: Total = 0.8*DI + 0.2*ID | C37: =IF(SUMPRODUCT(--(C33:C36<>"NOT APPLICABLE"))=0,"NOT APPLICABLE",C35*0.8+C36*0.2) -> 54.076837 | D37: =IF(SUMPRODUCT(--(D33:D36<>"NOT APPLICABLE"))=0,"NOT APPLICABLE",D35*0.8+D36*0.2) -> 55.363387 | E37: =IF(SUMPRODUCT(--(E33:E36<>"NOT APPLICABLE"))=0,"NOT APPLICABLE",E35*0.8+E36*0.2) -> 55.363387 | F37: =IF(SUMPRODUCT(--(F33:F36<>"NOT APPLICABLE"))=0,"NOT APPLICABLE",F35*0.8+F36*0.2) -> 54.544674 | G37: =IF(SUMPRODUCT(--(G33:G36<>"NOT APPLICABLE"))=0,"NOT APPLICABLE",G35*0.8+G36*0.2) -> 55.01251
A40: Attainment Level: Rationale
A41: EE | B41: Exceed Expectation | D41: Attainment > 5% above the goal
A42: ME | B42: Meet Expectation | D42: 5% below the goal<=Attainment < 5% above the goal
A43: BE | B43: Below Expectation | D43: Attainment <5% below the goal
A45: Code | B45: Description | D45: Goal (%) | E45: Attainment obtained | G45: Attainment Level
A46: EE | B46: Attainment obtained > 58% | D46: =F23 -> 60 | E46: =CONCATENATE("Attainment value"," > ",ROUND(D46+(5*D46)/100,0)) -> Attainment value > 63 | G46: 3
A47: ME | B47: Attainment obtained between 52.% to 58% | E47: =CONCATENATE(ROUND(D46-(5*D46)/100,0)," <= ","Attainment value"," > ",ROUND(D46+(5*D46)/100,0)) -> 57 <= Attainment value > 63 | G47: 2
A48: BE | B48: Attainment obtained below 52% | E48: =CONCATENATE("Attainment value"," <",ROUND(D46-(5*D46)/100,0)) -> Attainment value <57 | G48: 1
A51: % of students attained the outcome w.r.t attainment level
A52: Assessment Types | C52: % of students attained CO1 | D52: % of students attained CO2 | E52: % of students attained CO3 | F52: % of students attained CO4 | G52: % of students attained CO5
A53: Internal Assessment (I) | C53: =IF(C33="NOT APPLICABLE","NOT APPLICABLE",IF(C33>=$D$46+ROUND(($D$46*5)/100,2),3,IF(C33>=$D$46-ROUND(($D$46*5)/100,2),2,1))) -> 2 | D53: =IF(D33="NOT APPLICABLE","NOT APPLICABLE",IF(D33>=$D$46+ROUND(($D$46*5)/100,2),3,IF(D33>=$D$46-ROUND(($D$46*5)/100,2),2,1))) -> 2 | E53: =IF(E33="NOT APPLICABLE","NOT APPLICABLE",IF(E33>=$D$46+ROUND(($D$46*5)/100,2),3,IF(E33>=$D$46-ROUND(($D$46*5)/100,2),2,1))) -> 2 | F53: =IF(F33="NOT APPLICABLE","NOT APPLICABLE",IF(F33>=$D$46+ROUND(($D$46*5)/100,2),3,IF(F33>=$D$46-ROUND(($D$46*5)/100,2),2,1))) -> 2 | G53: =IF(G33="NOT APPLICABLE","NOT APPLICABLE",IF(G33>=$D$46+ROUND(($D$46*5)/100,2),3,IF(G33>=$D$46-ROUND(($D$46*5)/100,2),2,1))) -> 2
A54: University Assessment (U) | C54: =IF(C34="NOT APPLICABLE","NOT APPLICABLE",IF(C34>=$D$46+ROUND(($D$46*5)/100,2),3,IF(C34>=$D$46-ROUND(($D$46*5)/100,2),2,1))) -> 1 | D54: =IF(D34="NOT APPLICABLE","NOT APPLICABLE",IF(D34>=$D$46+ROUND(($D$46*5)/100,2),3,IF(D34>=$D$46-ROUND(($D$46*5)/100,2),2,1))) -> 1 | E54: =IF(E34="NOT APPLICABLE","NOT APPLICABLE",IF(E34>=$D$46+ROUND(($D$46*5)/100,2),3,IF(E34>=$D$46-ROUND(($D$46*5)/100,2),2,1))) -> 1 | F54: =IF(F34="NOT APPLICABLE","NOT APPLICABLE",IF(F34>=$D$46+ROUND(($D$46*5)/100,2),3,IF(F34>=$D$46-ROUND(($D$46*5)/100,2),2,1))) -> 1 | G54: =IF(G34="NOT APPLICABLE","NOT APPLICABLE",IF(G34>=$D$46+ROUND(($D$46*5)/100,2),3,IF(G34>=$D$46-ROUND(($D$46*5)/100,2),2,1))) -> 1
A55: Direct Assessment (DI) DI=0.6*I + 0.4* U | C55: =IF(OR(C33="NOT APPLICABLE",C34="NOT APPLICABLE"),"NOT APPLICABLE",0.6*C53 + 0.4 *C54) -> 1.6 | D55: =IF(OR(D33="NOT APPLICABLE",D34="NOT APPLICABLE"),"NOT APPLICABLE",0.6*D53 + 0.4 *D54) -> 1.6 | E55: =IF(OR(E33="NOT APPLICABLE",E34="NOT APPLICABLE"),"NOT APPLICABLE",0.6*E53 + 0.4 *E54) -> 1.6 | F55: =IF(OR(F33="NOT APPLICABLE",F34="NOT APPLICABLE"),"NOT APPLICABLE",0.6*F53 + 0.4 *F54) -> 1.6 | G55: =IF(OR(G33="NOT APPLICABLE",G34="NOT APPLICABLE"),"NOT APPLICABLE",0.6*G53 + 0.4 *G54) -> 1.6
A56: Indirect Assessment (ID) | C56: =IF(C36="NOT APPLICABLE","NOT APPLICABLE",IF(C36>=$D$46+ROUND(($D$46*5)/100,2),3,IF(C36>=$D$46-ROUND(($D$46*5)/100,2),2,1))) -> 3 | D56: =IF(D36="NOT APPLICABLE","NOT APPLICABLE",IF(D36>=$D$46+ROUND(($D$46*5)/100,2),3,IF(D36>=$D$46-ROUND(($D$46*5)/100,2),2,1))) -> 3 | E56: =IF(E36="NOT APPLICABLE","NOT APPLICABLE",IF(E36>=$D$46+ROUND(($D$46*5)/100,2),3,IF(E36>=$D$46-ROUND(($D$46*5)/100,2),2,1))) -> 3 | F56: =IF(F36="NOT APPLICABLE","NOT APPLICABLE",IF(F36>=$D$46+ROUND(($D$46*5)/100,2),3,IF(F36>=$D$46-ROUND(($D$46*5)/100,2),2,1))) -> 3 | G56: =IF(G36="NOT APPLICABLE","NOT APPLICABLE",IF(G36>=$D$46+ROUND(($D$46*5)/100,2),3,IF(G36>=$D$46-ROUND(($D$46*5)/100,2),2,1))) -> 3
A57: Total = 0.8*DI + 0.2*ID | C57: =IF(OR(C33="NOT APPLICABLE",C34="NOT APPLICABLE"),"NOT APPLICABLE",0.8*C55+0.2*C56) -> 1.88 | D57: =IF(OR(D33="NOT APPLICABLE",D34="NOT APPLICABLE"),"NOT APPLICABLE",0.8*D55+0.2*D56) -> 1.88 | E57: =IF(OR(E33="NOT APPLICABLE",E34="NOT APPLICABLE"),"NOT APPLICABLE",0.8*E55+0.2*E56) -> 1.88 | F57: =IF(OR(F33="NOT APPLICABLE",F34="NOT APPLICABLE"),"NOT APPLICABLE",0.8*F55+0.2*F56) -> 1.88 | G57: =IF(OR(G33="NOT APPLICABLE",G34="NOT APPLICABLE"),"NOT APPLICABLE",0.8*G55+0.2*G56) -> 1.88
G59: =AVERAGE(C57:G57) -> 1.88

Sheet Indirect
A1: Kanpur Institute of Technology, Kanpur
A2: Assessment Sheet for Indirect Assesment
A3: ='DATA INPUT SHEET'!A3:E3 -> Semester: III | E3: ='DATA INPUT SHEET'!E3 -> Name of the Faculty: Dr. Prateek Gangwar
A4: ='DATA INPUT SHEET'!A4:E4 -> Subject Code: BME-303 | E4: ='DATA INPUT SHEET'!F4 -> Total No. of Students: 18 | J4: ='DATA INPUT SHEET'!K4 -> Subject Name:Materials Engineering
A6: ='DATA INPUT SHEET'!A9:C9 -> CO1 | D6: ='DATA INPUT SHEET'!D9:Q9 -> Student will be able to identify crystal structures for various materials and understand the defects in such structures
A7: ='DATA INPUT SHEET'!A10:C10 -> CO2 | D7: ='DATA INPUT SHEET'!D10:Q10 -> Understand how to tailor material properties of ferrous and non-ferrous alloys.
A8: ='DATA INPUT SHEET'!A11:C11 -> CO3 | D8: ='DATA INPUT SHEET'!D11:Q11 -> To understand method of Grinding & Superfinishing for betterment of the manufacturing product.
A9: ='DATA INPUT SHEET'!A12:C12 -> CO4 | D9: ='DATA INPUT SHEET'!D12:Q12 -> To learn various hardness test.
A10: ='DATA INPUT SHEET'!A13:C13 -> CO5 | D10: ='DATA INPUT SHEET'!D13:Q13 -> Basic knowledge of NDT.
A12: Indirect Survay Table
A13: Options | C13: Description | J13: Value
A14: Option 1 | C14: Acquired Very Well with proficiency | J14: 3
A15: Option 2 | C15: Acquired enough to do my work | J15: 2
A16: Option 3 | C16: Acquired Marginally | J16: 1
A17: Option 4 | C17: Did not acquire at all | J17: 0
A20: Students feedback Matrix | F20: Total No. of Participants | J20: ='Student Feedback Analysis'!E10 -> 0
A21: S.No | B21: Course Outcome | C21: Total students participated in feedback | D21: No of students in option1 (3) | E21: No. of students for option2 (2) | F21: No. of students in option3 (1) | G21: No. of students in option4 (0) | H21: Total Point | I21: Total point attained | J21: % Attained
A22: 1 | B22: CO1 | C22: 57 | D22: ='Student Feedback Analysis'!$K$13 -> 25 | E22: ='Student Feedback Analysis'!$K$14 -> 25 | F22: ='Student Feedback Analysis'!$K$15 -> 6 | G22: ='Student Feedback Analysis'!$K$16 -> 1 | H22: =IF(C22="NA","NA",C22*$J$14) -> 171 | I22: =IF(C22="NA","NA",3*D22+E22*2+1*F22+0*G22) -> 131 | J22: =IF(C22="NA","NA",(I22/H22)*100) -> 76.608187
A23: 2 | B23: CO2 | C23: 57 | D23: ='Student Feedback Analysis'!$L$13 -> 33 | E23: ='Student Feedback Analysis'!$L$14 -> 20 | F23: ='Student Feedback Analysis'!$L$15 -> 3 | G23: ='Student Feedback Analysis'!$L$16 -> 1 | H23: =IF(C23="NA","NA",C23*$J$14) -> 171 | I23: =IF(C23="NA","NA",3*D23+E23*2+1*F23+0*G23) -> 142 | J23: =IF(C23="NA","NA",(I23/H23)*100) -> 83.040936
A24: 3 | B24: CO3 | C24: 57 | D24: ='Student Feedback Analysis'!$M$13 -> 34 | E24: ='Student Feedback Analysis'!$M$14 -> 17 | F24: ='Student Feedback Analysis'!$M$15 -> 6 | G24: ='Student Feedback Analysis'!$M$16 -> 0 | H24: =IF(C24="NA","NA",C24*$J$14) -> 171 | I24: =IF(C24="NA","NA",3*D24+E24*2+1*F24+0*G24) -> 142 | J24: =IF(C24="NA","NA",(I24/H24)*100) -> 83.040936
A25: 4 | B25: CO4 | C25: 57 | D25: ='Student Feedback Analysis'!$N$13 -> 30 | E25: ='Student Feedback Analysis'!$N$14 -> 18 | F25: ='Student Feedback Analysis'!$N$15 -> 9 | G25: ='Student Feedback Analysis'!$N$16 -> 0 | H25: =IF(C25="NA","NA",C25*$J$14) -> 171 | I25: =IF(C25="NA","NA",3*D25+E25*2+1*F25+0*G25) -> 135 | J25: =IF(C25="NA","NA",(I25/H25)*100) -> 78.947368
A26: 5 | B26: CO5 | C26: 57 | D26: ='Student Feedback Analysis'!$O$13 -> 32 | E26: ='Student Feedback Analysis'!$O$14 -> 19 | F26: ='Student Feedback Analysis'!$O$15 -> 5 | G26: ='Student Feedback Analysis'!$O$15 -> 5 | H26: =IF(C26="NA","NA",C26*$J$14) -> 171 | I26: =IF(C26="NA","NA",3*D26+E26*2+1*F26+0*G26) -> 139 | J26: =IF(C26="NA","NA",(I26/H26)*100) -> 81.28655
A27: Average % Students who Attained Course Outcomes | J27: =ROUND(AVERAGE(J22:J26),2) -> 80.58
A29: CO-PO Matrix
A30: S.No. | B30: CO/PO | C30: STATUS | D30: PO1 | E30: PO2 | F30: PO3 | G30: PO4 | H30: PO5 | I30: PO6 | J30: PO7 | K30: PO8 | L30: PO9 | M30: PO10 | N30: PO11 | O30: PO12 | P30: PSO1 | Q30: PSO2 | R30: PSO3
A31: 1 | B31: CO1 | C31: =IF(ISNUMBER(C22),"A","NA") -> A | D31: =IF('DATA INPUT SHEET'!D18="","",'DATA INPUT SHEET'!D18) -> 3 | E31: =IF('DATA INPUT SHEET'!E18="","",'DATA INPUT SHEET'!E18) -> 1 | F31: =IF('DATA INPUT SHEET'!F18="","",'DATA INPUT SHEET'!F18) -> 2 | G31: =IF('DATA INPUT SHEET'!G18="","",'DATA INPUT SHEET'!G18) -> 2 | H31: =IF('DATA INPUT SHEET'!H18="","",'DATA INPUT SHEET'!H18) -> 2 | I31: =IF('DATA INPUT SHEET'!I18="","",'DATA INPUT SHEET'!I18) -> - | J31: =IF('DATA INPUT SHEET'!J18="","",'DATA INPUT SHEET'!J18) -> - | K31: =IF('DATA INPUT SHEET'!K18="","",'DATA INPUT SHEET'!K18) -> - | ... R31: =IF('DATA INPUT SHEET'!R18="","",'DATA INPUT SHEET'!R18) -> 2
A32: 2 | B32: CO2 | C32: =IF(ISNUMBER(C23),"A","NA") -> A | D32: =IF('DATA INPUT SHEET'!D19="","",'DATA INPUT SHEET'!D19) -> 2 | E32: =IF('DATA INPUT SHEET'!E19="","",'DATA INPUT SHEET'!E19) -> 3 | F32: =IF('DATA INPUT SHEET'!F19="","",'DATA INPUT SHEET'!F19) -> 2 | G32: =IF('DATA INPUT SHEET'!G19="","",'DATA INPUT SHEET'!G19) -> 2 | H32: =IF('DATA INPUT SHEET'!H19="","",'DATA INPUT SHEET'!H19) -> 1 | I32: =IF('DATA INPUT SHEET'!I19="","",'DATA INPUT SHEET'!I19) -> - | J32: =IF('DATA INPUT SHEET'!J19="","",'DATA INPUT SHEET'!J19) -> - | K32: =IF('DATA INPUT SHEET'!K19="","",'DATA INPUT SHEET'!K19) -> - | ... R32: =IF('DATA INPUT SHEET'!R19="","",'DATA INPUT SHEET'!R19) -> 2
A33: 3 | B33: CO3 | C33: =IF(ISNUMBER(C24),"A","NA") -> A | D33: =IF('DATA INPUT SHEET'!D20="","",'DATA INPUT SHEET'!D20) -> 3 | E33: =IF('DATA INPUT SHEET'!E20="","",'DATA INPUT SHEET'!E20) -> 3 | F33: =IF('DATA INPUT SHEET'!F20="","",'DATA INPUT SHEET'!F20) -> 3 | G33: =IF('DATA INPUT SHEET'!G20="","",'DATA INPUT SHEET'!G20) -> 2 | H33: =IF('DATA INPUT SHEET'!H20="","",'DATA INPUT SHEET'!H20) -> 2 | I33: =IF('DATA INPUT SHEET'!I20="","",'DATA INPUT SHEET'!I20) -> - | J33: =IF('DATA INPUT SHEET'!J20="","",'DATA INPUT SHEET'!J20) -> - | K33: =IF('DATA INPUT SHEET'!K20="","",'DATA INPUT SHEET'!K20) -> - | ... R33: =IF('DATA INPUT SHEET'!R20="","",'DATA INPUT SHEET'!R20) -> 2
A34: 4 | B34: CO4 | C34: =IF(ISNUMBER(C25),"A","NA") -> A | D34: =IF('DATA INPUT SHEET'!D21="","",'DATA INPUT SHEET'!D21) -> 2 | E34: =IF('DATA INPUT SHEET'!E21="","",'DATA INPUT SHEET'!E21) -> 3 | F34: =IF('DATA INPUT SHEET'!F21="","",'DATA INPUT SHEET'!F21) -> 3 | G34: =IF('DATA INPUT SHEET'!G21="","",'DATA INPUT SHEET'!G21) -> 3 | H34: =IF('DATA INPUT SHEET'!H21="","",'DATA INPUT SHEET'!H21) -> 2 | I34: =IF('DATA INPUT SHEET'!I21="","",'DATA INPUT SHEET'!I21) -> - | J34: =IF('DATA INPUT SHEET'!J21="","",'DATA INPUT SHEET'!J21) -> - | K34: =IF('DATA INPUT SHEET'!K21="","",'DATA INPUT SHEET'!K21) -> - | ... R34: =IF('DATA INPUT SHEET'!R21="","",'DATA INPUT SHEET'!R21) -> 2
A35: 5 | B35: CO5 | C35: =IF(ISNUMBER(C26),"A","NA") -> A | D35: =IF('DATA INPUT SHEET'!D22="","",'DATA INPUT SHEET'!D22) -> 3 | E35: =IF('DATA INPUT SHEET'!E22="","",'DATA INPUT SHEET'!E22) -> 3 | F35: =IF('DATA INPUT SHEET'!F22="","",'DATA INPUT SHEET'!F22) -> 3 | G35: =IF('DATA INPUT SHEET'!G22="","",'DATA INPUT SHEET'!G22) -> 2 | H35: =IF('DATA INPUT SHEET'!H22="","",'DATA INPUT SHEET'!H22) -> 2 | I35: =IF('DATA INPUT SHEET'!I22="","",'DATA INPUT SHEET'!I22) | J35: =IF('DATA INPUT SHEET'!J22="","",'DATA INPUT SHEET'!J22) | K35: =IF('DATA INPUT SHEET'!K22="","",'DATA INPUT SHEET'!K22) | ... R35: =IF('DATA INPUT SHEET'!R22="","",'DATA INPUT SHEET'!R22) -> 2
A36: Average PO | D36: =IF(SUMPRODUCT(--(D31:D35<>""))=0,"",ROUND(AVERAGE(D31:D35),2)) -> 2.6 | E36: =IF(SUMPRODUCT(--(E31:E35<>""))=0,"",ROUND(AVERAGE(E31:E35),2)) -> 2.6 | F36: =IF(SUMPRODUCT(--(F31:F35<>""))=0,"",ROUND(AVERAGE(F31:F35),2)) -> 2.6 | G36: =IF(SUMPRODUCT(--(G31:G35<>""))=0,"",ROUND(AVERAGE(G31:G35),2)) -> 2.2 | H36: =IF(SUMPRODUCT(--(H31:H35<>""))=0,"",ROUND(AVERAGE(H31:H35),2)) -> 1.8 | I36: =IF(SUMPRODUCT(--(I31:I35<>""))=0,"",ROUND(AVERAGE(I31:I35),2)) -> #DIV/0! | J36: =IF(SUMPRODUCT(--(J31:J35<>""))=0,"",ROUND(AVERAGE(J31:J35),2)) -> #DIV/0! | K36: =IF(SUMPRODUCT(--(K31:K35<>""))=0,"",ROUND(AVERAGE(K31:K35),2)) -> #DIV/0! | ... R36: =IF(SUMPRODUCT(--(R31:R35<>""))=0,"",ROUND(AVERAGE(R31:R35),2)) -> 2
A38: Indirect Attainment of CO
A39: S.No. | B39: Exam | C39: STATUS | D39: PO1 | E39: PO2 | F39: PO3 | G39: PO4 | H39: PO5 | I39: PO6 | J39: PO7 | K39: PO8 | L39: PO9 | M39: PO10 | N39: PO11 | O39: PO12 | P39: PSO1 | Q39: PSO2 | R39: PSO3
A40: 1 | B40: CO1 | C40: =IF(ISNUMBER(C22),"A","NA") -> A | D40: =IF(ISNUMBER(D31),D31*$J$22/100,"") -> 2.2982456 | E40: =IF(ISNUMBER(E31),E31*$J$22/100,"") -> 0.76608187 | F40: =IF(ISNUMBER(F31),F31*$J$22/100,"") -> 1.5321637 | G40: =IF(ISNUMBER(G31),G31*$J$22/100,"") -> 1.5321637 | H40: =IF(ISNUMBER(H31),H31*$J$22/100,"") -> 1.5321637 | I40: =IF(ISNUMBER(I31),I31*$J$22/100,"") | J40: =IF(ISNUMBER(J31),J31*$J$22/100,"") | K40: =IF(ISNUMBER(K31),K31*$J$22/100,"") | ... R40: =IF(ISNUMBER(R31),R31*$J$22/100,"") -> 1.5321637
A41: 2 | B41: CO2 | C41: =IF(ISNUMBER(C23),"A","NA") -> A | D41: =IF(ISNUMBER(D32),D32*$J$23/100,"") -> 1.6608187 | E41: =IF(ISNUMBER(E32),E32*$J$23/100,"") -> 2.4912281 | F41: =IF(ISNUMBER(F32),F32*$J$23/100,"") -> 1.6608187 | G41: =IF(ISNUMBER(G32),G32*$J$23/100,"") -> 1.6608187 | H41: =IF(ISNUMBER(H32),H32*$J$23/100,"") -> 0.83040936 | I41: =IF(ISNUMBER(I32),I32*$J$23/100,"") | J41: =IF(ISNUMBER(J32),J32*$J$23/100,"") | K41: =IF(ISNUMBER(K32),K32*$J$23/100,"") | ... Q41: =IF(ISNUMBER(Q32),Q32*$J$23/100,"") -> 1.6608187 | R41: =IF(ISNUMBER(R32),R32*$J$22/100,"") -> 1.5321637
A42: 3 | B42: CO3 | C42: =IF(ISNUMBER(C24),"A","NA") -> A | D42: =IF(ISNUMBER(D33),D33*$J$24/100,"") -> 2.4912281 | E42: =IF(ISNUMBER(E33),E33*$J$24/100,"") -> 2.4912281 | F42: =IF(ISNUMBER(F33),F33*$J$24/100,"") -> 2.4912281 | G42: =IF(ISNUMBER(G33),G33*$J$24/100,"") -> 1.6608187 | H42: =IF(ISNUMBER(H33),H33*$J$24/100,"") -> 1.6608187 | I42: =IF(ISNUMBER(I33),I33*$J$24/100,"") | J42: =IF(ISNUMBER(J33),J33*$J$24/100,"") | K42: =IF(ISNUMBER(K33),K33*$J$24/100,"") | ... Q42: =IF(ISNUMBER(Q33),Q33*$J$24/100,"") -> 1.6608187 | R42: =IF(ISNUMBER(R33),R33*$J$22/100,"") -> 1.5321637
A43: 4 | B43: CO4 | C43: =IF(ISNUMBER(C25),"A","NA") -> A | D43: =IF(ISNUMBER(D34),D34*$J$25/100,"") -> 1.5789474 | E43: =IF(ISNUMBER(E34),E34*$J$25/100,"") -> 2.3684211 | F43: =IF(ISNUMBER(F34),F34*$J$25/100,"") -> 2.3684211 | G43: =IF(ISNUMBER(G34),G34*$J$25/100,"") -> 2.3684211 | H43: =IF(ISNUMBER(H34),H34*$J$25/100,"") -> 1.5789474 | I43: =IF(ISNUMBER(I34),I34*$J$25/100,"") | J43: =IF(ISNUMBER(J34),J34*$J$25/100,"") | K43: =IF(ISNUMBER(K34),K34*$J$25/100,"") | ... Q43: =IF(ISNUMBER(Q34),Q34*$J$25/100,"") -> 1.5789474 | R43: =IF(ISNUMBER(R34),R34*$J$22/100,"") -> 1.5321637
A44: 5 | B44: CO5 | C44: =IF(ISNUMBER(C26),"A","NA") -> A | D44: =IF(ISNUMBER(D35),D35*$J$26/100,"") -> 2.4385965 | E44: =IF(ISNUMBER(E35),E35*$J$26/100,"") -> 2.4385965 | F44: =IF(ISNUMBER(F35),F35*$J$26/100,"") -> 2.4385965 | G44: =IF(ISNUMBER(G35),G35*$J$26/100,"") -> 1.625731 | H44: =IF(ISNUMBER(H35),H35*$J$26/100,"") -> 1.625731 | I44: =IF(ISNUMBER(I35),I35*$J$26/100,"") | J44: =IF(ISNUMBER(J35),J35*$J$26/100,"") | K44: =IF(ISNUMBER(K35),K35*$J$26/100,"") | ... Q44: =IF(ISNUMBER(Q35),Q35*$J$26/100,"") -> 1.625731 | R44: =IF(ISNUMBER(R35),R35*$J$22/100,"") -> 1.5321637
A45: Average PO | D45: =IF(SUMPRODUCT(--(D31:D35<>""))=0,"",ROUND(AVERAGE(D40:D44),2)) -> 2.09 | E45: =IF(SUMPRODUCT(--(E31:E35<>""))=0,"",ROUND(AVERAGE(E40:E44),2)) -> 2.11 | F45: =IF(SUMPRODUCT(--(F31:F35<>""))=0,"",ROUND(AVERAGE(F40:F44),2)) -> 2.1 | G45: =IF(SUMPRODUCT(--(G31:G35<>""))=0,"",ROUND(AVERAGE(G40:G44),2)) -> 1.77 | H45: =IF(SUMPRODUCT(--(H31:H35<>""))=0,"",ROUND(AVERAGE(H40:H44),2)) -> 1.45 | I45: =IF(SUMPRODUCT(--(I31:I35<>""))=0,"",ROUND(AVERAGE(I40:I44),2)) -> #DIV/0! | J45: =IF(SUMPRODUCT(--(J31:J35<>""))=0,"",ROUND(AVERAGE(J40:J44),2)) -> #DIV/0! | K45: =IF(SUMPRODUCT(--(K31:K35<>""))=0,"",ROUND(AVERAGE(K40:K44),2)) -> #DIV/0! | ... R45: =IF(SUMPRODUCT(--(R31:R35<>""))=0,"",ROUND(AVERAGE(R40:R44),2)) -> 1.53

Sheet POAttainment
A1: Kanpur Institute of Technology, Kanpur
A2: Assessment Sheet for PO Attainment
A3: ='DATA INPUT SHEET'!A3:E3 -> Semester: III | E3: ='DATA INPUT SHEET'!E3 -> Name of the Faculty: Dr. Prateek Gangwar
A4: ='DATA INPUT SHEET'!A4:E4 -> Subject Code: BME-303 | E4: ='DATA INPUT SHEET'!F4 -> Total No. of Students: 18 | J4: ='DATA INPUT SHEET'!K4 -> Subject Name:Materials Engineering
A6: MAPPING OF COURSE OUTCOME WITH PROGRAM OUTCOMES/PROGRAM SPECIFIC OUTCOME
A7: S.No. | B7: Course Outcomes | C7: PO1 | D7: PO2 | E7: PO3 | F7: PO4 | G7: PO5 | H7: PO6 | I7: PO7 | J7: PO8 | K7: PO9 | L7: PO10 | M7: PO11 | N7: PO12 | O7: PSO1 | P7: PSO2 | Q7: PSO3
A8: 1 | B8: CO1 | C8: =Indirect!D31 -> 3 | D8: =Indirect!E31 -> 1 | E8: =Indirect!F31 -> 2 | F8: =Indirect!G31 -> 2 | G8: =Indirect!H31 -> 2 | H8: =Indirect!I31 -> - | I8: =Indirect!J31 -> - | J8: =Indirect!K31 -> - | ... Q8: =Indirect!R31 -> 2
A9: 2 | B9: CO2 | C9: =Indirect!D32 -> 2 | D9: =Indirect!E32 -> 3 | E9: =Indirect!F32 -> 2 | F9: =Indirect!G32 -> 2 | G9: =Indirect!H32 -> 1 | H9: =Indirect!I32 -> - | I9: =Indirect!J32 -> - | J9: =Indirect!K32 -> - | ... Q9: =Indirect!R32 -> 2
A10: 3 | B10: CO3 | C10: =Indirect!D33 -> 3 | D10: =Indirect!E33 -> 3 | E10: =Indirect!F33 -> 3 | F10: =Indirect!G33 -> 2 | G10: =Indirect!H33 -> 2 | H10: =Indirect!I33 -> - | I10: =Indirect!J33 -> - | J10: =Indirect!K33 -> - | ... Q10: =Indirect!R33 -> 2
A11: 4 | B11: CO4 | C11: =Indirect!D34 -> 2 | D11: =Indirect!E34 -> 3 | E11: =Indirect!F34 -> 3 | F11: =Indirect!G34 -> 3 | G11: =Indirect!H34 -> 2 | H11: =Indirect!I34 -> - | I11: =Indirect!J34 -> - | J11: =Indirect!K34 -> - | ... Q11: =Indirect!R34 -> 2
A12: 5 | B12: CO5 | C12: =Indirect!D35 -> 3 | D12: =Indirect!E35 -> 3 | E12: =Indirect!F35 -> 3 | F12: =Indirect!G35 -> 2 | G12: =Indirect!H35 -> 2 | H12: =Indirect!I35 | I12: =Indirect!J35 | J12: =Indirect!K35 | ... Q12: =Indirect!R35 -> 2
A13: Average CO | C13: =IF(SUMPRODUCT(--(C8:C12<>""))=0,"",ROUND(AVERAGE(C8:C12),2)) -> 2.6 | D13: =IF(SUMPRODUCT(--(D8:D12<>""))=0,"",ROUND(AVERAGE(D8:D12),2)) -> 2.6 | E13: =IF(SUMPRODUCT(--(E8:E12<>""))=0,"",ROUND(AVERAGE(E8:E12),2)) -> 2.6 | F13: =IF(SUMPRODUCT(--(F8:F12<>""))=0,"",ROUND(AVERAGE(F8:F12),2)) -> 2.2 | G13: =IF(SUMPRODUCT(--(G8:G12<>""))=0,"",ROUND(AVERAGE(G8:G12),2)) -> 1.8 | H13: =IF(SUMPRODUCT(--(H8:H12<>""))=0,"",ROUND(AVERAGE(H8:H12),2)) -> #DIV/0! | I13: =IF(SUMPRODUCT(--(I8:I12<>""))=0,"",ROUND(AVERAGE(I8:I12),2)) -> #DIV/0! | J13: =IF(SUMPRODUCT(--(J8:J12<>""))=0,"",ROUND(AVERAGE(J8:J12),2)) -> #DIV/0! | ... Q13: =IF(SUMPRODUCT(--(Q8:Q12<>""))=0,"",ROUND(AVERAGE(Q8:Q12),2)) -> 2
A15: Direct Assessment (Internal + University)
A16: S.No. | B16: Course Outcomes | C16: PO1 | D16: PO2 | E16: PO3 | F16: PO4 | G16: PO5 | H16: PO6 | I16: PO7 | J16: PO8 | K16: PO9 | L16: PO10 | M16: PO11 | N16: PO12 | O16: PSO1 | P16: PSO2 | Q16: PSO3 | R16: % of students attained CO
A17: 1 | B17: CO1 | C17: =IF($R$17="NOT APPLICABLE","",IF(ISNUMBER(C8),C8*$R$17/100,"")) -> 1.45332 | D17: =IF($R$17="NOT APPLICABLE","",IF(ISNUMBER(D8),D8*$R$17/100,"")) -> 0.48444 | E17: =IF($R$17="NOT APPLICABLE","",IF(ISNUMBER(E8),E8*$R$17/100,"")) -> 0.96888 | F17: =IF($R$17="NOT APPLICABLE","",IF(ISNUMBER(F8),F8*$R$17/100,"")) -> 0.96888 | G17: =IF($R$17="NOT APPLICABLE","",IF(ISNUMBER(G8),G8*$R$17/100,"")) -> 0.96888 | H17: =IF($R$17="NOT APPLICABLE","",IF(ISNUMBER(H8),H8*$R$17/100,"")) | I17: =IF($R$17="NOT APPLICABLE","",IF(ISNUMBER(I8),I8*$R$17/100,"")) | J17: =IF($R$17="NOT APPLICABLE","",IF(ISNUMBER(J8),J8*$R$17/100,"")) | ... Q17: =IF($R$17="NOT APPLICABLE","",IF(ISNUMBER(Q8),Q8*$R$17/100,"")) -> 0.96888 | R17: =COAttainment!C35 -> 48.444
A18: 2 | B18: CO2 | C18: =IF($R$18="NOT APPLICABLE","",IF(ISNUMBER(C9),C9*$R$18/100,"")) -> 0.96888 | D18: =IF($R$18="NOT APPLICABLE","",IF(ISNUMBER(D9),D9*$R$18/100,"")) -> 1.45332 | E18: =IF($R$18="NOT APPLICABLE","",IF(ISNUMBER(E9),E9*$R$18/100,"")) -> 0.96888 | F18: =IF($R$18="NOT APPLICABLE","",IF(ISNUMBER(F9),F9*$R$18/100,"")) -> 0.96888 | G18: =IF($R$18="NOT APPLICABLE","",IF(ISNUMBER(G9),G9*$R$18/100,"")) -> 0.48444 | H18: =IF($R$18="NOT APPLICABLE","",IF(ISNUMBER(H9),H9*$R$18/100,"")) | I18: =IF($R$18="NOT APPLICABLE","",IF(ISNUMBER(I9),I9*$R$18/100,"")) | J18: =IF($R$18="NOT APPLICABLE","",IF(ISNUMBER(J9),J9*$R$18/100,"")) | ... P18: =IF($R$18="NOT APPLICABLE","",IF(ISNUMBER(P9),P9*$R$18/100,"")) -> 0.96888 | Q18: =IF($R$17="NOT APPLICABLE","",IF(ISNUMBER(Q9),Q9*$R$17/100,"")) -> 0.96888 | R18: =COAttainment!D35 -> 48.444
A19: 3 | B19: CO3 | C19: =IF($R$19="NOT APPLICABLE","",IF(ISNUMBER(C10),C10*$R$19/100,"")) -> 1.45332 | D19: =IF($R$19="NOT APPLICABLE","",IF(ISNUMBER(D10),D10*$R$19/100,"")) -> 1.45332 | E19: =IF($R$19="NOT APPLICABLE","",IF(ISNUMBER(E10),E10*$R$19/100,"")) -> 1.45332 | F19: =IF($R$19="NOT APPLICABLE","",IF(ISNUMBER(F10),F10*$R$19/100,"")) -> 0.96888 | G19: =IF($R$19="NOT APPLICABLE","",IF(ISNUMBER(G10),G10*$R$19/100,"")) -> 0.96888 | H19: =IF($R$19="NOT APPLICABLE","",IF(ISNUMBER(H10),H10*$R$19/100,"")) | I19: =IF($R$19="NOT APPLICABLE","",IF(ISNUMBER(I10),I10*$R$19/100,"")) | J19: =IF($R$19="NOT APPLICABLE","",IF(ISNUMBER(J10),J10*$R$19/100,"")) | ... P19: =IF($R$19="NOT APPLICABLE","",IF(ISNUMBER(P10),P10*$R$19/100,"")) -> 0.96888 | Q19: =IF($R$17="NOT APPLICABLE","",IF(ISNUMBER(Q10),Q10*$R$17/100,"")) -> 0.96888 | R19: =COAttainment!E35 -> 48.444
A20: 4 | B20: CO4 | C20: =IF(R20="NOT APPLICABLE","",IF(ISNUMBER(C11),C11*$R$20/100,"")) -> 0.96888 | D20: =IF(#REF!="NOT APPLICABLE","",IF(ISNUMBER(D11),D11*$R$20/100,"")) -> #REF! | E20: =IF(S20="NOT APPLICABLE","",IF(ISNUMBER(E11),E11*$R$20/100,"")) -> 1.45332 | F20: =IF(T20="NOT APPLICABLE","",IF(ISNUMBER(F11),F11*$R$20/100,"")) -> 1.45332 | G20: =IF(U20="NOT APPLICABLE","",IF(ISNUMBER(G11),G11*$R$20/100,"")) -> 0.96888 | H20: =IF(V20="NOT APPLICABLE","",IF(ISNUMBER(H11),H11*$R$20/100,"")) | I20: =IF(W20="NOT APPLICABLE","",IF(ISNUMBER(I11),I11*$R$20/100,"")) | J20: =IF(X20="NOT APPLICABLE","",IF(ISNUMBER(J11),J11*$R$20/100,"")) | K20: =IF(Y20="NOT APPLICABLE","",IF(ISNUMBER(K11),K11*$R$20/100,"")) | L20: =IF(Z20="NOT APPLICABLE","",IF(ISNUMBER(L11),L11*$R$20/100,"")) -> 0.96888 | ... P20: =IF(AD20="NOT APPLICABLE","",IF(ISNUMBER(P11),P11*$R$20/100,"")) -> 0.96888 | Q20: =IF($R$17="NOT APPLICABLE","",IF(ISNUMBER(Q11),Q11*$R$17/100,"")) -> 0.96888 | R20: =COAttainment!F35 -> 48.444
A21: 5 | B21: CO5 | C21: =IF($R$21="NOT APPLICABLE","",IF(ISNUMBER(C12),C12*$R$21/100,"")) -> 1.45332 | D21: =IF($R$21="NOT APPLICABLE","",IF(ISNUMBER(D12),D12*$R$21/100,"")) -> 1.45332 | E21: =IF($R$21="NOT APPLICABLE","",IF(ISNUMBER(E12),E12*$R$21/100,"")) -> 1.45332 | F21: =IF($R$21="NOT APPLICABLE","",IF(ISNUMBER(F12),F12*$R$21/100,"")) -> 0.96888 | G21: =IF($R$21="NOT APPLICABLE","",IF(ISNUMBER(G12),G12*$R$21/100,"")) -> 0.96888 | H21: =IF($R$21="NOT APPLICABLE","",IF(ISNUMBER(H12),H12*$R$21/100,"")) | I21: =IF($R$21="NOT APPLICABLE","",IF(ISNUMBER(I12),I12*$R$21/100,"")) | J21: =IF($R$21="NOT APPLICABLE","",IF(ISNUMBER(J12),J12*$R$21/100,"")) | ... P21: =IF($R$21="NOT APPLICABLE","",IF(ISNUMBER(P12),P12*$R$21/100,"")) -> 0.96888 | Q21: =IF($R$17="NOT APPLICABLE","",IF(ISNUMBER(Q12),Q12*$R$17/100,"")) -> 0.96888 | R21: =COAttainment!G35 -> 48.444
A22: Average PO | C22: =IF(SUMPRODUCT(--(C17:C21<>""))=0,"",ROUND(AVERAGE(C17:C21),2)) -> 1.26 | D22: =IF(SUMPRODUCT(--(D17:D21<>""))=0,"",ROUND(AVERAGE(D17:D21),2)) -> #REF! | E22: =IF(SUMPRODUCT(--(E17:E21<>""))=0,"",ROUND(AVERAGE(E17:E21),2)) -> 1.26 | F22: =IF(SUMPRODUCT(--(F17:F21<>""))=0,"",ROUND(AVERAGE(F17:F21),2)) -> 1.07 | G22: =IF(SUMPRODUCT(--(G17:G21<>""))=0,"",ROUND(AVERAGE(G17:G21),2)) -> 0.87 | H22: =IF(SUMPRODUCT(--(H17:H21<>""))=0,"",ROUND(AVERAGE(H17:H21),2)) | I22: =IF(SUMPRODUCT(--(I17:I21<>""))=0,"",ROUND(AVERAGE(I17:I21),2)) | J22: =IF(SUMPRODUCT(--(J17:J21<>""))=0,"",ROUND(AVERAGE(J17:J21),2)) | ... R22: =IF(SUMPRODUCT(--(R17:R21<>""))=0,"",ROUND(AVERAGE(R17:R21),2)) -> 48.44
A24: Indirect Attainment of CO
A25: S.No. | B25: Exam | C25: PO1 | D25: PO2 | E25: PO3 | F25: PO4 | G25: PO5 | H25: PO6 | I25: PO7 | J25: PO8 | K25: PO9 | L25: PO10 | M25: PO11 | N25: PO12 | O25: PSO1 | P25: PSO2 | Q25: PSO3 | R25: % of student Indirect Attained
A26: 1 | B26: CO1 | C26: =IF($R$26="NOT APPLICABLE","",IF(ISNUMBER(C8),C8*$R$26/100,"")) -> 2.2982456 | D26: =IF($R$26="NOT APPLICABLE","",IF(ISNUMBER(D8),D8*$R$26/100,"")) -> 0.76608187 | E26: =IF($R$26="NOT APPLICABLE","",IF(ISNUMBER(E8),E8*$R$26/100,"")) -> 1.5321637 | F26: =IF($R$26="NOT APPLICABLE","",IF(ISNUMBER(F8),F8*$R$26/100,"")) -> 1.5321637 | G26: =IF($R$26="NOT APPLICABLE","",IF(ISNUMBER(G8),G8*$R$26/100,"")) -> 1.5321637 | H26: =IF($R$26="NOT APPLICABLE","",IF(ISNUMBER(H8),H8*$R$26/100,"")) | I26: =IF($R$26="NOT APPLICABLE","",IF(ISNUMBER(I8),I8*$R$26/100,"")) | J26: =IF($R$26="NOT APPLICABLE","",IF(ISNUMBER(J8),J8*$R$26/100,"")) | ... Q26: =IF($R$26="NOT APPLICABLE","",IF(ISNUMBER(Q8),Q8*$R$26/100,"")) -> 1.5321637 | R26: =COAttainment!C36 -> 76.608187
A27: 2 | B27: CO2 | C27: =IF($R$27="NOT APPLICABLE","",IF(ISNUMBER(C9),C9*$R$27/100,"")) -> 1.6608187 | D27: =IF($R$27="NOT APPLICABLE","",IF(ISNUMBER(D9),D9*$R$27/100,"")) -> 2.4912281 | E27: =IF($R$27="NOT APPLICABLE","",IF(ISNUMBER(E9),E9*$R$27/100,"")) -> 1.6608187 | F27: =IF($R$27="NOT APPLICABLE","",IF(ISNUMBER(F9),F9*$R$27/100,"")) -> 1.6608187 | G27: =IF($R$27="NOT APPLICABLE","",IF(ISNUMBER(G9),G9*$R$27/100,"")) -> 0.83040936 | H27: =IF($R$27="NOT APPLICABLE","",IF(ISNUMBER(H9),H9*$R$27/100,"")) | I27: =IF($R$27="NOT APPLICABLE","",IF(ISNUMBER(I9),I9*$R$27/100,"")) | J27: =IF($R$27="NOT APPLICABLE","",IF(ISNUMBER(J9),J9*$R$27/100,"")) | ... P27: =IF($R$27="NOT APPLICABLE","",IF(ISNUMBER(P9),P9*$R$27/100,"")) -> 1.6608187 | Q27: =IF($R$26="NOT APPLICABLE","",IF(ISNUMBER(Q9),Q9*$R$26/100,"")) -> 1.5321637 | R27: =COAttainment!D36 -> 83.040936
A28: 3 | B28: CO3 | C28: =IF($R$28="NOT APPLICABLE","",IF(ISNUMBER(C10),C10*$R$28/100,"")) -> 2.4912281 | D28: =IF($R$28="NOT APPLICABLE","",IF(ISNUMBER(D10),D10*$R$28/100,"")) -> 2.4912281 | E28: =IF($R$28="NOT APPLICABLE","",IF(ISNUMBER(E10),E10*$R$28/100,"")) -> 2.4912281 | F28: =IF($R$28="NOT APPLICABLE","",IF(ISNUMBER(F10),F10*$R$28/100,"")) -> 1.6608187 | G28: =IF($R$28="NOT APPLICABLE","",IF(ISNUMBER(G10),G10*$R$28/100,"")) -> 1.6608187 | H28: =IF($R$28="NOT APPLICABLE","",IF(ISNUMBER(H10),H10*$R$28/100,"")) | I28: =IF($R$28="NOT APPLICABLE","",IF(ISNUMBER(I10),I10*$R$28/100,"")) | J28: =IF($R$28="NOT APPLICABLE","",IF(ISNUMBER(J10),J10*$R$28/100,"")) | ... P28: =IF($R$28="NOT APPLICABLE","",IF(ISNUMBER(P10),P10*$R$28/100,"")) -> 1.6608187 | Q28: =IF($R$26="NOT APPLICABLE","",IF(ISNUMBER(Q10),Q10*$R$26/100,"")) -> 1.5321637 | R28: =COAttainment!E36 -> 83.040936
A29: 4 | B29: CO4 | C29: =IF($R$29="NOT APPLICABLE","",IF(ISNUMBER(C11),C11*$R$29/100,"")) -> 1.5789474 | D29: =IF($R$29="NOT APPLICABLE","",IF(ISNUMBER(D11),D11*$R$29/100,"")) -> 2.3684211 | E29: =IF($R$29="NOT APPLICABLE","",IF(ISNUMBER(E11),E11*$R$29/100,"")) -> 2.3684211 | F29: =IF($R$29="NOT APPLICABLE","",IF(ISNUMBER(F11),F11*$R$29/100,"")) -> 2.3684211 | G29: =IF($R$29="NOT APPLICABLE","",IF(ISNUMBER(G11),G11*$R$29/100,"")) -> 1.5789474 | H29: =IF($R$29="NOT APPLICABLE","",IF(ISNUMBER(H11),H11*$R$29/100,"")) | I29: =IF($R$29="NOT APPLICABLE","",IF(ISNUMBER(I11),I11*$R$29/100,"")) | J29: =IF($R$29="NOT APPLICABLE","",IF(ISNUMBER(J11),J11*$R$29/100,"")) | ... P29: =IF($R$29="NOT APPLICABLE","",IF(ISNUMBER(P11),P11*$R$29/100,"")) -> 1.5789474 | Q29: =IF($R$26="NOT APPLICABLE","",IF(ISNUMBER(Q11),Q11*$R$26/100,"")) -> 1.5321637 | R29: =COAttainment!F36 -> 78.947368
A30: 5 | B30: CO5 | C30: =IF($R$30="NOT APPLICABLE","",IF(ISNUMBER(C12),C12*$R$30/100,"")) -> 2.4385965 | D30: =IF($R$30="NOT APPLICABLE","",IF(ISNUMBER(D12),D12*$R$30/100,"")) -> 2.4385965 | E30: =IF($R$30="NOT APPLICABLE","",IF(ISNUMBER(E12),E12*$R$30/100,"")) -> 2.4385965 | F30: =IF($R$30="NOT APPLICABLE","",IF(ISNUMBER(F12),F12*$R$30/100,"")) -> 1.625731 | G30: =IF($R$30="NOT APPLICABLE","",IF(ISNUMBER(G12),G12*$R$30/100,"")) -> 1.625731 | H30: =IF($R$30="NOT APPLICABLE","",IF(ISNUMBER(H12),H12*$R$30/100,"")) | I30: =IF($R$30="NOT APPLICABLE","",IF(ISNUMBER(I12),I12*$R$30/100,"")) | J30: =IF($R$30="NOT APPLICABLE","",IF(ISNUMBER(J12),J12*$R$30/100,"")) | ... P30: =IF($R$30="NOT APPLICABLE","",IF(ISNUMBER(P12),P12*$R$30/100,"")) -> 1.625731 | Q30: =IF($R$26="NOT APPLICABLE","",IF(ISNUMBER(Q12),Q12*$R$26/100,"")) -> 1.5321637 | R30: =COAttainment!G36 -> 81.28655
A31: Average PO | C31: =IF(SUMPRODUCT(--(C26:C30<>""))=0,"",ROUND(AVERAGE(C26:C30),2)) -> 2.09 | D31: =IF(SUMPRODUCT(--(D26:D30<>""))=0,"",ROUND(AVERAGE(D26:D30),2)) -> 2.11 | E31: =IF(SUMPRODUCT(--(E26:E30<>""))=0,"",ROUND(AVERAGE(E26:E30),2)) -> 2.1 | F31: =IF(SUMPRODUCT(--(F26:F30<>""))=0,"",ROUND(AVERAGE(F26:F30),2)) -> 1.77 | G31: =IF(SUMPRODUCT(--(G26:G30<>""))=0,"",ROUND(AVERAGE(G26:G30),2)) -> 1.45 | H31: =IF(SUMPRODUCT(--(H26:H30<>""))=0,"",ROUND(AVERAGE(H26:H30),2)) | I31: =IF(SUMPRODUCT(--(I26:I30<>""))=0,"",ROUND(AVERAGE(I26:I30),2)) | J31: =IF(SUMPRODUCT(--(J26:J30<>""))=0,"",ROUND(AVERAGE(J26:J30),2)) | ... R31: =IF(SUMPRODUCT(--(R26:R30<>""))=0,"",ROUND(AVERAGE(R26:R30),2)) -> 80.58
A33: PO Attainment
A34: Attainment | C34: PO1 | D34: PO2 | E34: PO3 | F34: PO4 | G34: PO5 | H34: PO6 | I34: PO7 | J34: PO8 | K34: PO9 | L34: PO10 | M34: PO11 | N34: PO12 | O34: PSO1 | P34: PSO2 | Q34: PSO3
A35: Direct(D) | C35: =C22 -> 1.26 | D35: =D22 -> #REF! | E35: =E22 -> 1.26 | F35: =F22 -> 1.07 | G35: =G22 -> 0.87 | H35: =H22 | I35: =I22 | J35: =J22 | ... Q35: =Q22 -> 0.97
A36: Indirect(I) | C36: =C31 -> 2.09 | D36: =D31 -> 2.11 | E36: =E31 -> 2.1 | F36: =F31 -> 1.77 | G36: =G31 -> 1.45 | H36: =H31 | I36: =I31 | J36: =J31 | ... Q36: =Q31 -> 1.53
A37: Total=.8*D+0.2*I | C37: =IF(SUMPRODUCT(--(C26:C30<>""))=0,"",ROUND((0.8*C35+0.2*C36),2)) -> 1.43 | D37: =IF(SUMPRODUCT(--(D26:D30<>""))=0,"",ROUND((0.8*D35+0.2*D36),2)) -> #REF! | E37: =IF(SUMPRODUCT(--(E26:E30<>""))=0,"",ROUND((0.8*E35+0.2*E36),2)) -> 1.43 | F37: =IF(SUMPRODUCT(--(F26:F30<>""))=0,"",ROUND((0.8*F35+0.2*F36),2)) -> 1.21 | G37: =IF(SUMPRODUCT(--(G26:G30<>""))=0,"",ROUND((0.8*G35+0.2*G36),2)) -> 0.99 | H37: =IF(SUMPRODUCT(--(H26:H30<>""))=0,"",ROUND((0.8*H35+0.2*H36),2)) | I37: =IF(SUMPRODUCT(--(I26:I30<>""))=0,"",ROUND((0.8*I35+0.2*I36),2)) | J37: =IF(SUMPRODUCT(--(J26:J30<>""))=0,"",ROUND((0.8*J35+0.2*J36),2)) | ... Q37: =IF(SUMPRODUCT(--(Q26:Q30<>""))=0,"",ROUND((0.8*Q35+0.2*Q36),2)) -> 1.08

Sheet Feedback
A1: Kanpur Institute of Technology, Kanpur | P1: VALUE
A2: Feedback
A3: ='DATA INPUT SHEET'!A3:E3 -> Semester: III | G3: ='DATA INPUT SHEET'!E3 -> Name of the Faculty: Dr. Prateek Gangwar
A4: ='DATA INPUT SHEET'!A4:E4 -> Subject Code: BME-303 | G4: ='DATA INPUT SHEET'!F4 -> Total No. of Students: 18 | K4: ='DATA INPUT SHEET'!K4 -> Subject Name:Materials Engineering
A5: ='DATA INPUT SHEET'!A9:C9 -> CO1 | D5: ='DATA INPUT SHEET'!D9:Q9 -> Student will be able to identify crystal structures for various materials and understand the defects in such structures | P5: To be filled by students
A6: ='DATA INPUT SHEET'!A10:C10 -> CO2 | D6: ='DATA INPUT SHEET'!D10:Q10 -> Understand how to tailor material properties of ferrous and non-ferrous alloys. | P6: To be filled by students
A7: ='DATA INPUT SHEET'!A11:C11 -> CO3 | D7: ='DATA INPUT SHEET'!D11:Q11 -> To understand method of Grinding & Superfinishing for betterment of the manufacturing product. | P7: To be filled by students
A8: ='DATA INPUT SHEET'!A12:C12 -> CO4 | D8: ='DATA INPUT SHEET'!D12:Q12 -> To learn various hardness test. | P8: To be filled by students
A9: ='DATA INPUT SHEET'!A13:C13 -> CO5 | D9: ='DATA INPUT SHEET'!D13:Q13 -> Basic knowledge of NDT. | P9: To be filled by students
A11: Indirect Survay Table
A12: Options | C12: Description | J12: Value
A13: Option 1 | C13: Acquired Very Well with proficiency | J13: 3
A14: Option 2 | C14: Acquired enough to do my work | J14: 2
A15: Option 3 | C15: Acquired Marginally | J15: 1
A16: Option 4 | C16: Did not acquire at all | J16: 0
L21: Name & Signature of the Student
A24: Kanpur Institute of Technology, Kanpur | P24: VALUE
A25: Feedback
A26: ='DATA INPUT SHEET'!A3:E3 -> Semester: III | G26: ='DATA INPUT SHEET'!E3 -> Name of the Faculty: Dr. Prateek Gangwar
A27: ='DATA INPUT SHEET'!A4:E4 -> Subject Code: BME-303 | G27: ='DATA INPUT SHEET'!F4 -> Total No. of Students: 18 | K27: ='DATA INPUT SHEET'!K4 -> Subject Name:Materials Engineering
A28: ='DATA INPUT SHEET'!A9:C9 -> CO1 | D28: ='DATA INPUT SHEET'!D9:Q9 -> Student will be able to identify crystal structures for various materials and understand the defects in such structures | P28: To be filled by students
A29: ='DATA INPUT SHEET'!A10:C10 -> CO2 | D29: ='DATA INPUT SHEET'!D10:Q10 -> Understand how to tailor material properties of ferrous and non-ferrous alloys. | P29: To be filled by students
A30: ='DATA INPUT SHEET'!A11:C11 -> CO3 | D30: ='DATA INPUT SHEET'!D11:Q11 -> To understand method of Grinding & Superfinishing for betterment of the manufacturing product. | P30: To be filled by students
A31: ='DATA INPUT SHEET'!A12:C12 -> CO4 | D31: ='DATA INPUT SHEET'!D12:Q12 -> To learn various hardness test. | P31: To be filled by students
A32: ='DATA INPUT SHEET'!A13:C13 -> CO5 | D32: ='DATA INPUT SHEET'!D13:Q13 -> Basic knowledge of NDT. | P32: To be filled by students
A34: Indirect Survay Table
A35: Options | C35: Description | J35: Value
A36: Option 1 | C36: Acquired Very Well with proficiency | J36: 3
A37: Option 2 | C37: Acquired enough to do my work | J37: 2
A38: Option 3 | C38: Acquired Marginally | J38: 1
A39: Option 4 | C39: Did not acquire at all | J39: 0
L44: Name & Signature of the Student
